BEGIN:VCALENDAR
VERSION:2.0
PRODID:-//The Golden Space Malaysia - ECPv6.5.1.4//NONSGML v1.0//EN
CALSCALE:GREGORIAN
METHOD:PUBLISH
X-ORIGINAL-URL:https://thegoldenspace.com.my
X-WR-CALDESC:Events for The Golden Space Malaysia
REFRESH-INTERVAL;VALUE=DURATION:PT1H
X-Robots-Tag:noindex
X-PUBLISHED-TTL:PT1H
BEGIN:VTIMEZONE
TZID:Asia/Kuala_Lumpur
BEGIN:STANDARD
TZOFFSETFROM:+0800
TZOFFSETTO:+0800
TZNAME:+08
DTSTART:20230101T000000
END:STANDARD
END:VTIMEZONE
BEGIN:VEVENT
DTSTART;TZID=Asia/Kuala_Lumpur:20230818T200000
DTEND;TZID=Asia/Kuala_Lumpur:20230818T213000
DTSTAMP:20260425T193724
CREATED:20230727T162709Z
LAST-MODIFIED:20240323T103408Z
UID:12636-1692388800-1692394200@thegoldenspace.com.my
SUMMARY:Space Cleansing
DESCRIPTION:Time: 8pm – 9.30pm \nImagine living in a space that is peaceful\, harmony and loving. Imagine yourself working in a space that is peaceful yet productive & focus. Instead of imagining\, why not create the space you desire now? \nJoin us to: Learn easy ways to cleanse your space at work or home. Create a harmonious space for your family any time! \nPractitioner: Low Sheau Shy\n			\n				Make a Reservation Now!
URL:https://thegoldenspace.com.my/event/space-cleansing/
ATTACH;FMTTYPE=image/jpeg:https://thegoldenspace.com.my/wp-content/uploads/2020/06/Space-Cleansing.jpg
END:VEVENT
END:VCALENDAR