BEGIN:VCALENDAR
VERSION:2.0
PRODID:-//The Golden Space Malaysia - ECPv6.5.1.4//NONSGML v1.0//EN
CALSCALE:GREGORIAN
METHOD:PUBLISH
X-WR-CALNAME:The Golden Space Malaysia
X-ORIGINAL-URL:https://thegoldenspace.com.my
X-WR-CALDESC:Events for The Golden Space Malaysia
REFRESH-INTERVAL;VALUE=DURATION:PT1H
X-Robots-Tag:noindex
X-PUBLISHED-TTL:PT1H
BEGIN:VTIMEZONE
TZID:Asia/Kuala_Lumpur
BEGIN:STANDARD
TZOFFSETFROM:+0800
TZOFFSETTO:+0800
TZNAME:+08
DTSTART:20230101T000000
END:STANDARD
END:VTIMEZONE
BEGIN:VEVENT
DTSTART;TZID=Asia/Kuala_Lumpur:20230819T150000
DTEND;TZID=Asia/Kuala_Lumpur:20230819T173000
DTSTAMP:20260424T004250
CREATED:20230724T191612Z
LAST-MODIFIED:20230724T192822Z
UID:12555-1692457200-1692466200@thegoldenspace.com.my
SUMMARY:Magical Crafters Series ~ Nurture & Rebalance with Pearl Mala Bracelets
DESCRIPTION:Time: 3pm – 5.30pm \nImmerse yourself in the magic of creation as you allow the process to unlock a deeper sense of self-awareness and mindfulness\, infusing your creation with intention\, love and positivity. Specially For this session\, allow yourself to reconnect with the nurturing wisdom of pearls and feel it gently guide you back to balance as you create your pearl mala bracelet \nOutcome/Benefits:\n– Nurture your inner harmony and balance\n– Reconnect with the gentle wisdom & innate beauty of our inner selves\n– Create a personalized reminder of our own inner beauty & wisdom \nFee (inclusive of pearls & findings): RM298* (1st 5 sign ups will receive a wire wrapped crystal pendant worth RM68) \n*Ex sst \nPractitioner: Moisy Moi\n			\n				Make a Reservation Now!
URL:https://thegoldenspace.com.my/event/magical-crafters-series-nurture-rebalance-with-pearl-mala-bracelets/
ATTACH;FMTTYPE=image/jpeg:https://thegoldenspace.com.my/wp-content/uploads/2023/07/Magical-Crafters-Series-Nurture-Rebalance-with-Pearl-Mala-Bracelets.jpeg
END:VEVENT
END:VCALENDAR