BEGIN:VCALENDAR
VERSION:2.0
PRODID:-//The Golden Space Malaysia - ECPv6.5.1.4//NONSGML v1.0//EN
CALSCALE:GREGORIAN
METHOD:PUBLISH
X-WR-CALNAME:The Golden Space Malaysia
X-ORIGINAL-URL:https://thegoldenspace.com.my
X-WR-CALDESC:Events for The Golden Space Malaysia
REFRESH-INTERVAL;VALUE=DURATION:PT1H
X-Robots-Tag:noindex
X-PUBLISHED-TTL:PT1H
BEGIN:VTIMEZONE
TZID:Asia/Kuala_Lumpur
BEGIN:STANDARD
TZOFFSETFROM:+0800
TZOFFSETTO:+0800
TZNAME:+08
DTSTART:20230101T000000
END:STANDARD
END:VTIMEZONE
BEGIN:VEVENT
DTSTART;TZID=Asia/Kuala_Lumpur:20230914T200000
DTEND;TZID=Asia/Kuala_Lumpur:20230914T220000
DTSTAMP:20260424T005845
CREATED:20230421T163243Z
LAST-MODIFIED:20231022T123813Z
UID:11833-1694721600-1694728800@thegoldenspace.com.my
SUMMARY:Tea Ceremony to Stillness
DESCRIPTION:Time: 8pm – 10pm \nTea Meditation – A beautiful zen practice (Cha Dao) where everyone gather for tea in silence and reverence. One will be guided to connect and explore the wisdom of the sacred tea leaves in a meditation. Through this humble communion\, one access stillness\, healing and realizations\, an awakening to one’s true nature. \nBenefits:\n– Deep relaxation in energetic and cellular levels\n– Promotes calm and clear mind after the session\n– Ease nervous system\n– Very friendly for beginner meditators and also allow advance meditators to dive deeper in their practice\n– Promotes healing in physical and emotional level \nSingle class: RM180*\nPackage of 3: RM450* \nRegister by 21 Nov 2023. \n*All price ex sst \nPractitioner: Savy Ho\n			\n			\n				\n				\n				\n				\n			\n				\n				\n				\n				\n				\n				\n				\n				\n				\n				\n				Make your reservation now!\n			\n				\n				\n				\n				\n				 PRICE (MYR) \n			\n				\n				\n				\n				\n				We have single class and package of 3 options as below: \n			\n			\n				\n				\n				\n				\n			\n				\n				\n				\n				\n				\n				\n				\n				\n				\n				\n				Single class: RM190.80\n			\n			\n				\n				\n				\n				\n				\n				REGISTER NOW\n			\n			\n				\n				\n				\n				\n			\n				\n				\n				\n				\n				\n				\n			\n				\n				\n				\n				\n			\n				\n				\n				\n				\n				\n				\n				\n				\n				\n				\n				Package of 3: RM477\n			\n			\n				\n				\n				\n				\n				\n				REGISTER NOW
URL:https://thegoldenspace.com.my/event/tea-journey-with-mooncake/
ATTACH;FMTTYPE=image/jpeg:https://thegoldenspace.com.my/wp-content/uploads/2023/04/Tea-Journey-nov2023.jpg
END:VEVENT
END:VCALENDAR