BEGIN:VCALENDAR
VERSION:2.0
PRODID:-//The Golden Space Malaysia - ECPv6.5.1.4//NONSGML v1.0//EN
CALSCALE:GREGORIAN
METHOD:PUBLISH
X-WR-CALNAME:The Golden Space Malaysia
X-ORIGINAL-URL:https://thegoldenspace.com.my
X-WR-CALDESC:Events for The Golden Space Malaysia
REFRESH-INTERVAL;VALUE=DURATION:PT1H
X-Robots-Tag:noindex
X-PUBLISHED-TTL:PT1H
BEGIN:VTIMEZONE
TZID:Asia/Kuala_Lumpur
BEGIN:STANDARD
TZOFFSETFROM:+0800
TZOFFSETTO:+0800
TZNAME:+08
DTSTART:20240101T000000
END:STANDARD
END:VTIMEZONE
BEGIN:VEVENT
DTSTART;TZID=Asia/Kuala_Lumpur:20240601T150000
DTEND;TZID=Asia/Kuala_Lumpur:20240601T163000
DTSTAMP:20260426T080058
CREATED:20220314T145758Z
LAST-MODIFIED:20240515T093344Z
UID:9065-1717254000-1717259400@thegoldenspace.com.my
SUMMARY:Hey Sexy Goddess (Onsite)
DESCRIPTION:Venue: OnsiteTime:  3pm – 4.30pm \nTheme: Redefine Your Personal Balance \nAs a women\, it is always a balancing act as we are constantly navigating multiple roles and responsibilities while trying to find inner harmony. We are often expected to be the ones handling it all and keeping this together. This can be a challenging and overwhelming process coupled with societal expectations and emotional pressure. \nKey Takeaway: \n\nLiberate yourself from guilt and societal pressures\nHonour yourself by cultivating self-compassion\nCelebrate your unique journey\n\nPrice: RM55 nettLimit to 15 pax \nHost: Beatrice LeeWomen Holistic Wellness Specialist \nSpeaker:  Tracy MayFounder\, The HeartBased Group; and Team & Ops Director\, GM Tan & Co. \n			\n				Make a Reservation Now!
URL:https://thegoldenspace.com.my/event/hey-sexy-goddess/
ATTACH;FMTTYPE=image/jpeg:https://thegoldenspace.com.my/wp-content/uploads/2022/03/Apr_Hey_Sexy_Goddess.jpg
END:VEVENT
END:VCALENDAR