BEGIN:VCALENDAR
VERSION:2.0
PRODID:-//The Golden Space Malaysia - ECPv6.5.1.4//NONSGML v1.0//EN
CALSCALE:GREGORIAN
METHOD:PUBLISH
X-WR-CALNAME:The Golden Space Malaysia
X-ORIGINAL-URL:https://thegoldenspace.com.my
X-WR-CALDESC:Events for The Golden Space Malaysia
REFRESH-INTERVAL;VALUE=DURATION:PT1H
X-Robots-Tag:noindex
X-PUBLISHED-TTL:PT1H
BEGIN:VTIMEZONE
TZID:Asia/Kuala_Lumpur
BEGIN:STANDARD
TZOFFSETFROM:+0800
TZOFFSETTO:+0800
TZNAME:+08
DTSTART:20240101T000000
END:STANDARD
END:VTIMEZONE
BEGIN:VEVENT
DTSTART;TZID=Asia/Kuala_Lumpur:20240602T110000
DTEND;TZID=Asia/Kuala_Lumpur:20240602T180000
DTSTAMP:20260425T220019
CREATED:20240515T110421Z
LAST-MODIFIED:20240516T114246Z
UID:15848-1717326000-1717351200@thegoldenspace.com.my
SUMMARY:Cosmic Light Immersion (Onsite)
DESCRIPTION:Venue: Onsite\nDate: 2 June\, 2024 (Sunday)\nTime: 11am – 6pm \nHarness the cosmic energy to restore balance and well-being in your life. It is responsible for maintaining order and equilibrium throughout the entire cosmos. This energy raises and expands the vibration level of your being\, clearing negative thoughts and feelings attached to what is referred to as the life force. \nCosmic Light Healing draws upon this universal energy\, governing order and harmony throughout existence\, to bring balance and harmony to your life. \nKey Takeaway: \n\nWeave Cosmic & Lemuria energy to rebalance your inner being\nRaise your vibration and revitalize your life force\nClear & strengthen your energy pathways\n\nEarly Bird Price: RM466 + SST 8%\nby 26 May\, 2024 (inclusive 1pc Crystal tumble) \nNormal Price: RM699 + SST 8% \nPractitioner: Beatrice Lee\n			\n				Make a Reservation Now!
URL:https://thegoldenspace.com.my/event/cosmic-light-immersion/
ATTACH;FMTTYPE=image/jpeg:https://thegoldenspace.com.my/wp-content/uploads/2024/05/cosmic-light-immersion.jpg
END:VEVENT
END:VCALENDAR