BEGIN:VCALENDAR
VERSION:2.0
PRODID:-//The Golden Space Malaysia - ECPv6.5.1.4//NONSGML v1.0//EN
CALSCALE:GREGORIAN
METHOD:PUBLISH
X-WR-CALNAME:The Golden Space Malaysia
X-ORIGINAL-URL:https://thegoldenspace.com.my
X-WR-CALDESC:Events for The Golden Space Malaysia
REFRESH-INTERVAL;VALUE=DURATION:PT1H
X-Robots-Tag:noindex
X-PUBLISHED-TTL:PT1H
BEGIN:VTIMEZONE
TZID:Asia/Kuala_Lumpur
BEGIN:STANDARD
TZOFFSETFROM:+0800
TZOFFSETTO:+0800
TZNAME:+08
DTSTART:20240101T000000
END:STANDARD
END:VTIMEZONE
BEGIN:VEVENT
DTSTART;TZID=Asia/Kuala_Lumpur:20240615T110000
DTEND;TZID=Asia/Kuala_Lumpur:20240615T120000
DTSTAMP:20260425T220106
CREATED:20240516T112948Z
LAST-MODIFIED:20240516T114236Z
UID:15901-1718449200-1718452800@thegoldenspace.com.my
SUMMARY:Enjoy Your Loneliness (Onsite)
DESCRIPTION:Venue: Onsite\nTime: 11am – 12pm \nIn a world filled with noise\, find tranquillity within. Embrace your solo moments with a smile. Let’s explore the hidden gifts of solitude\, where creativity blossoms\, self-compassion blooms\, and peace whispers amidst the quiet. Your loneliness holds boundless possibilities. \nYour Takeback: \n\nGain practical tools for stress relief\nEnhance self-awareness and emotional intelligence\nIntegrate mindfulness for inner peace and resilience\n\nPractitioner: Sucy Chan\n			\n				Make a Reservation Now!
URL:https://thegoldenspace.com.my/event/enjoy-your-loneliness/
LOCATION:Online
ATTACH;FMTTYPE=image/jpeg:https://thegoldenspace.com.my/wp-content/uploads/2024/05/enjoy-your-loneliness.jpg
END:VEVENT
END:VCALENDAR