BEGIN:VCALENDAR
VERSION:2.0
PRODID:-//The Golden Space Malaysia - ECPv6.5.1.4//NONSGML v1.0//EN
CALSCALE:GREGORIAN
METHOD:PUBLISH
X-ORIGINAL-URL:https://thegoldenspace.com.my
X-WR-CALDESC:Events for The Golden Space Malaysia
REFRESH-INTERVAL;VALUE=DURATION:PT1H
X-Robots-Tag:noindex
X-PUBLISHED-TTL:PT1H
BEGIN:VTIMEZONE
TZID:Asia/Kuala_Lumpur
BEGIN:STANDARD
TZOFFSETFROM:+0800
TZOFFSETTO:+0800
TZNAME:+08
DTSTART:20250101T000000
END:STANDARD
END:VTIMEZONE
BEGIN:VEVENT
DTSTART;TZID=Asia/Kuala_Lumpur:20250819T200000
DTEND;TZID=Asia/Kuala_Lumpur:20250819T210000
DTSTAMP:20260422T124803
CREATED:20250320T143857Z
LAST-MODIFIED:20250919T155856Z
UID:17935-1755633600-1755637200@thegoldenspace.com.my
SUMMARY:The Power of Acceptance (Onsite)
DESCRIPTION:Home  /  Workshop  /  The Shamanic Passage – Package of 3 Classes\n				\n			\n			\n				\n				\n				\n				\n			\n				\n				\n				\n				\n				\n				\n				\n				\n				\n				\n				\n				\n				\n					\n	Sale!\n	\n	\n			\n\n\n				\n			\n			\n				\n				\n				\n				\n				\n				\n				\n				\n				\n				\n				\n				\n					\n		The Shamanic Passage – Package of 3 Classes\n				\n			\n				\n				\n				\n				\n				\n				\n				\n					RM540.00 Original price was: RM540.00.RM450.00Current price is: RM450.00. + SST 8% \n\n				\n			\n				\n				\n				\n				\n				\n				\n				\n					\n	\n	\n		\n		\n		The Shamanic Passage – Package of 3 Classes quantity\n	\n	\n\n		Add to cart\n\n			\n\n	\n\n				\n			\n				\n				\n				\n				\n				\n				\n				\n					\n\n	\n	\n	Category: Workshop\n	\n	\n\n\n				\n			\n				\n				\n				\n				\n				 \n			\n			\n				\n				\n				\n				\n			\n				\n				\n				\n				\n				\n				\n			\n				\n				\n				\n				\n				\n				\n				\n				\n				\n				DESCRIPTION\n			\n				\n				\n				\n				\n				Venue: Onsite\nDate\, Time (Practitioner): 20 Sept 2025\, 11am – 12pm (Saida Nadziah) | 14 Oct 2025\, 8pm – 9pm (Sucy Chan) \nTrue peace comes from accepting yourself—flaws\, imperfections\, and all. This session teaches you how to embrace your strengths and limitations with grace. \nBenefits: \n\nAccept yourself fully\, without judgment\nReduce stress and anxiety caused by self-pressure\nEmbrace life with confidence and ease\n\nPractitioner: Sucy Chan | Saida Nadziah
URL:https://thegoldenspace.com.my/product/the-power-of-acceptance/
LOCATION:Onsite
ATTACH;FMTTYPE=image/jpeg:https://thegoldenspace.com.my/wp-content/uploads/2025/03/the-power-of-acceptance.jpg
END:VEVENT
END:VCALENDAR