BEGIN:VCALENDAR
VERSION:2.0
PRODID:-//The Golden Space Malaysia - ECPv6.5.1.4//NONSGML v1.0//EN
CALSCALE:GREGORIAN
METHOD:PUBLISH
X-ORIGINAL-URL:https://thegoldenspace.com.my
X-WR-CALDESC:Events for The Golden Space Malaysia
REFRESH-INTERVAL;VALUE=DURATION:PT1H
X-Robots-Tag:noindex
X-PUBLISHED-TTL:PT1H
BEGIN:VTIMEZONE
TZID:Asia/Kuala_Lumpur
BEGIN:STANDARD
TZOFFSETFROM:+0800
TZOFFSETTO:+0800
TZNAME:+08
DTSTART:20250101T000000
END:STANDARD
END:VTIMEZONE
BEGIN:VEVENT
DTSTART;TZID=Asia/Kuala_Lumpur:20250824T100000
DTEND;TZID=Asia/Kuala_Lumpur:20250824T120000
DTSTAMP:20260422T092654
CREATED:20250805T170022Z
LAST-MODIFIED:20250805T170108Z
UID:19207-1756029600-1756036800@thegoldenspace.com.my
SUMMARY:Whispers in the Cup (Mini Coffee Reading Workshop)
DESCRIPTION:Sale!\n	\n	\n			\n\n\n				\n			\n			\n				\n				\n				\n				\n				\n				\n				\n				\n				\n				\n				\n				\n					\n		The Shamanic Passage – Package of 3 Classes\n				\n			\n				\n				\n				\n				\n				\n				\n				\n					RM540.00 Original price was: RM540.00.RM450.00Current price is: RM450.00. + SST 8% \n\n				\n			\n				\n				\n				\n				\n				Specially only during Women’s Festival1. Whispers in The Cup (Mini Coffee Reading workshop)2. Oracle Card Reading \n			\n				\n				\n				\n				\n				\n				\n				\n					\n	\n	\n		\n		\n		The Shamanic Passage – Package of 3 Classes quantity\n	\n	\n\n		Add to cart\n\n			\n\n	\n\n				\n			\n				\n				\n				\n				\n				 \n			\n				\n				\n				\n				\n				DESCRIPTION\n			\n				\n				\n				\n				\n				Specially only during Women’s Festival 2025: Soulful Sisters \nWHISPERS IN THE CUPHere’s what you’ll takeaway from this special mini workshop:1. Gain clarity and insight into current life questions through symbolic messages in the cup.2. Enhance your inner guidance in a fun\, mystical way as you reconnect with your intuition3. Receive messages from spirit through moments of soultful reflection with every sip of your coffee \nTicket Info:✨ Whispers in the Cup (Mini Coffee Reading workshop)Date: 24 August 2025Time: 10am – 12pmPrice: RM38 nettInclude Coffee & Croissant \n \nORACLE CARD READING✨ Seeking clarity in Love\, Life\, or Career? Let the cards guide you. 🌟 \nBook a 30-minute Oracle Card Reading and receive soul-aligned insights for your next steps. \n💖 Normal price RM250 + SST per hour🌸 Special Women’s Festival Offer: Only RM33 nett for 30 mins \n📅 Exclusively on 23 & 24 August🗓 Limited to 6 sessions per day🕰 Available slots: 11:40am | 12:10pm | 12:40pm🔮 Please indicate preferred time slot in Order Notes upon checkout \nFor enquiries – kindly contact us directly at 014-360 7218
URL:https://thegoldenspace.com.my/product/womens-festival-2025-soulful-sisters/
ATTACH;FMTTYPE=image/jpeg:https://thegoldenspace.com.my/wp-content/uploads/2025/08/wfest25-whispers-in-the-cup.jpg
END:VEVENT
BEGIN:VEVENT
DTSTART;TZID=Asia/Kuala_Lumpur:20250824T100000
DTEND;TZID=Asia/Kuala_Lumpur:20250824T160000
DTSTAMP:20260422T092654
CREATED:20250507T162241Z
LAST-MODIFIED:20250624T164057Z
UID:18487-1756029600-1756051200@thegoldenspace.com.my
SUMMARY:Women’s Festival 2025: Soulful Sisters (Onsite)
DESCRIPTION:🌸 Women’s Festival 2025: Soulful Sisters🌸\nTogether We Celebrate Life\n			\n				\n				\n				\n				\n				23 & 24 August 2025FREE Admision\n			\n				\n				\n				\n				\n				Is your soul whispering… “There must be more to life than this?”\nYou give endlessly — to your family\, your career\, your world — yet deep inside\, there’s a quiet longing to:\n✨ Reconnect with yourself\n✨ Be seen\, heard\, and understood\n✨ Remember the vibrant\, wise\, powerful woman you really are \nStep away from the noise and into a heart-opening weekend designed for women ready to reconnect\, recharge\, and rise.\n			\n			\n				\n				\n				\n				\n			\n				\n				\n				\n				\n				\n				\n			\n				\n				\n				\n				\n			\n				\n				\n				\n				\n				\n				\n				\n				\n				\n				\n				✨ What Awaits You ✨\n			\n			\n				\n				\n				\n				\n			\n				\n				\n				\n				\n				\n				\n				\n				\n				\n				\n				\n			\n				\n				\n				\n				\n				💗 Soulful Connections That Heal\nStep into a safe\, loving sisterhood that sees you and celebrates every part of you. \n			\n			\n				\n				\n				\n				\n				\n				\n				\n				\n				\n				\n			\n				\n				\n				\n				\n				🔥 Reignite Your Inner Light\nRediscover your joy\, wisdom\, and worthiness through inspiring talks and interactive experiences. \n			\n			\n				\n				\n				\n				\n				\n				\n				\n				\n				\n				\n			\n				\n				\n				\n				\n				🌱 Leave With Hope\, Courage & a New Path\nWalk away with clarity\, inspiration\, and a plan to live more fully — because this is only the beginning. \n			\n			\n				\n				\n				\n				\n			\n				\n				\n				\n				\n				\n				\n				👉 Join Us Now\n			\n			\n				\n				\n				\n				\n			\n				\n				\n				\n				\n				\n				\n			\n				\n				\n				\n				\n			\n				\n				\n				\n				\n				\n				\n				\n				\n				\n				\n				💌 A Letter from Moisy\nWhy Soulful Sisters \nDear Soulful Sister\, \nThis journey began with a quiet ache — that feeling of “There must be more to life than this.” \nI was doing everything I could for others\, yet inside\, I felt lost\, stuck in the same cycles no matter how hard I tried to change. \nI realized I was carrying self sabotaging beliefs — that I wasn’t good enough\, that I wasn’t meant for more. Deep down\, though\, I was still holding onto hope… hope to feel whole\, to understand the emptiness I carried. \nAnd the answer wasn’t out there. It came when I turned inward — when I began accepting and loving every part of me\, even the ones I used to reject. \nThat was the turning point: discovering the unconditional love & acceptance that I can give to myself. \nBut I didn’t walk this path alone. I found a circle of women who got it — who saw me\, held me\, reminded me of my strength. In their stories\, I saw my own. In their light\, I found mine. \nThat’s what Soulful Sisters is.A space to remember who you are\, reconnect with your truth\, and rise — together. \nWith love\,Moisy \n			\n			\n				\n				\n				\n				\n			\n				\n				\n				\n				\n				\n				\n				🕰️ Reserve Your Spot Now\n			\n			\n				\n				\n				\n				\n			\n				\n				\n				\n				\n				\n				\n			\n				\n				\n				\n				\n			\n				\n				\n				\n				\n				\n				\n				\n				\n				\n				\n				What Will Be Happening In The 2 Days\n			\n			\n				\n				\n				\n				\n			\n				\n				\n				\n				\n				\n				\n				\n				\n				\n				\n				\n			\n			\n				\n				\n				\n				\n				\n				\n				\n				\n				\n				\n			\n			\n				\n				\n				\n				\n			\n				\n				\n				\n				\n				\n				\n				\n					\n				\n				\n				\n					\n						\n						\n							\n							\n						\n					\n				\n				\n				\n				\n			\n			\n				\n				\n				\n					\n						\n						\n							\n							\n						\n					\n				\n				\n				\n				\n			\n			\n				\n				\n			\n			\n			\n				\n				\n				\n				\n			\n				\n				\n				\n				\n				\n				\n				👉 Book Your Seat Now\n			\n			\n				\n				\n				\n				\n			\n				\n				\n				\n				\n				\n				\n			\n				\n				\n				\n				\n			\n				\n				\n				\n				\n				\n				\n				\n				\n				\n				\n				💬 What Other Women Are Saying 💬\nReal Stories. Honest Reflections.\n			\n				\n				\n				\n				\n				\n			\n			\n				\n				\n				\n				\n			\n				\n				\n				\n				\n				\n				\n				\n				\n				\n				\n				Amazing experience!!! The space is calm and safe. I attended the women’s festival and I felt a connection with myself again. \n– Jay Mie \n			\n			\n				\n				\n				\n				\n				\n				\n				\n				\n				\n				Such a beautiful\, profound and fun session. An interesting lineup of activities and talks that make us women feel pampered\, loved and happy. Thank you to the lovely team of Golden Space for making this happen 😍 \n– Happy Libra \n			\n			\n				\n				\n				\n				\n				\n				\n				\n				\n				\n				It was a wonderful festival for women who really need to celebrate their values and power. \n– Coffee Devi \n			\n			\n				\n				\n				\n				\n			\n				\n				\n				\n				\n				\n				\n				\n				\n				\n				\n				The sessions were very useful and beneficial for personal growth and understanding of our emotions. \n– Geeta Dhanoa \n			\n			\n				\n				\n				\n				\n				\n				\n				\n				\n				\n				A very inspiring journey! \n– Tee Jia Yi \n			\n			\n				\n				\n				\n				\n				\n				\n				\n				\n				\n				Everyone has different body\, mental condition\, stress level\, etc····· I want all women to find out their own power in this program. \n– Maria Michaela Nishizawza \n			\n			\n				\n				\n				\n				\n			\n				\n				\n				\n				\n				\n				\n				\n				\n				\n				\n				If you are looking to improve yourself and surround yourself with positive and like-minded people\, this is the right place. \n– May Yin \n			\n			\n				\n				\n				\n				\n				\n				\n				\n				\n				\n				I was here for a women’s festival event and had a great experience. It’s a great space for healing\, learning and being supported. \n– Maggie Tan \n			\n			\n				\n				\n				\n				\n				\n				\n				\n				\n				\n				After listening to the speakers’ intimate journeys and their lessons learnt\, I too opened my heart and opened my mind to learn to understand\, to acknowledge\, to appreciate\, and to fall in love with my current body. I felt a very strong feeling of hope\, gratitude\, and love for my own body 🖤 \n– Sharina Mazlan \n			\n			\n				\n				\n				\n				\n			\n				\n				\n				\n				\n				\n				\n			\n				\n				\n				\n				\n			\n				\n				\n				\n				\n				\n				\n				\n				\n				\n				\n				\n			\n				\n				\n				\n				\n				\n			\n			\n				\n				\n				\n				\n				\n				\n				\n				\n				\n				🗓 Event Details\n📍 Location: The Golden Space Malaysia📅 Date: 23 & 24 August 2025⏰ Time: 10am – 4pm \n💖 Open to all women ready to say YES to themselves. \n			\n			\n				\n				\n				\n				\n			\n				\n				\n				\n				\n				\n				\n				\n				\n				\n				\n				Join a soulful community of women for two days of healing conversations\, inspiring stories\, and joyful self-discovery. \n			\n			\n				\n				\n				\n				\n			\n				\n				\n				\n				\n				\n				\n				👉 Book Your Spot Now
URL:https://thegoldenspace.com.my/event/womens-festival-2025-soulful-sisters-2/
ATTACH;FMTTYPE=image/jpeg:https://thegoldenspace.com.my/wp-content/uploads/2025/05/women-fest-banner-25.jpg
END:VEVENT
BEGIN:VEVENT
DTSTART;TZID=Asia/Kuala_Lumpur:20250824T114000
DTEND;TZID=Asia/Kuala_Lumpur:20250824T114000
DTSTAMP:20260422T092655
CREATED:20250805T165837Z
LAST-MODIFIED:20250805T165902Z
UID:19202-1756035600-1756035600@thegoldenspace.com.my
SUMMARY:Oracle Card Reading (Women's Festival Special)
DESCRIPTION:Sale!\n	\n	\n			\n\n\n				\n			\n			\n				\n				\n				\n				\n				\n				\n				\n				\n				\n				\n				\n				\n					\n		The Shamanic Passage – Package of 3 Classes\n				\n			\n				\n				\n				\n				\n				\n				\n				\n					RM540.00 Original price was: RM540.00.RM450.00Current price is: RM450.00. + SST 8% \n\n				\n			\n				\n				\n				\n				\n				Specially only during Women’s Festival1. Whispers in The Cup (Mini Coffee Reading workshop)2. Oracle Card Reading \n			\n				\n				\n				\n				\n				\n				\n				\n					\n	\n	\n		\n		\n		The Shamanic Passage – Package of 3 Classes quantity\n	\n	\n\n		Add to cart\n\n			\n\n	\n\n				\n			\n				\n				\n				\n				\n				 \n			\n				\n				\n				\n				\n				DESCRIPTION\n			\n				\n				\n				\n				\n				Specially only during Women’s Festival 2025: Soulful Sisters \nWHISPERS IN THE CUPHere’s what you’ll takeaway from this special mini workshop:1. Gain clarity and insight into current life questions through symbolic messages in the cup.2. Enhance your inner guidance in a fun\, mystical way as you reconnect with your intuition3. Receive messages from spirit through moments of soultful reflection with every sip of your coffee \nTicket Info:✨ Whispers in the Cup (Mini Coffee Reading workshop)Date: 24 August 2025Time: 10am – 12pmPrice: RM38 nettInclude Coffee & Croissant \n \nORACLE CARD READING✨ Seeking clarity in Love\, Life\, or Career? Let the cards guide you. 🌟 \nBook a 30-minute Oracle Card Reading and receive soul-aligned insights for your next steps. \n💖 Normal price RM250 + SST per hour🌸 Special Women’s Festival Offer: Only RM33 nett for 30 mins \n📅 Exclusively on 23 & 24 August🗓 Limited to 6 sessions per day🕰 Available slots: 11:40am | 12:10pm | 12:40pm🔮 Please indicate preferred time slot in Order Notes upon checkout \nFor enquiries – kindly contact us directly at 014-360 7218
URL:https://thegoldenspace.com.my/product/womens-festival-2025-soulful-sisters/
ATTACH;FMTTYPE=image/jpeg:https://thegoldenspace.com.my/wp-content/uploads/2025/08/wfest25-oracle-card-reading.jpg
END:VEVENT
END:VCALENDAR