BEGIN:VCALENDAR
VERSION:2.0
PRODID:-//The Golden Space Malaysia - ECPv6.5.1.4//NONSGML v1.0//EN
CALSCALE:GREGORIAN
METHOD:PUBLISH
X-WR-CALNAME:The Golden Space Malaysia
X-ORIGINAL-URL:https://thegoldenspace.com.my
X-WR-CALDESC:Events for The Golden Space Malaysia
REFRESH-INTERVAL;VALUE=DURATION:PT1H
X-Robots-Tag:noindex
X-PUBLISHED-TTL:PT1H
BEGIN:VTIMEZONE
TZID:Asia/Kuala_Lumpur
BEGIN:STANDARD
TZOFFSETFROM:+0800
TZOFFSETTO:+0800
TZNAME:+08
DTSTART:20250101T000000
END:STANDARD
END:VTIMEZONE
BEGIN:VEVENT
DTSTART;TZID=Asia/Kuala_Lumpur:20251011T090000
DTEND;TZID=Asia/Kuala_Lumpur:20251011T180000
DTSTAMP:20260422T065836
CREATED:20250930T033157Z
LAST-MODIFIED:20250930T033219Z
UID:19573-1760173200-1760205600@thegoldenspace.com.my
SUMMARY:Goddess Wisdom Retreat L1
DESCRIPTION:Home  /  Workshop  /  The Shamanic Passage – Package of 3 Classes\n				\n			\n			\n				\n				\n				\n				\n			\n				\n				\n				\n				\n				\n				\n				\n				\n				\n				\n				\n				\n				\n					\n	Sale!\n	\n	\n			\n\n\n				\n			\n			\n				\n				\n				\n				\n				\n				\n				\n				\n				\n				\n				\n				\n					\n		The Shamanic Passage – Package of 3 Classes\n				\n			\n				\n				\n				\n				\n				\n				\n				\n					RM540.00 Original price was: RM540.00.RM450.00Current price is: RM450.00. + SST 8% \n\n				\n			\n				\n				\n				\n				\n				\n				\n				\n					\n	\n	\n		\n		\n		The Shamanic Passage – Package of 3 Classes quantity\n	\n	\n\n		Add to cart\n\n			\n\n	\n\n				\n			\n				\n				\n				\n				\n				\n				\n				\n					\n\n	\n	\n	Category: Workshop\n	\n	\n\n\n				\n			\n				\n				\n				\n				\n				 \n			\n				\n				\n				\n				\n				DESCRIPTION\n			\n				\n				\n				\n				\n				This program has been specially crafted to bring focus to the sacred Feminine divinity within you. The energetic flow of the Universe is being reset\, encouraging you to reclaim your true Divine essence. Step into the power of your heart\, embrace the beauty of this new Earth rising before you. Emerge as a magnificent powerful Divine phoenix\, your physical form and your true Divine Self\, interwoven with love. \nBenefits:\n– Embody your divine feminine power through the alchemy of the womb\n– Enhance your intuitive clarity and soul guidance\n– Gently release past life and ancestral karmic patterns\n– Activate crystalline DNA codes by ancient Lemurian rememberance \nLimited to 14 paxs only! \nDate: 10 – 12 Oct 2025\nTime: 3 Days\nMember Price: None\nPromo Package: RM3\,588* (Early Bird by 31 Aug 2025)\nNormal Price: RM4\,588* (not incl SST 6%) \nVenue: Villa Nadiah\nLocation:  20348\, Kampung Cheringin\, Janda Baik\, Bentong \, Pahang 28750 \, Malaysia \nPractitioner: Beatrice Lee \n*Not included SST 8%
URL:https://thegoldenspace.com.my/product/goddess-wisdom-retreat-l1/
ATTACH;FMTTYPE=image/jpeg:https://thegoldenspace.com.my/wp-content/uploads/2022/07/goddess-wisdom-l1-2025-sold-out.jpg
END:VEVENT
BEGIN:VEVENT
DTSTART;TZID=Asia/Kuala_Lumpur:20251011T110000
DTEND;TZID=Asia/Kuala_Lumpur:20251011T120000
DTSTAMP:20260422T065836
CREATED:20250729T151023Z
LAST-MODIFIED:20251228T092334Z
UID:19262-1760180400-1760184000@thegoldenspace.com.my
SUMMARY:Listening to Your Body Wisdom (Onsite)
DESCRIPTION:Home  /  Workshop  /  The Shamanic Passage – Package of 3 Classes\n				\n			\n			\n				\n				\n				\n				\n			\n				\n				\n				\n				\n				\n				\n				\n				\n				\n				\n				\n				\n				\n					\n	Sale!\n	\n	\n			\n\n\n				\n			\n			\n				\n				\n				\n				\n				\n				\n				\n				\n				\n				\n				\n				\n					\n		The Shamanic Passage – Package of 3 Classes\n				\n			\n				\n				\n				\n				\n				\n				\n				\n					RM540.00 Original price was: RM540.00.RM450.00Current price is: RM450.00. + SST 8% \n\n				\n			\n				\n				\n				\n				\n				\n				\n				\n					\n	\n	\n		\n		\n		The Shamanic Passage – Package of 3 Classes quantity\n	\n	\n\n		Add to cart\n\n			\n\n	\n\n				\n			\n				\n				\n				\n				\n				\n				\n				\n					\n\n	\n	\n	Category: Workshop\n	\n	\n\n\n				\n			\n				\n				\n				\n				\n				 \n			\n			\n				\n				\n				\n				\n			\n				\n				\n				\n				\n				\n				\n			\n				\n				\n				\n				\n				\n				\n				\n				\n				\n				DESCRIPTION\n			\n				\n				\n				\n				\n				Venue: Onsite\nTime: 11am – 12pm \nYour body holds deep wisdom that often goes unnoticed. In this session\, learn to slow down\, listen\, and understand the signals your body sends. By reconnecting\, you’ll rediscover balance and honor your body as a trusted partner in living a healthier\, more harmonious life. \nBenefits: \n\nDevelop deeper self-awareness and trust in your body\nImprove vitality and energy balance\nCultivate appreciation for your physical being\n\nPractitioner: Teoh Yeong Keait
URL:https://thegoldenspace.com.my/product/listening-to-your-body-wisdom/
LOCATION:Onsite
ATTACH;FMTTYPE=image/jpeg:https://thegoldenspace.com.my/wp-content/uploads/2025/07/listening-to-body-wisdom.jpg
END:VEVENT
END:VCALENDAR