BEGIN:VCALENDAR
VERSION:2.0
PRODID:-//The Golden Space Malaysia - ECPv6.5.1.4//NONSGML v1.0//EN
CALSCALE:GREGORIAN
METHOD:PUBLISH
X-WR-CALNAME:The Golden Space Malaysia
X-ORIGINAL-URL:https://thegoldenspace.com.my
X-WR-CALDESC:Events for The Golden Space Malaysia
REFRESH-INTERVAL;VALUE=DURATION:PT1H
X-Robots-Tag:noindex
X-PUBLISHED-TTL:PT1H
BEGIN:VTIMEZONE
TZID:Asia/Kuala_Lumpur
BEGIN:STANDARD
TZOFFSETFROM:+0800
TZOFFSETTO:+0800
TZNAME:+08
DTSTART:20250101T000000
END:STANDARD
END:VTIMEZONE
BEGIN:VEVENT
DTSTART;TZID=Asia/Kuala_Lumpur:20251129T143000
DTEND;TZID=Asia/Kuala_Lumpur:20251129T163000
DTSTAMP:20260424T064225
CREATED:20240222T094929Z
LAST-MODIFIED:20260108T180553Z
UID:14561-1764426600-1764433800@thegoldenspace.com.my
SUMMARY:Coffee with Master Umesh Nandwani (Onsite)
DESCRIPTION:Home  /  Workshop  /  The Shamanic Passage – Package of 3 Classes\n				\n			\n			\n				\n				\n				\n				\n			\n				\n				\n				\n				\n				\n				\n				\n				\n				\n				\n				\n				\n				\n					\n	Sale!\n	\n	\n			\n\n\n				\n			\n			\n				\n				\n				\n				\n				\n				\n				\n				\n				\n				\n				\n				\n					\n		The Shamanic Passage – Package of 3 Classes\n				\n			\n				\n				\n				\n				\n				\n				\n				\n					RM540.00 Original price was: RM540.00.RM450.00Current price is: RM450.00. + SST 8% \n\n				\n			\n				\n				\n				\n				\n				\n				\n				\n					\n	\n	\n		\n		\n		The Shamanic Passage – Package of 3 Classes quantity\n	\n	\n\n		Add to cart\n\n			\n\n	\n\n				\n			\n				\n				\n				\n				\n				\n				\n				\n					\n\n	\n	\n	Category: Workshop\n	\n	\n\n\n				\n			\n				\n				\n				\n				\n				 \n			\n				\n				\n				\n				\n				DESCRIPTION\n			\n				\n				\n				\n				\n				Venue: Onsite (The Golden Space Centre)Date: 29 Nov 2025Time: 2.30pm – 4.30pm \nDive deep with Master Umesh Nandwani in a Soul Connection Meditation and have your burning spiritual questions answered in this personalised session. \nKey Takeaways: \n\nConnect with your soul and the souls of your loved ones\nDeepen your spiritual understanding and experience personal growth\n\n“Coffee & Refreshment Included” \nSuper Early Bird Price: RM180 nett (Ends on 26 Oct 2025)Early Bird Price: RM250 nett (Ends on 22 Nov 2025)Normal Price: RM280 nett \nPractitioner: Master Umesh Nandwani \n			\n				\n				\n				\n				\n				👉 Still unsure? Chat with us now and get your questions answered before booking! \nWhatsApp: +6011-4058 2178
URL:https://thegoldenspace.com.my/product/coffee-with-master-umesh-nandwani/
LOCATION:Online
ATTACH;FMTTYPE=image/jpeg:https://thegoldenspace.com.my/wp-content/uploads/2024/02/coffee-with-master-umesh-sept-2025.jpg
END:VEVENT
BEGIN:VEVENT
DTSTART;TZID=Asia/Kuala_Lumpur:20251129T143000
DTEND;TZID=Asia/Kuala_Lumpur:20251129T163000
DTSTAMP:20260424T064226
CREATED:20250916T161534Z
LAST-MODIFIED:20260108T183420Z
UID:19437-1764426600-1764433800@thegoldenspace.com.my
SUMMARY:Special Package for Master’s Events (Onsite)
DESCRIPTION:
URL:https://thegoldenspace.com.my/product/special-package-for-masters-events/
LOCATION:Online
ATTACH;FMTTYPE=image/jpeg:https://thegoldenspace.com.my/wp-content/uploads/2025/09/Master-Umesh-Bundle-2025.jpg
END:VEVENT
END:VCALENDAR