BEGIN:VCALENDAR
VERSION:2.0
PRODID:-//The Golden Space Malaysia - ECPv6.5.1.4//NONSGML v1.0//EN
CALSCALE:GREGORIAN
METHOD:PUBLISH
X-ORIGINAL-URL:https://thegoldenspace.com.my
X-WR-CALDESC:Events for The Golden Space Malaysia
REFRESH-INTERVAL;VALUE=DURATION:PT1H
X-Robots-Tag:noindex
X-PUBLISHED-TTL:PT1H
BEGIN:VTIMEZONE
TZID:Asia/Kuala_Lumpur
BEGIN:STANDARD
TZOFFSETFROM:+0800
TZOFFSETTO:+0800
TZNAME:+08
DTSTART:20250101T000000
END:STANDARD
END:VTIMEZONE
BEGIN:VEVENT
DTSTART;TZID=Asia/Kuala_Lumpur:20251130T143000
DTEND;TZID=Asia/Kuala_Lumpur:20251130T163000
DTSTAMP:20260422T034111
CREATED:20250406T165002Z
LAST-MODIFIED:20260108T182331Z
UID:18216-1764513000-1764520200@thegoldenspace.com.my
SUMMARY:Connecting to Your Angels\, Ascended Masters & Loved Ones (Onsite)
DESCRIPTION:Home  /  Workshop  /  The Shamanic Passage – Package of 3 Classes\n				\n			\n			\n				\n				\n				\n				\n			\n				\n				\n				\n				\n				\n				\n				\n				\n				\n				\n				\n				\n				\n					\n	Sale!\n	\n	\n			\n\n\n				\n			\n			\n				\n				\n				\n				\n				\n				\n				\n				\n				\n				\n				\n				\n					\n		The Shamanic Passage – Package of 3 Classes\n				\n			\n				\n				\n				\n				\n				\n				\n				\n					RM540.00 Original price was: RM540.00.RM450.00Current price is: RM450.00. + SST 8% \n\n				\n			\n				\n				\n				\n				\n				\n				\n				\n					\n	\n	\n		\n		\n		The Shamanic Passage – Package of 3 Classes quantity\n	\n	\n\n		Add to cart\n\n			\n\n	\n\n				\n			\n				\n				\n				\n				\n				\n				\n				\n					\n\n	\n	\n	Category: Workshop\n	\n	\n\n\n				\n			\n				\n				\n				\n				\n				 \n			\n				\n				\n				\n				\n				DESCRIPTION \n			\n				\n				\n				\n				\n				Venue: Onsite\nDate: 30 Nov 2025\nTime: 2.30pm – 4.30pm \nAngels\, Guides\, and Ascended Masters are always by our side\, offering guidance and support in our daily lives. \nIn this special session\, Master Umesh H Nandwani will guide you to connect not only with your Ascended Masters and Angel Guides but also with your Loved Ones who have passed on and your Ancestors. Receive their messages\, feel their presence\, and deepen your connection with them. \nKey Benefits:\n✅ Receive Guidance & Clarity – Gain insights and answers from your Angel Guides\, Ascended Masters\, and Loved Ones.\n✅ Experience Unconditional Love – Feel the deep love and support from higher beings who have always been with you.\n✅ Heal & Transform – As you open your heart to love and support\, profound healing takes place. \nCome\, experience their unconditional love\, and reconnect like never before! \nSuper Early Bird Price: RM225 nett (Ends on 26 Oct 2025)\nEarly Bird Price: RM255 nett (Ends on 22 Nov 2025)\nNormal Price: RM285 nett \nPractitioner: Master Umesh H. Nandwani
URL:https://thegoldenspace.com.my/product/public-meditation/
LOCATION:Online
ATTACH;FMTTYPE=image/jpeg:https://thegoldenspace.com.my/wp-content/uploads/2025/04/angel-guides-masters.jpg
END:VEVENT
END:VCALENDAR