BEGIN:VCALENDAR
VERSION:2.0
PRODID:-//The Golden Space Malaysia - ECPv6.5.1.4//NONSGML v1.0//EN
CALSCALE:GREGORIAN
METHOD:PUBLISH
X-ORIGINAL-URL:https://thegoldenspace.com.my
X-WR-CALDESC:Events for The Golden Space Malaysia
REFRESH-INTERVAL;VALUE=DURATION:PT1H
X-Robots-Tag:noindex
X-PUBLISHED-TTL:PT1H
BEGIN:VTIMEZONE
TZID:Asia/Kuala_Lumpur
BEGIN:STANDARD
TZOFFSETFROM:+0800
TZOFFSETTO:+0800
TZNAME:+08
DTSTART:20250101T000000
END:STANDARD
END:VTIMEZONE
BEGIN:VEVENT
DTSTART;TZID=Asia/Kuala_Lumpur:20251207T110000
DTEND;TZID=Asia/Kuala_Lumpur:20251207T180000
DTSTAMP:20260423T150122
CREATED:20250806T150838Z
LAST-MODIFIED:20250807T151731Z
UID:19220-1765105200-1765130400@thegoldenspace.com.my
SUMMARY:Master Class (Onsite)
DESCRIPTION:
URL:https://thegoldenspace.com.my/product/master-class/
ATTACH;FMTTYPE=image/jpeg:https://thegoldenspace.com.my/wp-content/uploads/2025/08/master-class.jpg
END:VEVENT
END:VCALENDAR