BEGIN:VCALENDAR
VERSION:2.0
PRODID:-//The Golden Space Malaysia - ECPv6.5.1.4//NONSGML v1.0//EN
CALSCALE:GREGORIAN
METHOD:PUBLISH
X-ORIGINAL-URL:https://thegoldenspace.com.my
X-WR-CALDESC:Events for The Golden Space Malaysia
REFRESH-INTERVAL;VALUE=DURATION:PT1H
X-Robots-Tag:noindex
X-PUBLISHED-TTL:PT1H
BEGIN:VTIMEZONE
TZID:Asia/Kuala_Lumpur
BEGIN:STANDARD
TZOFFSETFROM:+0800
TZOFFSETTO:+0800
TZNAME:+08
DTSTART:20260101T000000
END:STANDARD
END:VTIMEZONE
BEGIN:VEVENT
DTSTART;TZID=Asia/Kuala_Lumpur:20260625T200000
DTEND;TZID=Asia/Kuala_Lumpur:20260625T210000
DTSTAMP:20260426T015233
CREATED:20240226T162223Z
LAST-MODIFIED:20240226T162223Z
UID:20837-1782417600-1782421200@thegoldenspace.com.my
SUMMARY:Let Go of Suppression (Online)
DESCRIPTION:Home  /  Workshop  /  The Shamanic Passage – Package of 3 Classes\n				\n			\n			\n				\n				\n				\n				\n			\n				\n				\n				\n				\n				\n				\n				\n				\n				\n				\n				\n				\n				\n					\n	Sale!\n	\n	\n			\n\n\n				\n			\n			\n				\n				\n				\n				\n				\n				\n				\n				\n				\n				\n				\n				\n					\n		The Shamanic Passage – Package of 3 Classes\n				\n			\n				\n				\n				\n				\n				\n				\n				\n					RM540.00 Original price was: RM540.00.RM450.00Current price is: RM450.00. + SST 8% \n\n				\n			\n				\n				\n				\n				\n				\n				\n				\n					\n	\n	\n		\n		\n		The Shamanic Passage – Package of 3 Classes quantity\n	\n	\n\n		Add to cart\n\n			\n\n	\n\n				\n			\n				\n				\n				\n				\n				\n				\n				\n					\n\n	\n	\n	Category: Workshop\n	\n	\n\n\n				\n			\n				\n				\n				\n				\n				 \n			\n			\n				\n				\n				\n				\n			\n				\n				\n				\n				\n				\n				\n			\n				\n				\n				\n				\n				\n				\n				\n				\n				\n				DESCRIPTION\n			\n				\n				\n				\n				\n				Venue: Online (Zoom)Time: 8pm – 9pm \nEver felt drained\, anxious\, or trapped by unresolved emotions? \nMuch like physical health\, emotional well-being demands detoxification. The pressures from work and home often hide emotional burdens that disrupt peace\, affecting our daily lives both mentally and physically. \nAnd suppressing emotion may lead to regretful outbursts\, jeopardizes relationship. \nBenefits: \n\nUnpack toxic emotions\, liberating yourself\nExperience relief\, lightness and emotional uplift\nEmbrace cheer and ease\, reducing stress effects\nLighten the load and restore inner harmony with clarity\n\nPractitioner: Alycia Tee
URL:https://thegoldenspace.com.my/product/let-go-of-suppression/
LOCATION:Online
ATTACH;FMTTYPE=image/jpeg:https://thegoldenspace.com.my/wp-content/uploads/2024/02/Let-Go-of-Suppression.jpg
END:VEVENT
END:VCALENDAR