BEGIN:VCALENDAR
VERSION:2.0
PRODID:-//The Golden Space Malaysia - ECPv6.5.1.4//NONSGML v1.0//EN
CALSCALE:GREGORIAN
METHOD:PUBLISH
X-WR-CALNAME:The Golden Space Malaysia
X-ORIGINAL-URL:https://thegoldenspace.com.my
X-WR-CALDESC:Events for The Golden Space Malaysia
REFRESH-INTERVAL;VALUE=DURATION:PT1H
X-Robots-Tag:noindex
X-PUBLISHED-TTL:PT1H
BEGIN:VTIMEZONE
TZID:Asia/Kuala_Lumpur
BEGIN:STANDARD
TZOFFSETFROM:+0800
TZOFFSETTO:+0800
TZNAME:+08
DTSTART:20240101T000000
END:STANDARD
END:VTIMEZONE
BEGIN:VEVENT
DTSTART;TZID=Asia/Kuala_Lumpur:20240804T140000
DTEND;TZID=Asia/Kuala_Lumpur:20240804T160000
DTSTAMP:20260425T034544
CREATED:20240226T173435Z
LAST-MODIFIED:20240226T173435Z
UID:16118-1722780000-1722787200@thegoldenspace.com.my
SUMMARY:Manifestation Tribe: Manifest Your Dream Life (Onsite)
DESCRIPTION:Venue: Onsite (Workshop)Time: 2pm – 4pm \nEmbark on a transformative journey with Manifestation Tribe\, where we invite you to unlock the boundless potential within you. Join a vibrant community of like-minded individuals dedicated to personal growth and the art of manifestation. \nDiscover the Power of Community:At Manifestation Tribe\, we believe in the strength of unity and support reminiscent of a tribe. Together\, we create a nurturing environment where dreams flourish and aspirations take flight. \nUnleash Your Manifestation Power:Central to Manifestation Tribe is the exploration and mastery of your belief system. Often\, it’s our self-imposed limitations that hinder our ability to manifest our deepest desires. Through immersive workshops\, we guide you in reshaping your consciousness patterns into a catalyst for manifesting your dream life. \nReady to Transform? YES! \nJoin us today and embark on a journey of self-discovery and empowerment. Let’s rewrite the script of your reality and manifest the life you’ve always envisioned. Together\, we’ll turn dreams into reality and make magic happen. \nPractitioner: Sky KhoPer class: RM350*Package (3x): RM840*(redeem by 18 Nov 2024) \n*Limited seats & SST Excluded \n			\n			\n				\n				\n				\n				\n			\n				\n				\n				\n				\n				\n				\n				\n				\n				\n				\n				Make your reservation now!\n			\n				\n				\n				\n				\n				 PRICE (MYR) \n			\n				\n				\n				\n				\n				We have Single Class and Package of 3 options as below: \n			\n			\n				\n				\n				\n				\n			\n				\n				\n				\n				\n				\n				\n				\n				\n				\n				\n				Single class: RM378\n			\n			\n				\n				\n				\n				\n				\n				REGISTER NOW\n			\n			\n				\n				\n				\n				\n			\n				\n				\n				\n				\n				\n				\n			\n				\n				\n				\n				\n			\n				\n				\n				\n				\n				\n				\n				\n				\n				\n				\n				Package of 3: RM907.20\n			\n			\n				\n				\n				\n				\n				\n				REGISTER NOW
URL:https://thegoldenspace.com.my/event/manifestation-tribe-manifest-your-dream-life/2024-08-04/
LOCATION:Online
ATTACH;FMTTYPE=image/jpeg:https://thegoldenspace.com.my/wp-content/uploads/2024/02/Manifestation-Tribe-Manifest-Your-Dream-Life-full.jpg
END:VEVENT
BEGIN:VEVENT
DTSTART;TZID=Asia/Kuala_Lumpur:20240816T193000
DTEND;TZID=Asia/Kuala_Lumpur:20240816T220000
DTSTAMP:20260425T034544
CREATED:20240723T104121Z
LAST-MODIFIED:20240725T080204Z
UID:16434-1723836600-1723845600@thegoldenspace.com.my
SUMMARY:Soul Empowerment with Past Life Regression
DESCRIPTION:Venue: Onsite & Online (Zoom)\nDate: 16th Aug 2024\nTime: 7.30pm – 10pm \nDiscover\, gain empowerment\, and realize more from your past life experiences with clarity. \nKey Takeaways: \n\nConnect to your Inner Soul-Self and get Empowered.\nConnect to your Past Lives and gain clarity about your life patterns\, beingness\, etc.\nDiscover what more potentials are awaiting your attention and actions.\n\nFee: RM150 nett \n*Special session for “Awaken ~ The Divine You”® Family\n			\n				Make a Reservation Now!
URL:https://thegoldenspace.com.my/event/atdy-alumni/
LOCATION:Online
ATTACH;FMTTYPE=image/jpeg:https://thegoldenspace.com.my/wp-content/uploads/2024/07/soul-empowerment-with-past-life-regression.jpg
END:VEVENT
BEGIN:VEVENT
DTSTART;TZID=Asia/Kuala_Lumpur:20240818T133000
DTEND;TZID=Asia/Kuala_Lumpur:20240818T173000
DTSTAMP:20260425T034544
CREATED:20240718T125202Z
LAST-MODIFIED:20240723T114349Z
UID:16344-1723987800-1724002200@thegoldenspace.com.my
SUMMARY:Calming Craft Immersion – Creating Your Gratitude Mala
DESCRIPTION:Date: 18 August 2024\nTime: 1.30pm – 5.30pm\nVenue: Onsite (Workshop) \nA transformative 4-hour session designed to bring peace\, joy\, and focus into your life. Immerse yourself in the art of crafting your own mini mala\, a powerful tool infused with your personal intentions and the energy of gratitude. All materials\, including beautiful beads\, are provided. \nWhat You Will Gain: \n\nEmpowerment through Gratitude: Discover the profound impact of gratitude on your well-being and energy.\nSelf-Discovery: Uncover new aspects of yourself\, fostering greater self-understanding and acceptance.\nPersonalized Mala Use: Learn a customized method to use your mini mala to stay focused and aligned with your dreams and desires.\n\nA unique experience\, that offers you not just a beautiful handmade piece but a deeper connection to yourself and your goals. Take this opportunity to create something meaningful and lasting for yourself. \nNormal Price: RM450 + SST\nEarly Bird Price: RM350 nett (Ends on 11 Aug 2024) \n\n*All materials are included\n**Limited to 10 pax only\n \nPractitioner: Moisy Moi\n			\n				Make a Reservation Now!
URL:https://thegoldenspace.com.my/event/calming-craft-immersion-creating-your-gratitude-mala/
ATTACH;FMTTYPE=image/jpeg:https://thegoldenspace.com.my/wp-content/uploads/2024/07/calming-craft-immersion.jpg
END:VEVENT
BEGIN:VEVENT
DTSTART;TZID=Asia/Kuala_Lumpur:20240831T103000
DTEND;TZID=Asia/Kuala_Lumpur:20240831T173000
DTSTAMP:20260425T034544
CREATED:20220323T153256Z
LAST-MODIFIED:20251022T165832Z
UID:9175-1725100200-1725125400@thegoldenspace.com.my
SUMMARY:The Psychology of Colours (Onsite)
DESCRIPTION:The Psychology of Color (Intermediate Level) \nVenue: OnsiteTime: 10.30am – 5.30pmDate: 31 Aug & 01 Sept 2024 \nA color system is a modality that is non-intrusive. It is about raising consciousness\, bringing balance\, ease and awareness to all levels of your body\, mind and soul. It enhances your understanding on self and help you better utilise color to improve every aspect of your life. \nBenefits: \n\nGain in-depth knowledge of the influence of colour\nDecode emotions through the energy of colour\nElevate your living and working spaces with the uplifting effects of color\n\n(Include 2 free revision classes\, 2 hours each worth RM500) \nFees: RM1388* (Early Bird ends on 24th Aug 2024) / RM1688* (Normal Price) \n*No SST Included**limited to 15 pax only***A certificate of attendance will be awarded.T&C applies \nFor more info\, please contact +6011-4058 2178 \nPractitioner: Beatrice Lee \n			\n				Make a Reservation Now!
URL:https://thegoldenspace.com.my/event/the-psychology-of-colours/2024-08-31/
ATTACH;FMTTYPE=image/jpeg:https://thegoldenspace.com.my/wp-content/uploads/2022/03/the-psychology-of-colours.jpg
END:VEVENT
END:VCALENDAR