BEGIN:VCALENDAR
VERSION:2.0
PRODID:-//The Golden Space Malaysia - ECPv6.5.1.4//NONSGML v1.0//EN
CALSCALE:GREGORIAN
METHOD:PUBLISH
X-ORIGINAL-URL:https://thegoldenspace.com.my
X-WR-CALDESC:Events for The Golden Space Malaysia
REFRESH-INTERVAL;VALUE=DURATION:PT1H
X-Robots-Tag:noindex
X-PUBLISHED-TTL:PT1H
BEGIN:VTIMEZONE
TZID:Asia/Kuala_Lumpur
BEGIN:STANDARD
TZOFFSETFROM:+0800
TZOFFSETTO:+0800
TZNAME:+08
DTSTART:20240101T000000
END:STANDARD
END:VTIMEZONE
BEGIN:VEVENT
DTSTART;TZID=Asia/Kuala_Lumpur:20240901T103000
DTEND;TZID=Asia/Kuala_Lumpur:20240901T173000
DTSTAMP:20260425T210422
CREATED:20220323T153256Z
LAST-MODIFIED:20251022T165833Z
UID:16330-1725186600-1725211800@thegoldenspace.com.my
SUMMARY:The Psychology of Colours (Onsite)
DESCRIPTION:The Psychology of Color (Intermediate Level) \nVenue: OnsiteTime: 10.30am – 5.30pmDate: 31 Aug & 01 Sept 2024 \nA color system is a modality that is non-intrusive. It is about raising consciousness\, bringing balance\, ease and awareness to all levels of your body\, mind and soul. It enhances your understanding on self and help you better utilise color to improve every aspect of your life. \nBenefits: \n\nGain in-depth knowledge of the influence of colour\nDecode emotions through the energy of colour\nElevate your living and working spaces with the uplifting effects of color\n\n(Include 2 free revision classes\, 2 hours each worth RM500) \nFees: RM1388* (Early Bird ends on 24th Aug 2024) / RM1688* (Normal Price) \n*No SST Included**limited to 15 pax only***A certificate of attendance will be awarded.T&C applies \nFor more info\, please contact +6011-4058 2178 \nPractitioner: Beatrice Lee \n			\n				Make a Reservation Now!
URL:https://thegoldenspace.com.my/event/the-psychology-of-colours/2024-09-01/
ATTACH;FMTTYPE=image/jpeg:https://thegoldenspace.com.my/wp-content/uploads/2022/03/the-psychology-of-colours.jpg
END:VEVENT
BEGIN:VEVENT
DTSTART;TZID=Asia/Kuala_Lumpur:20240908T140000
DTEND;TZID=Asia/Kuala_Lumpur:20240908T160000
DTSTAMP:20260425T210422
CREATED:20240226T173435Z
LAST-MODIFIED:20240226T173435Z
UID:16119-1725804000-1725811200@thegoldenspace.com.my
SUMMARY:Manifestation Tribe: Manifest Your Dream Life (Onsite)
DESCRIPTION:Venue: Onsite (Workshop)Time: 2pm – 4pm \nEmbark on a transformative journey with Manifestation Tribe\, where we invite you to unlock the boundless potential within you. Join a vibrant community of like-minded individuals dedicated to personal growth and the art of manifestation. \nDiscover the Power of Community:At Manifestation Tribe\, we believe in the strength of unity and support reminiscent of a tribe. Together\, we create a nurturing environment where dreams flourish and aspirations take flight. \nUnleash Your Manifestation Power:Central to Manifestation Tribe is the exploration and mastery of your belief system. Often\, it’s our self-imposed limitations that hinder our ability to manifest our deepest desires. Through immersive workshops\, we guide you in reshaping your consciousness patterns into a catalyst for manifesting your dream life. \nReady to Transform? YES! \nJoin us today and embark on a journey of self-discovery and empowerment. Let’s rewrite the script of your reality and manifest the life you’ve always envisioned. Together\, we’ll turn dreams into reality and make magic happen. \nPractitioner: Sky KhoPer class: RM350*Package (3x): RM840*(redeem by 18 Nov 2024) \n*Limited seats & SST Excluded \n			\n			\n				\n				\n				\n				\n			\n				\n				\n				\n				\n				\n				\n				\n				\n				\n				\n				Make your reservation now!\n			\n				\n				\n				\n				\n				 PRICE (MYR) \n			\n				\n				\n				\n				\n				We have Single Class and Package of 3 options as below: \n			\n			\n				\n				\n				\n				\n			\n				\n				\n				\n				\n				\n				\n				\n				\n				\n				\n				Single class: RM378\n			\n			\n				\n				\n				\n				\n				\n				REGISTER NOW\n			\n			\n				\n				\n				\n				\n			\n				\n				\n				\n				\n				\n				\n			\n				\n				\n				\n				\n			\n				\n				\n				\n				\n				\n				\n				\n				\n				\n				\n				Package of 3: RM907.20\n			\n			\n				\n				\n				\n				\n				\n				REGISTER NOW
URL:https://thegoldenspace.com.my/event/manifestation-tribe-manifest-your-dream-life/2024-09-08/
LOCATION:Online
ATTACH;FMTTYPE=image/jpeg:https://thegoldenspace.com.my/wp-content/uploads/2024/02/Manifestation-Tribe-Manifest-Your-Dream-Life-full.jpg
END:VEVENT
BEGIN:VEVENT
DTSTART;TZID=Asia/Kuala_Lumpur:20240929T110000
DTEND;TZID=Asia/Kuala_Lumpur:20240929T120000
DTSTAMP:20260425T210422
CREATED:20240323T105633Z
LAST-MODIFIED:20240724T144958Z
UID:15327-1727607600-1727611200@thegoldenspace.com.my
SUMMARY:Mend Your Broken Heart (Onsite)
DESCRIPTION:Venue: Onsite\nTime: 11am – 12pm \nHeartbreak\, bad relationships\, attracting the wrong partner…feeling lost? We’ve all been there. But guess what? You can heal\, grow\, and find true happiness. \nThis class is your guide to: \n\nBuilding resilience: Become emotionally strong for healthy\, fulfilling relationships.\nDiscovering your worth: Shine your light bright through self-reflection.\nRising above: Leave heartbreak behind and open your heart to new possibilities.\n\nJoin us and reclaim your happiness. It’s time to find the love you deserve! \nPractitioner: Sucy Chan\n			\n				Make a Reservation Now!
URL:https://thegoldenspace.com.my/event/mend-your-broken-heart/
LOCATION:Online
ATTACH;FMTTYPE=image/jpeg:https://thegoldenspace.com.my/wp-content/uploads/2024/03/Mend-Your-Broken-Heart.jpg
END:VEVENT
END:VCALENDAR