BEGIN:VCALENDAR
VERSION:2.0
PRODID:-//The Golden Space Malaysia - ECPv6.5.1.4//NONSGML v1.0//EN
CALSCALE:GREGORIAN
METHOD:PUBLISH
X-ORIGINAL-URL:https://thegoldenspace.com.my
X-WR-CALDESC:Events for The Golden Space Malaysia
REFRESH-INTERVAL;VALUE=DURATION:PT1H
X-Robots-Tag:noindex
X-PUBLISHED-TTL:PT1H
BEGIN:VTIMEZONE
TZID:Asia/Kuala_Lumpur
BEGIN:STANDARD
TZOFFSETFROM:+0800
TZOFFSETTO:+0800
TZNAME:+08
DTSTART:20250101T000000
END:STANDARD
END:VTIMEZONE
BEGIN:VEVENT
DTSTART;TZID=Asia/Kuala_Lumpur:20250906T110000
DTEND;TZID=Asia/Kuala_Lumpur:20250906T120000
DTSTAMP:20260422T064449
CREATED:20240418T140018Z
LAST-MODIFIED:20251116T151244Z
UID:15560-1757156400-1757160000@thegoldenspace.com.my
SUMMARY:Simply Relax (Online)
DESCRIPTION:Home  /  Workshop  /  The Shamanic Passage – Package of 3 Classes\n				\n			\n			\n				\n				\n				\n				\n			\n				\n				\n				\n				\n				\n				\n				\n				\n				\n				\n				\n				\n				\n					\n	Sale!\n	\n	\n			\n\n\n				\n			\n			\n				\n				\n				\n				\n				\n				\n				\n				\n				\n				\n				\n				\n					\n		The Shamanic Passage – Package of 3 Classes\n				\n			\n				\n				\n				\n				\n				\n				\n				\n					RM540.00 Original price was: RM540.00.RM450.00Current price is: RM450.00. + SST 8% \n\n				\n			\n				\n				\n				\n				\n				\n				\n				\n					\n	\n	\n		\n		\n		The Shamanic Passage – Package of 3 Classes quantity\n	\n	\n\n		Add to cart\n\n			\n\n	\n\n				\n			\n				\n				\n				\n				\n				\n				\n				\n					\n\n	\n	\n	Category: Workshop\n	\n	\n\n\n				\n			\n				\n				\n				\n				\n				 \n			\n			\n				\n				\n				\n				\n			\n				\n				\n				\n				\n				\n				\n			\n				\n				\n				\n				\n				\n				\n				\n				\n				\n				DESCRIPTION\n			\n				\n				\n				\n				\n				Venue: Online (Zoom)\nTime: 11am – 12pm \nMore than just “chill\,” this is about reclaiming your inner peace and unlocking a healthier\, happier you. Are you ready to step into your power? \nBy letting go of tension\, we trigger a cascade of benefits: \n\nDeep cellular rejuvenation: Inner spa! Repair\, restore\, rebalance from within.\nReinvigorate your body\, mind\, and soul from the inside out.\nBoost your energy\, focus\, and productivity with the magic of deep relaxation.\n\nReady to relax beyond the surface? \nPractitioner: Susee Rajaram
URL:https://thegoldenspace.com.my/product/simply-relax/
LOCATION:Online
ATTACH;FMTTYPE=image/jpeg:https://thegoldenspace.com.my/wp-content/uploads/2024/04/simply-relax.jpg
END:VEVENT
BEGIN:VEVENT
DTSTART;TZID=Asia/Kuala_Lumpur:20250906T110000
DTEND;TZID=Asia/Kuala_Lumpur:20250906T120000
DTSTAMP:20260422T064449
CREATED:20250320T141816Z
LAST-MODIFIED:20250918T152619Z
UID:19258-1757156400-1757160000@thegoldenspace.com.my
SUMMARY:Rediscover Your Worth (Onsite)
DESCRIPTION:Home  /  Workshop  /  The Shamanic Passage – Package of 3 Classes\n				\n			\n			\n				\n				\n				\n				\n			\n				\n				\n				\n				\n				\n				\n				\n				\n				\n				\n				\n				\n				\n					\n	Sale!\n	\n	\n			\n\n\n				\n			\n			\n				\n				\n				\n				\n				\n				\n				\n				\n				\n				\n				\n				\n					\n		The Shamanic Passage – Package of 3 Classes\n				\n			\n				\n				\n				\n				\n				\n				\n				\n					RM540.00 Original price was: RM540.00.RM450.00Current price is: RM450.00. + SST 8% \n\n				\n			\n				\n				\n				\n				\n				\n				\n				\n					\n	\n	\n		\n		\n		The Shamanic Passage – Package of 3 Classes quantity\n	\n	\n\n		Add to cart\n\n			\n\n	\n\n				\n			\n				\n				\n				\n				\n				\n				\n				\n					\n\n	\n	\n	Category: Workshop\n	\n	\n\n\n				\n			\n				\n				\n				\n				\n				 \n			\n			\n				\n				\n				\n				\n			\n				\n				\n				\n				\n				\n				\n			\n				\n				\n				\n				\n				\n				\n				\n				\n				\n				DESCRIPTION\n			\n				\n				\n				\n				\n				Venue: OnsiteDate (Time): 06 Sept 2025 (11am – 12pm) | 07 Oct 2025 (8pm – 9pm) \nDo you feel lost or stuck? This session helps you reconnect with your inner power and recognize your true value. \nBenefits: \n\nShift from self-doubt to self-worth\nGain clarity in your life’s direction\nStep into your power with confidence\n\nPractitioner: Moisy Moi
URL:https://thegoldenspace.com.my/product/rediscover-your-worth/
LOCATION:Onsite
ATTACH;FMTTYPE=image/jpeg:https://thegoldenspace.com.my/wp-content/uploads/2024/02/Redefine-Your-Self.jpg
END:VEVENT
BEGIN:VEVENT
DTSTART;TZID=Asia/Kuala_Lumpur:20250906T140000
DTEND;TZID=Asia/Kuala_Lumpur:20250906T160000
DTSTAMP:20260422T064449
CREATED:20250515T173302Z
LAST-MODIFIED:20250717T100129Z
UID:18664-1757167200-1757174400@thegoldenspace.com.my
SUMMARY:Beyond the Goddess Journey
DESCRIPTION:Venue: OnsiteTime: 2pm – 4pmClasses Dates: 09 Aug | 06 Sep | 04 Oct | 22 Nov \nBeyond The Goddess Wisdom Retreat \n2-hour post-retreat women’s workshop to support realignment\, deepen the purpose\, and ignite continued embodiment of the Goddess Path. The flow is sacred\, intentional\, and empowering—offering space for integration and rising as awakened divine feminine leaders. \nBenefits: \n\nRealign with your inner truth and divine essence\nRise into your feminine power with clarity and confidence\nRadiate light and inspire transformation in others\n\nPer Class: RM88*Package of 3: RM264* (Free 1 Class)*Excl 8% SST**Limited to 15 paxs only***Pre-requisite: For Goddess Wisdom Retreat graduates only \nPractitioner: Beatrice Lee \n			\n				\n				\n				\n				\n				*All Beyond the Goddess Journey Classes will be conducted onsite* \nWe have Package of 3 (Free 1 Class) and Single Class options as below: \n			\n			\n				\n				\n				\n				\n			\n				\n				\n				\n				\n				\n				\n				\n				\n				\n				\n				Package of 3 (Free 1 Class): RM264.00 + SST 8% \n			\n				Make Your Reservation Now!\n			\n			\n				\n				\n				\n				\n				\n				\n				\n				\n				\n				Single Class: RM88.00 + SST 8% \n			\n				Make Your Reservation Now!
URL:https://thegoldenspace.com.my/event/beyond-the-goddess-journey/2025-09-06/
ATTACH;FMTTYPE=image/jpeg:https://thegoldenspace.com.my/wp-content/uploads/2025/05/beyond-the-goddess-journey.jpg
END:VEVENT
BEGIN:VEVENT
DTSTART;TZID=Asia/Kuala_Lumpur:20250909T200000
DTEND;TZID=Asia/Kuala_Lumpur:20250909T210000
DTSTAMP:20260422T064449
CREATED:20250729T151023Z
LAST-MODIFIED:20251228T092332Z
UID:19149-1757448000-1757451600@thegoldenspace.com.my
SUMMARY:Listening to Your Body Wisdom (Onsite)
DESCRIPTION:Home  /  Workshop  /  The Shamanic Passage – Package of 3 Classes\n				\n			\n			\n				\n				\n				\n				\n			\n				\n				\n				\n				\n				\n				\n				\n				\n				\n				\n				\n				\n				\n					\n	Sale!\n	\n	\n			\n\n\n				\n			\n			\n				\n				\n				\n				\n				\n				\n				\n				\n				\n				\n				\n				\n					\n		The Shamanic Passage – Package of 3 Classes\n				\n			\n				\n				\n				\n				\n				\n				\n				\n					RM540.00 Original price was: RM540.00.RM450.00Current price is: RM450.00. + SST 8% \n\n				\n			\n				\n				\n				\n				\n				\n				\n				\n					\n	\n	\n		\n		\n		The Shamanic Passage – Package of 3 Classes quantity\n	\n	\n\n		Add to cart\n\n			\n\n	\n\n				\n			\n				\n				\n				\n				\n				\n				\n				\n					\n\n	\n	\n	Category: Workshop\n	\n	\n\n\n				\n			\n				\n				\n				\n				\n				 \n			\n			\n				\n				\n				\n				\n			\n				\n				\n				\n				\n				\n				\n			\n				\n				\n				\n				\n				\n				\n				\n				\n				\n				DESCRIPTION\n			\n				\n				\n				\n				\n				Venue: Onsite\nTime: 11am – 12pm \nYour body holds deep wisdom that often goes unnoticed. In this session\, learn to slow down\, listen\, and understand the signals your body sends. By reconnecting\, you’ll rediscover balance and honor your body as a trusted partner in living a healthier\, more harmonious life. \nBenefits: \n\nDevelop deeper self-awareness and trust in your body\nImprove vitality and energy balance\nCultivate appreciation for your physical being\n\nPractitioner: Teoh Yeong Keait
URL:https://thegoldenspace.com.my/product/listening-to-your-body-wisdom/
LOCATION:Onsite
ATTACH;FMTTYPE=image/jpeg:https://thegoldenspace.com.my/wp-content/uploads/2025/07/listening-to-body-wisdom.jpg
END:VEVENT
BEGIN:VEVENT
DTSTART;TZID=Asia/Kuala_Lumpur:20250913T110000
DTEND;TZID=Asia/Kuala_Lumpur:20250913T120000
DTSTAMP:20260422T064449
CREATED:20240205T155336Z
LAST-MODIFIED:20251228T094523Z
UID:14503-1757761200-1757764800@thegoldenspace.com.my
SUMMARY:Conquer Your Fear (Online)
DESCRIPTION:Home  /  Workshop  /  The Shamanic Passage – Package of 3 Classes\n				\n			\n			\n				\n				\n				\n				\n			\n				\n				\n				\n				\n				\n				\n				\n				\n				\n				\n				\n				\n				\n					\n	Sale!\n	\n	\n			\n\n\n				\n			\n			\n				\n				\n				\n				\n				\n				\n				\n				\n				\n				\n				\n				\n					\n		The Shamanic Passage – Package of 3 Classes\n				\n			\n				\n				\n				\n				\n				\n				\n				\n					RM540.00 Original price was: RM540.00.RM450.00Current price is: RM450.00. + SST 8% \n\n				\n			\n				\n				\n				\n				\n				\n				\n				\n					\n	\n	\n		\n		\n		The Shamanic Passage – Package of 3 Classes quantity\n	\n	\n\n		Add to cart\n\n			\n\n	\n\n				\n			\n				\n				\n				\n				\n				\n				\n				\n					\n\n	\n	\n	Category: Workshop\n	\n	\n\n\n				\n			\n				\n				\n				\n				\n				 \n			\n			\n				\n				\n				\n				\n			\n				\n				\n				\n				\n				\n				\n			\n				\n				\n				\n				\n				\n				\n				\n				\n				\n				DESCRIPTION\n			\n				\n				\n				\n				\n				Venue: Online (Zoom)Time: 11am – 12pm \nFear is necessary for humans to live safely\, but excessive fear can be harmful\, hindering you from moving forward. This class may help you understand the mechanism of fear: what fear is\, where it comes from\, when it appears\, why you experience it\, and how you conquer it through lectures\, sharing and exercises. \nBenefits: \n\nGain the power to lessen or control your fear\nLearn practical exercises to deal with fear\nGain the ability to move forward to create the life you want\n\nPractitioner: Yoshimi Janus
URL:https://thegoldenspace.com.my/product/conquer-your-fear/
LOCATION:Online
ATTACH;FMTTYPE=image/jpeg:https://thegoldenspace.com.my/wp-content/uploads/2024/02/Conquer-Your-Fear.jpg
END:VEVENT
BEGIN:VEVENT
DTSTART;TZID=Asia/Kuala_Lumpur:20250916T200000
DTEND;TZID=Asia/Kuala_Lumpur:20250916T210000
DTSTAMP:20260422T064449
CREATED:20250320T135829Z
LAST-MODIFIED:20250919T155805Z
UID:19278-1758052800-1758056400@thegoldenspace.com.my
SUMMARY:Breaking Free from Judgments (Onsite)
DESCRIPTION:Home  /  Workshop  /  The Shamanic Passage – Package of 3 Classes\n				\n			\n			\n				\n				\n				\n				\n			\n				\n				\n				\n				\n				\n				\n				\n				\n				\n				\n				\n				\n				\n					\n	Sale!\n	\n	\n			\n\n\n				\n			\n			\n				\n				\n				\n				\n				\n				\n				\n				\n				\n				\n				\n				\n					\n		The Shamanic Passage – Package of 3 Classes\n				\n			\n				\n				\n				\n				\n				\n				\n				\n					RM540.00 Original price was: RM540.00.RM450.00Current price is: RM450.00. + SST 8% \n\n				\n			\n				\n				\n				\n				\n				\n				\n				\n					\n	\n	\n		\n		\n		The Shamanic Passage – Package of 3 Classes quantity\n	\n	\n\n		Add to cart\n\n			\n\n	\n\n				\n			\n				\n				\n				\n				\n				\n				\n				\n					\n\n	\n	\n	Category: Workshop\n	\n	\n\n\n				\n			\n				\n				\n				\n				\n				 \n			\n			\n				\n				\n				\n				\n			\n				\n				\n				\n				\n				\n				\n			\n				\n				\n				\n				\n				\n				\n				\n				\n				\n				DESCRIPTION\n			\n				\n				\n				\n				\n				Venue: Onsite\nDate (Time): 26 Aug 2025 & 16 Sept 2025 (8pm – 9pm) | 18 Oct 2025 (11am – 12pm) \nMany women feel trapped by societal expectations\, but the harshest judgments often come from within. This session helps you release both external and self-judgments\, allowing you to embrace who you truly are. \nBenefits: \n\nLet go of self-criticism and inner doubts.\nOvercome fear of what others think.\nCultivate inner peace and acceptance.\n\nPractitioner: Moisy Moi
URL:https://thegoldenspace.com.my/product/breaking-free-from-judgments/
LOCATION:Onsite
ATTACH;FMTTYPE=image/jpeg:https://thegoldenspace.com.my/wp-content/uploads/2025/03/breaking-free-from-judgments.jpg
END:VEVENT
BEGIN:VEVENT
DTSTART;TZID=Asia/Kuala_Lumpur:20250920T110000
DTEND;TZID=Asia/Kuala_Lumpur:20250920T120000
DTSTAMP:20260422T064450
CREATED:20250320T143857Z
LAST-MODIFIED:20250919T155857Z
UID:19266-1758366000-1758369600@thegoldenspace.com.my
SUMMARY:The Power of Acceptance (Onsite)
DESCRIPTION:Home  /  Workshop  /  The Shamanic Passage – Package of 3 Classes\n				\n			\n			\n				\n				\n				\n				\n			\n				\n				\n				\n				\n				\n				\n				\n				\n				\n				\n				\n				\n				\n					\n	Sale!\n	\n	\n			\n\n\n				\n			\n			\n				\n				\n				\n				\n				\n				\n				\n				\n				\n				\n				\n				\n					\n		The Shamanic Passage – Package of 3 Classes\n				\n			\n				\n				\n				\n				\n				\n				\n				\n					RM540.00 Original price was: RM540.00.RM450.00Current price is: RM450.00. + SST 8% \n\n				\n			\n				\n				\n				\n				\n				\n				\n				\n					\n	\n	\n		\n		\n		The Shamanic Passage – Package of 3 Classes quantity\n	\n	\n\n		Add to cart\n\n			\n\n	\n\n				\n			\n				\n				\n				\n				\n				\n				\n				\n					\n\n	\n	\n	Category: Workshop\n	\n	\n\n\n				\n			\n				\n				\n				\n				\n				 \n			\n			\n				\n				\n				\n				\n			\n				\n				\n				\n				\n				\n				\n			\n				\n				\n				\n				\n				\n				\n				\n				\n				\n				DESCRIPTION\n			\n				\n				\n				\n				\n				Venue: Onsite\nDate\, Time (Practitioner): 20 Sept 2025\, 11am – 12pm (Saida Nadziah) | 14 Oct 2025\, 8pm – 9pm (Sucy Chan) \nTrue peace comes from accepting yourself—flaws\, imperfections\, and all. This session teaches you how to embrace your strengths and limitations with grace. \nBenefits: \n\nAccept yourself fully\, without judgment\nReduce stress and anxiety caused by self-pressure\nEmbrace life with confidence and ease\n\nPractitioner: Sucy Chan | Saida Nadziah
URL:https://thegoldenspace.com.my/product/the-power-of-acceptance/
LOCATION:Onsite
ATTACH;FMTTYPE=image/jpeg:https://thegoldenspace.com.my/wp-content/uploads/2025/03/the-power-of-acceptance.jpg
END:VEVENT
BEGIN:VEVENT
DTSTART;TZID=Asia/Kuala_Lumpur:20250923T200000
DTEND;TZID=Asia/Kuala_Lumpur:20250923T210000
DTSTAMP:20260422T064450
CREATED:20250320T144207Z
LAST-MODIFIED:20250919T160128Z
UID:19284-1758657600-1758661200@thegoldenspace.com.my
SUMMARY:Respecting You & Me (Onsite)
DESCRIPTION:Home  /  Workshop  /  The Shamanic Passage – Package of 3 Classes\n				\n			\n			\n				\n				\n				\n				\n			\n				\n				\n				\n				\n				\n				\n				\n				\n				\n				\n				\n				\n				\n					\n	Sale!\n	\n	\n			\n\n\n				\n			\n			\n				\n				\n				\n				\n				\n				\n				\n				\n				\n				\n				\n				\n					\n		The Shamanic Passage – Package of 3 Classes\n				\n			\n				\n				\n				\n				\n				\n				\n				\n					RM540.00 Original price was: RM540.00.RM450.00Current price is: RM450.00. + SST 8% \n\n				\n			\n				\n				\n				\n				\n				\n				\n				\n					\n	\n	\n		\n		\n		The Shamanic Passage – Package of 3 Classes quantity\n	\n	\n\n		Add to cart\n\n			\n\n	\n\n				\n			\n				\n				\n				\n				\n				\n				\n				\n					\n\n	\n	\n	Category: Workshop\n	\n	\n\n\n				\n			\n				\n				\n				\n				\n				 \n			\n			\n				\n				\n				\n				\n			\n				\n				\n				\n				\n				\n				\n			\n				\n				\n				\n				\n				\n				\n				\n				\n				\n				DESCRIPTION\n			\n				\n				\n				\n				\n				Venue: Onsite\nDate (Time): 30 Aug 2025 (11am – 12pm) | 23 Sept 2025 & 21 Oct 2025 (8pm – 9pm)  \nLearn how to communicate clearly\, set healthy boundaries\, and create respectful\, emotionally safe relationships. This session helps you shift from tension or misunderstanding into deeper connection — with your loved ones and with yourself. \nBenefits: \n\nBuild emotional safety\nImprove communication\nStrengthen your relationships\n\nPractitioner: Susee Rajaram
URL:https://thegoldenspace.com.my/product/respecting-you-me/
LOCATION:Onsite
ATTACH;FMTTYPE=image/jpeg:https://thegoldenspace.com.my/wp-content/uploads/2025/07/Respecting-You-Me-scaled.jpg
END:VEVENT
BEGIN:VEVENT
DTSTART;TZID=Asia/Kuala_Lumpur:20250927T110000
DTEND;TZID=Asia/Kuala_Lumpur:20250927T120000
DTSTAMP:20260422T064450
CREATED:20240226T160743Z
LAST-MODIFIED:20251228T094919Z
UID:14606-1758970800-1758974400@thegoldenspace.com.my
SUMMARY:Be a Greater You (Online)
DESCRIPTION:Home  /  Workshop  /  The Shamanic Passage – Package of 3 Classes\n				\n			\n			\n				\n				\n				\n				\n			\n				\n				\n				\n				\n				\n				\n				\n				\n				\n				\n				\n				\n				\n					\n	Sale!\n	\n	\n			\n\n\n				\n			\n			\n				\n				\n				\n				\n				\n				\n				\n				\n				\n				\n				\n				\n					\n		The Shamanic Passage – Package of 3 Classes\n				\n			\n				\n				\n				\n				\n				\n				\n				\n					RM540.00 Original price was: RM540.00.RM450.00Current price is: RM450.00. + SST 8% \n\n				\n			\n				\n				\n				\n				\n				\n				\n				\n					\n	\n	\n		\n		\n		The Shamanic Passage – Package of 3 Classes quantity\n	\n	\n\n		Add to cart\n\n			\n\n	\n\n				\n			\n				\n				\n				\n				\n				\n				\n				\n					\n\n	\n	\n	Category: Workshop\n	\n	\n\n\n				\n			\n				\n				\n				\n				\n				 \n			\n			\n				\n				\n				\n				\n			\n				\n				\n				\n				\n				\n				\n			\n				\n				\n				\n				\n				\n				\n				\n				\n				\n				DESCRIPTION\n			\n				\n				\n				\n				\n				Venue: Online (Zoom)Time: 11am – 12pm \nBe A Greater You invites you to reclaim your life’s leadership and reconnect with the hero within you\, who has been dormant for too long. It’s a call to recognize your inherent light\, already magnificent\, and to understand that greatness is a continuous journey of self-acceptance and relentless pursuit of improvement. Even when we fall\, it’s this light within that allows us to rise again and boldly step forward. This class is a reminder of our potential to constantly evolve into better versions of ourselves\, leading our lives with purpose and shining brighter\, no matter life’s twists and turns. \nBenefits: \n\nSelf-acceptance and continuous improvements\nBuild resilience with a positive attitude\nTake leadership of your own life\n\nPractitioner: Christina Teng
URL:https://thegoldenspace.com.my/product/be-a-greater-you/
LOCATION:Online
ATTACH;FMTTYPE=image/jpeg:https://thegoldenspace.com.my/wp-content/uploads/2024/02/Be-a-Greater-You.jpg
END:VEVENT
END:VCALENDAR