BEGIN:VCALENDAR
VERSION:2.0
PRODID:-//The Golden Space Malaysia - ECPv6.5.1.4//NONSGML v1.0//EN
CALSCALE:GREGORIAN
METHOD:PUBLISH
X-WR-CALNAME:The Golden Space Malaysia
X-ORIGINAL-URL:https://thegoldenspace.com.my
X-WR-CALDESC:Events for The Golden Space Malaysia
REFRESH-INTERVAL;VALUE=DURATION:PT1H
X-Robots-Tag:noindex
X-PUBLISHED-TTL:PT1H
BEGIN:VTIMEZONE
TZID:Asia/Kuala_Lumpur
BEGIN:STANDARD
TZOFFSETFROM:+0800
TZOFFSETTO:+0800
TZNAME:+08
DTSTART:20250101T000000
END:STANDARD
END:VTIMEZONE
BEGIN:VEVENT
DTSTART;TZID=Asia/Kuala_Lumpur:20251004T140000
DTEND;TZID=Asia/Kuala_Lumpur:20251004T160000
DTSTAMP:20260422T112251
CREATED:20250515T173302Z
LAST-MODIFIED:20250717T100130Z
UID:18665-1759586400-1759593600@thegoldenspace.com.my
SUMMARY:Beyond the Goddess Journey
DESCRIPTION:Venue: OnsiteTime: 2pm – 4pmClasses Dates: 09 Aug | 06 Sep | 04 Oct | 22 Nov \nBeyond The Goddess Wisdom Retreat \n2-hour post-retreat women’s workshop to support realignment\, deepen the purpose\, and ignite continued embodiment of the Goddess Path. The flow is sacred\, intentional\, and empowering—offering space for integration and rising as awakened divine feminine leaders. \nBenefits: \n\nRealign with your inner truth and divine essence\nRise into your feminine power with clarity and confidence\nRadiate light and inspire transformation in others\n\nPer Class: RM88*Package of 3: RM264* (Free 1 Class)*Excl 8% SST**Limited to 15 paxs only***Pre-requisite: For Goddess Wisdom Retreat graduates only \nPractitioner: Beatrice Lee \n			\n				\n				\n				\n				\n				*All Beyond the Goddess Journey Classes will be conducted onsite* \nWe have Package of 3 (Free 1 Class) and Single Class options as below: \n			\n			\n				\n				\n				\n				\n			\n				\n				\n				\n				\n				\n				\n				\n				\n				\n				\n				Package of 3 (Free 1 Class): RM264.00 + SST 8% \n			\n				Make Your Reservation Now!\n			\n			\n				\n				\n				\n				\n				\n				\n				\n				\n				\n				Single Class: RM88.00 + SST 8% \n			\n				Make Your Reservation Now!
URL:https://thegoldenspace.com.my/event/beyond-the-goddess-journey/2025-10-04/
ATTACH;FMTTYPE=image/jpeg:https://thegoldenspace.com.my/wp-content/uploads/2025/05/beyond-the-goddess-journey.jpg
END:VEVENT
BEGIN:VEVENT
DTSTART;TZID=Asia/Kuala_Lumpur:20251010T090000
DTEND;TZID=Asia/Kuala_Lumpur:20251010T180000
DTSTAMP:20260422T112251
CREATED:20220710T162439Z
LAST-MODIFIED:20250930T033059Z
UID:9841-1760086800-1760119200@thegoldenspace.com.my
SUMMARY:Goddess Wisdom Retreat L1
DESCRIPTION:This program has been specially crafted to bring focus to the sacred Feminine divinity within you. The energetic flow of the Universe is being reset\, encouraging you to reclaim your true Divine essence. Step into the power of your heart\, embrace the beauty of this new Earth rising before you. Emerge as a magnificent powerful Divine phoenix\, your physical form and your true Divine Self\, interwoven with love. \nBenefits:\n– Healing Lemuria Past Lives Karmic attributes\n– Re-balance the Divine Masculine and Feminine matrix\n– Innate Body Activation Through Womb Spiral Healing\n– Cosmic Lemurian healing & DNA activation \nLimited to 14 paxs only! \nDate: 28 – 30 Oct 2022\nTime: 3 Days\nMember Price: None\nPromo Package: RM3188 (Super Early Bird – 28th Aug) / RM3588 (Early Bird – 28th Sept)\nNormal Price: RM4588 (not incl SST 6%) \nVenue: Villa Nadiah\nLocation:  20348\, Kampung Cheringin\, Janda Baik\, Bentong \, Pahang 28750 \, Malaysia \nPractitioner: Beatrice Lee\n			\n				Make a Reservation Now!
URL:https://thegoldenspace.com.my/product/goddess-wisdom-retreat-l1/
ATTACH;FMTTYPE=image/jpeg:https://thegoldenspace.com.my/wp-content/uploads/2022/07/goddess-wisdom-l1-2025-sold-out.jpg
END:VEVENT
BEGIN:VEVENT
DTSTART;TZID=Asia/Kuala_Lumpur:20251011T090000
DTEND;TZID=Asia/Kuala_Lumpur:20251011T180000
DTSTAMP:20260422T112251
CREATED:20250930T033157Z
LAST-MODIFIED:20250930T033219Z
UID:19573-1760173200-1760205600@thegoldenspace.com.my
SUMMARY:Goddess Wisdom Retreat L1
DESCRIPTION:Home  /  Workshop  /  The Shamanic Passage – Package of 3 Classes\n				\n			\n			\n				\n				\n				\n				\n			\n				\n				\n				\n				\n				\n				\n				\n				\n				\n				\n				\n				\n				\n					\n	Sale!\n	\n	\n			\n\n\n				\n			\n			\n				\n				\n				\n				\n				\n				\n				\n				\n				\n				\n				\n				\n					\n		The Shamanic Passage – Package of 3 Classes\n				\n			\n				\n				\n				\n				\n				\n				\n				\n					RM540.00 Original price was: RM540.00.RM450.00Current price is: RM450.00. + SST 8% \n\n				\n			\n				\n				\n				\n				\n				\n				\n				\n					\n	\n	\n		\n		\n		The Shamanic Passage – Package of 3 Classes quantity\n	\n	\n\n		Add to cart\n\n			\n\n	\n\n				\n			\n				\n				\n				\n				\n				\n				\n				\n					\n\n	\n	\n	Category: Workshop\n	\n	\n\n\n				\n			\n				\n				\n				\n				\n				 \n			\n				\n				\n				\n				\n				DESCRIPTION\n			\n				\n				\n				\n				\n				This program has been specially crafted to bring focus to the sacred Feminine divinity within you. The energetic flow of the Universe is being reset\, encouraging you to reclaim your true Divine essence. Step into the power of your heart\, embrace the beauty of this new Earth rising before you. Emerge as a magnificent powerful Divine phoenix\, your physical form and your true Divine Self\, interwoven with love. \nBenefits:\n– Embody your divine feminine power through the alchemy of the womb\n– Enhance your intuitive clarity and soul guidance\n– Gently release past life and ancestral karmic patterns\n– Activate crystalline DNA codes by ancient Lemurian rememberance \nLimited to 14 paxs only! \nDate: 10 – 12 Oct 2025\nTime: 3 Days\nMember Price: None\nPromo Package: RM3\,588* (Early Bird by 31 Aug 2025)\nNormal Price: RM4\,588* (not incl SST 6%) \nVenue: Villa Nadiah\nLocation:  20348\, Kampung Cheringin\, Janda Baik\, Bentong \, Pahang 28750 \, Malaysia \nPractitioner: Beatrice Lee \n*Not included SST 8%
URL:https://thegoldenspace.com.my/product/goddess-wisdom-retreat-l1/
ATTACH;FMTTYPE=image/jpeg:https://thegoldenspace.com.my/wp-content/uploads/2022/07/goddess-wisdom-l1-2025-sold-out.jpg
END:VEVENT
BEGIN:VEVENT
DTSTART;TZID=Asia/Kuala_Lumpur:20251011T110000
DTEND;TZID=Asia/Kuala_Lumpur:20251011T120000
DTSTAMP:20260422T112252
CREATED:20250729T151023Z
LAST-MODIFIED:20251228T092334Z
UID:19262-1760180400-1760184000@thegoldenspace.com.my
SUMMARY:Listening to Your Body Wisdom (Onsite)
DESCRIPTION:Home  /  Workshop  /  The Shamanic Passage – Package of 3 Classes\n				\n			\n			\n				\n				\n				\n				\n			\n				\n				\n				\n				\n				\n				\n				\n				\n				\n				\n				\n				\n				\n					\n	Sale!\n	\n	\n			\n\n\n				\n			\n			\n				\n				\n				\n				\n				\n				\n				\n				\n				\n				\n				\n				\n					\n		The Shamanic Passage – Package of 3 Classes\n				\n			\n				\n				\n				\n				\n				\n				\n				\n					RM540.00 Original price was: RM540.00.RM450.00Current price is: RM450.00. + SST 8% \n\n				\n			\n				\n				\n				\n				\n				\n				\n				\n					\n	\n	\n		\n		\n		The Shamanic Passage – Package of 3 Classes quantity\n	\n	\n\n		Add to cart\n\n			\n\n	\n\n				\n			\n				\n				\n				\n				\n				\n				\n				\n					\n\n	\n	\n	Category: Workshop\n	\n	\n\n\n				\n			\n				\n				\n				\n				\n				 \n			\n			\n				\n				\n				\n				\n			\n				\n				\n				\n				\n				\n				\n			\n				\n				\n				\n				\n				\n				\n				\n				\n				\n				DESCRIPTION\n			\n				\n				\n				\n				\n				Venue: Onsite\nTime: 11am – 12pm \nYour body holds deep wisdom that often goes unnoticed. In this session\, learn to slow down\, listen\, and understand the signals your body sends. By reconnecting\, you’ll rediscover balance and honor your body as a trusted partner in living a healthier\, more harmonious life. \nBenefits: \n\nDevelop deeper self-awareness and trust in your body\nImprove vitality and energy balance\nCultivate appreciation for your physical being\n\nPractitioner: Teoh Yeong Keait
URL:https://thegoldenspace.com.my/product/listening-to-your-body-wisdom/
LOCATION:Onsite
ATTACH;FMTTYPE=image/jpeg:https://thegoldenspace.com.my/wp-content/uploads/2025/07/listening-to-body-wisdom.jpg
END:VEVENT
BEGIN:VEVENT
DTSTART;TZID=Asia/Kuala_Lumpur:20251012T090000
DTEND;TZID=Asia/Kuala_Lumpur:20251012T180000
DTSTAMP:20260422T112252
CREATED:20250930T033220Z
LAST-MODIFIED:20250930T033246Z
UID:19575-1760259600-1760292000@thegoldenspace.com.my
SUMMARY:Goddess Wisdom Retreat L1
DESCRIPTION:Home  /  Workshop  /  The Shamanic Passage – Package of 3 Classes\n				\n			\n			\n				\n				\n				\n				\n			\n				\n				\n				\n				\n				\n				\n				\n				\n				\n				\n				\n				\n				\n					\n	Sale!\n	\n	\n			\n\n\n				\n			\n			\n				\n				\n				\n				\n				\n				\n				\n				\n				\n				\n				\n				\n					\n		The Shamanic Passage – Package of 3 Classes\n				\n			\n				\n				\n				\n				\n				\n				\n				\n					RM540.00 Original price was: RM540.00.RM450.00Current price is: RM450.00. + SST 8% \n\n				\n			\n				\n				\n				\n				\n				\n				\n				\n					\n	\n	\n		\n		\n		The Shamanic Passage – Package of 3 Classes quantity\n	\n	\n\n		Add to cart\n\n			\n\n	\n\n				\n			\n				\n				\n				\n				\n				\n				\n				\n					\n\n	\n	\n	Category: Workshop\n	\n	\n\n\n				\n			\n				\n				\n				\n				\n				 \n			\n				\n				\n				\n				\n				DESCRIPTION\n			\n				\n				\n				\n				\n				This program has been specially crafted to bring focus to the sacred Feminine divinity within you. The energetic flow of the Universe is being reset\, encouraging you to reclaim your true Divine essence. Step into the power of your heart\, embrace the beauty of this new Earth rising before you. Emerge as a magnificent powerful Divine phoenix\, your physical form and your true Divine Self\, interwoven with love. \nBenefits:\n– Embody your divine feminine power through the alchemy of the womb\n– Enhance your intuitive clarity and soul guidance\n– Gently release past life and ancestral karmic patterns\n– Activate crystalline DNA codes by ancient Lemurian rememberance \nLimited to 14 paxs only! \nDate: 10 – 12 Oct 2025\nTime: 3 Days\nMember Price: None\nPromo Package: RM3\,588* (Early Bird by 31 Aug 2025)\nNormal Price: RM4\,588* (not incl SST 6%) \nVenue: Villa Nadiah\nLocation:  20348\, Kampung Cheringin\, Janda Baik\, Bentong \, Pahang 28750 \, Malaysia \nPractitioner: Beatrice Lee \n*Not included SST 8%
URL:https://thegoldenspace.com.my/product/goddess-wisdom-retreat-l1/
ATTACH;FMTTYPE=image/jpeg:https://thegoldenspace.com.my/wp-content/uploads/2022/07/goddess-wisdom-l1-2025-sold-out.jpg
END:VEVENT
BEGIN:VEVENT
DTSTART;TZID=Asia/Kuala_Lumpur:20251018T140000
DTEND;TZID=Asia/Kuala_Lumpur:20251018T150000
DTSTAMP:20260422T112252
CREATED:20250706T194505Z
LAST-MODIFIED:20260205T130928Z
UID:18983-1760796000-1760799600@thegoldenspace.com.my
SUMMARY:Let’s Talk About Love (Onsite)
DESCRIPTION:Sale!\n	\n	\n			\n\n\n				\n			\n			\n				\n				\n				\n				\n				\n				\n				\n				\n				\n				\n				\n				\n					\n		The Shamanic Passage – Package of 3 Classes\n				\n			\n				\n				\n				\n				\n				\n				\n				\n					RM540.00 Original price was: RM540.00.RM450.00Current price is: RM450.00. + SST 8% \n\n				\n			\n				\n				\n				\n				\n				\n				\n				\n					\n	\n	\n		\n		\n		The Shamanic Passage – Package of 3 Classes quantity\n	\n	\n\n		Add to cart\n\n			\n\n	\n\n				\n			\n				\n				\n				\n				\n				 \n			\n				\n				\n				\n				\n				DESCRIPTION \n			\n				\n				\n				\n				\n				Venue: Onsite (The Golden Space Centre)Date: 28 Feb 2025Time: 2pm – 3pm \nCalm Relationship Communication\nIf talking things through in your relationship does not always feel easy\, you are not alone. Many couples care deeply for each other yet feel misunderstood. This talk offers a fresh perspective by understanding your emotions and reactions\, helping conversations become calmer\, clearer\, and more respectful so that your relationship can grow together in a supportive and loving way. \nKey Takeaways:1️⃣ Calm communication is possible2️⃣ Understand why conflicts repeat \nSpeakers: Stephanie ngu & Sky KhoHost: Christina Teng \n			\n				\n				\n				\n				\n				A little kindness goes a long way — 50% of proceeds help One Hope Charity & Welfare \nFee: RM88 nett\, RM128 nett (per couple)
URL:https://thegoldenspace.com.my/product/lets-talk-about-love/
ATTACH;FMTTYPE=image/jpeg:https://thegoldenspace.com.my/wp-content/uploads/2025/07/ltal-feb.jpg
END:VEVENT
BEGIN:VEVENT
DTSTART;TZID=Asia/Kuala_Lumpur:20251025T110000
DTEND;TZID=Asia/Kuala_Lumpur:20251025T120000
DTSTAMP:20260422T112252
CREATED:20240228T094805Z
LAST-MODIFIED:20251228T095753Z
UID:19346-1761390000-1761393600@thegoldenspace.com.my
SUMMARY:Declutter Your Mind (Online)
DESCRIPTION:Home  /  Workshop  /  The Shamanic Passage – Package of 3 Classes\n				\n			\n			\n				\n				\n				\n				\n			\n				\n				\n				\n				\n				\n				\n				\n				\n				\n				\n				\n				\n				\n					\n	Sale!\n	\n	\n			\n\n\n				\n			\n			\n				\n				\n				\n				\n				\n				\n				\n				\n				\n				\n				\n				\n					\n		The Shamanic Passage – Package of 3 Classes\n				\n			\n				\n				\n				\n				\n				\n				\n				\n					RM540.00 Original price was: RM540.00.RM450.00Current price is: RM450.00. + SST 8% \n\n				\n			\n				\n				\n				\n				\n				\n				\n				\n					\n	\n	\n		\n		\n		The Shamanic Passage – Package of 3 Classes quantity\n	\n	\n\n		Add to cart\n\n			\n\n	\n\n				\n			\n				\n				\n				\n				\n				\n				\n				\n					\n\n	\n	\n	Category: Workshop\n	\n	\n\n\n				\n			\n				\n				\n				\n				\n				 \n			\n			\n				\n				\n				\n				\n			\n				\n				\n				\n				\n				\n				\n			\n				\n				\n				\n				\n				\n				\n				\n				\n				\n				DESCRIPTION\n			\n				\n				\n				\n				\n				Venue: Online (Zoom)\nTime: 11am – 12pm \nHumans are thinking beings\, but too much thinking does not help you achieve inner peace. Mental clutter is tiring\, disturbing your mental/emotional/physical balance\, productivity and power to move forward. This class may help you understand what causes your mental clutter\, learn practical exercises to declutter your mind and discover your priority. \nBenefits: \n\nImprove your mental/emotional/physical balance\nImprove your productivity\nGain the power to concentrate and achieve your goal\n\nPractitioner: Yoshimi Janus
URL:https://thegoldenspace.com.my/product/declutter-your-mind/
LOCATION:Online
ATTACH;FMTTYPE=image/jpeg:https://thegoldenspace.com.my/wp-content/uploads/2024/02/Declutter-your-mind.jpg
END:VEVENT
BEGIN:VEVENT
DTSTART;TZID=Asia/Kuala_Lumpur:20251029T090000
DTEND;TZID=Asia/Kuala_Lumpur:20251029T180000
DTSTAMP:20260422T112252
CREATED:20241021T115739Z
LAST-MODIFIED:20241028T104108Z
UID:16850-1761728400-1761760800@thegoldenspace.com.my
SUMMARY:Goddess Wisdom Retreat L4: Egypt (Onsite)
DESCRIPTION:Venue: Egypt (Onsite)Date: 29 Oct – 08 Nov 2025 \nGoddess Wisdom Retreat L4 – EGYPT ~ Land of the GODS \nEgypt is a land steeped in ancient mysticism\, where the sacred and the eternal intertwine. Its timeless landscapes—marked by the majestic pyramids\, the serene flow of the Nile\, and the awe-inspiring temples—resonate with powerful healing energies. Here\, beneath the gaze of the Sphinx and the blessings of deities like Isis and Ra\, seekers are invited to awaken their inner divinity\, release old wounds\, and experience profound spiritual transformation. \nThe ancient wisdom and celestial geometry of Egypt offer a rare and beautiful gateway to deep healing\, renewal\, and soul alignment. \nSpiritual Awakening: Awaken your inner essence by connecting with ancient sacred energies to inspire deeper spiritual evolution \nHealing and Transformation: Align your soul through powerful healing energies and ancient wisdom embedded in Egypt’s sacred sites \nConnection to Ancient Wisdom: Access celestial patterns and ancient mysticism\, unlocking esoteric knowledge that guides renewal and alignment with your higher self. \nFee: RM23\,380* (Early Bird By 15 July 2025) / RM26\,880* (Normal Price)Pax: 10 Only \n*Not Included SST 8%**Deposit of RM3000 to book your seat (Non-Refundable) \n			\n				Make An Enquiry Now!
URL:https://thegoldenspace.com.my/event/goddess-wisdom-retreat-l4-egypt/
ATTACH;FMTTYPE=image/jpeg:https://thegoldenspace.com.my/wp-content/uploads/2024/10/goddess-retreat-egypt.jpg
END:VEVENT
BEGIN:VEVENT
DTSTART;TZID=Asia/Kuala_Lumpur:20251030T090000
DTEND;TZID=Asia/Kuala_Lumpur:20251030T180000
DTSTAMP:20260422T112252
CREATED:20241021T110635Z
LAST-MODIFIED:20241028T104118Z
UID:16818-1761814800-1761847200@thegoldenspace.com.my
SUMMARY:Goddess Wisdom Retreat L4: Egypt (Onsite)
DESCRIPTION:Venue: Egypt (Onsite)Date: 29 Oct – 08 Nov 2025 \nGoddess Wisdom Retreat L4 – EGYPT ~ Land of the GODS \nEgypt is a land steeped in ancient mysticism\, where the sacred and the eternal intertwine. Its timeless landscapes—marked by the majestic pyramids\, the serene flow of the Nile\, and the awe-inspiring temples—resonate with powerful healing energies. Here\, beneath the gaze of the Sphinx and the blessings of deities like Isis and Ra\, seekers are invited to awaken their inner divinity\, release old wounds\, and experience profound spiritual transformation. \nThe ancient wisdom and celestial geometry of Egypt offer a rare and beautiful gateway to deep healing\, renewal\, and soul alignment. \nSpiritual Awakening: Awaken your inner essence by connecting with ancient sacred energies to inspire deeper spiritual evolution \nHealing and Transformation: Align your soul through powerful healing energies and ancient wisdom embedded in Egypt’s sacred sites \nConnection to Ancient Wisdom: Access celestial patterns and ancient mysticism\, unlocking esoteric knowledge that guides renewal and alignment with your higher self. \nFee: RM23\,380* (Early Bird By 15 July 2025) / RM26\,880* (Normal Price)Pax: 10 Only \n*Not Included SST 8%**Deposit of RM3000 to book your seat (Non-Refundable) \n			\n				Make An Enquiry Now!
URL:https://thegoldenspace.com.my/event/goddess-wisdom-retreat-l4-egypt-1/
ATTACH;FMTTYPE=image/jpeg:https://thegoldenspace.com.my/wp-content/uploads/2024/10/goddess-retreat-egypt.jpg
END:VEVENT
BEGIN:VEVENT
DTSTART;TZID=Asia/Kuala_Lumpur:20251031T090000
DTEND;TZID=Asia/Kuala_Lumpur:20251031T180000
DTSTAMP:20260422T112252
CREATED:20241021T115009Z
LAST-MODIFIED:20241028T104129Z
UID:16830-1761901200-1761933600@thegoldenspace.com.my
SUMMARY:Goddess Wisdom Retreat L4: Egypt (Onsite)
DESCRIPTION:Venue: Egypt (Onsite)Date: 29 Oct – 08 Nov 2025 \nGoddess Wisdom Retreat L4 – EGYPT ~ Land of the GODS \nEgypt is a land steeped in ancient mysticism\, where the sacred and the eternal intertwine. Its timeless landscapes—marked by the majestic pyramids\, the serene flow of the Nile\, and the awe-inspiring temples—resonate with powerful healing energies. Here\, beneath the gaze of the Sphinx and the blessings of deities like Isis and Ra\, seekers are invited to awaken their inner divinity\, release old wounds\, and experience profound spiritual transformation. \nThe ancient wisdom and celestial geometry of Egypt offer a rare and beautiful gateway to deep healing\, renewal\, and soul alignment. \nSpiritual Awakening: Awaken your inner essence by connecting with ancient sacred energies to inspire deeper spiritual evolution \nHealing and Transformation: Align your soul through powerful healing energies and ancient wisdom embedded in Egypt’s sacred sites \nConnection to Ancient Wisdom: Access celestial patterns and ancient mysticism\, unlocking esoteric knowledge that guides renewal and alignment with your higher self. \nFee: RM23\,380* (Early Bird By 15 July 2025) / RM26\,880* (Normal Price)Pax: 10 Only \n*Not Included SST 8%**Deposit of RM3000 to book your seat (Non-Refundable) \n			\n				Make An Enquiry Now!
URL:https://thegoldenspace.com.my/event/goddess-wisdom-retreat-l4-egypt-2/
ATTACH;FMTTYPE=image/jpeg:https://thegoldenspace.com.my/wp-content/uploads/2024/10/goddess-retreat-egypt.jpg
END:VEVENT
END:VCALENDAR