BEGIN:VCALENDAR
VERSION:2.0
PRODID:-//The Golden Space Malaysia - ECPv6.5.1.4//NONSGML v1.0//EN
CALSCALE:GREGORIAN
METHOD:PUBLISH
X-WR-CALNAME:The Golden Space Malaysia
X-ORIGINAL-URL:https://thegoldenspace.com.my
X-WR-CALDESC:Events for The Golden Space Malaysia
REFRESH-INTERVAL;VALUE=DURATION:PT1H
X-Robots-Tag:noindex
X-PUBLISHED-TTL:PT1H
BEGIN:VTIMEZONE
TZID:Asia/Kuala_Lumpur
BEGIN:STANDARD
TZOFFSETFROM:+0800
TZOFFSETTO:+0800
TZNAME:+08
DTSTART:20250101T000000
END:STANDARD
END:VTIMEZONE
BEGIN:VEVENT
DTSTART;TZID=Asia/Kuala_Lumpur:20250722T200000
DTEND;TZID=Asia/Kuala_Lumpur:20250722T210000
DTSTAMP:20260423T095235
CREATED:20250320T141418Z
LAST-MODIFIED:20250708T184040Z
UID:18821-1753214400-1753218000@thegoldenspace.com.my
SUMMARY:Loving The Skin You're In (Onsite)
DESCRIPTION:Venue: Onsite\nTime: 8pm – 9pm \nMany women struggle with self-image\, feeling ‘not good enough.’ This session helps you love yourself fully\, inside and out. \nBenefits: \n\nShift from self-criticism to self-love\nBuild confidence in your body and mind\nFeel empowered in your own skin\n\nPractitioner: Christina Teng\n			\n				Make a Reservation Now!
URL:https://thegoldenspace.com.my/event/loving-the-skin-you-are-in/2025-07-22/
LOCATION:Onsite
ATTACH;FMTTYPE=image/jpeg:https://thegoldenspace.com.my/wp-content/uploads/2024/04/embrace-your-body.jpg
END:VEVENT
BEGIN:VEVENT
DTSTART;TZID=Asia/Kuala_Lumpur:20250727T110000
DTEND;TZID=Asia/Kuala_Lumpur:20250727T170000
DTSTAMP:20260423T095235
CREATED:20250609T102541Z
LAST-MODIFIED:20250609T102715Z
UID:18655-1753614000-1753635600@thegoldenspace.com.my
SUMMARY:Nurture the Child\, Heal the Womb (Onsite)
DESCRIPTION:Venue: Onsite (The Golden Space Centre)Date: 27 July 2025 (Sunday)Time: 11am – 5pm \nWhere Your Inner Child Meets the Wisdom of the Womb \nNurture the Child\, Heal the womb invites us to lovingly reconnect with our inner child to awaken deep womb healing. By tending to childhood wounds with compassion\, we release emotional imprints held in the womb\, restoring its power\, softness\, and sacred wisdom. This gentle inner work nurtures emotional wholeness and deeper connection to self \n3 Key Benefits: \n\nHeal childhood wounds and release emotional imprints\nLiberate ancestral imprints held in the womb and lineage\nAwaken the womb as a sacred gateway to deep inner wisdom and remembrance.\n\nEarly Bird Price: RM488Normal Price: RM699 \nLimit to 20 pax only \nPractitioner: Beatrice Lee \n			\n				Make Your Reservation Now!
URL:https://thegoldenspace.com.my/event/nurture-the-child-heal-the-womb/
ATTACH;FMTTYPE=image/jpeg:https://thegoldenspace.com.my/wp-content/uploads/2025/06/nurture-the-child-heal-the-womb.jpg
END:VEVENT
END:VCALENDAR