BEGIN:VCALENDAR
VERSION:2.0
PRODID:-//The Golden Space Malaysia - ECPv6.5.1.4//NONSGML v1.0//EN
CALSCALE:GREGORIAN
METHOD:PUBLISH
X-WR-CALNAME:The Golden Space Malaysia
X-ORIGINAL-URL:https://thegoldenspace.com.my
X-WR-CALDESC:Events for The Golden Space Malaysia
REFRESH-INTERVAL;VALUE=DURATION:PT1H
X-Robots-Tag:noindex
X-PUBLISHED-TTL:PT1H
BEGIN:VTIMEZONE
TZID:Asia/Kuala_Lumpur
BEGIN:STANDARD
TZOFFSETFROM:+0800
TZOFFSETTO:+0800
TZNAME:+08
DTSTART:20250101T000000
END:STANDARD
END:VTIMEZONE
BEGIN:VEVENT
DTSTART;TZID=Asia/Kuala_Lumpur:20250809T110000
DTEND;TZID=Asia/Kuala_Lumpur:20250809T120000
DTSTAMP:20260422T124420
CREATED:20240228T094805Z
LAST-MODIFIED:20251228T095751Z
UID:14754-1754737200-1754740800@thegoldenspace.com.my
SUMMARY:Declutter Your Mind (Online)
DESCRIPTION:Home  /  Workshop  /  The Shamanic Passage – Package of 3 Classes\n				\n			\n			\n				\n				\n				\n				\n			\n				\n				\n				\n				\n				\n				\n				\n				\n				\n				\n				\n				\n				\n					\n	Sale!\n	\n	\n			\n\n\n				\n			\n			\n				\n				\n				\n				\n				\n				\n				\n				\n				\n				\n				\n				\n					\n		The Shamanic Passage – Package of 3 Classes\n				\n			\n				\n				\n				\n				\n				\n				\n				\n					RM540.00 Original price was: RM540.00.RM450.00Current price is: RM450.00. + SST 8% \n\n				\n			\n				\n				\n				\n				\n				\n				\n				\n					\n	\n	\n		\n		\n		The Shamanic Passage – Package of 3 Classes quantity\n	\n	\n\n		Add to cart\n\n			\n\n	\n\n				\n			\n				\n				\n				\n				\n				\n				\n				\n					\n\n	\n	\n	Category: Workshop\n	\n	\n\n\n				\n			\n				\n				\n				\n				\n				 \n			\n			\n				\n				\n				\n				\n			\n				\n				\n				\n				\n				\n				\n			\n				\n				\n				\n				\n				\n				\n				\n				\n				\n				DESCRIPTION\n			\n				\n				\n				\n				\n				Venue: Online (Zoom)\nTime: 11am – 12pm \nHumans are thinking beings\, but too much thinking does not help you achieve inner peace. Mental clutter is tiring\, disturbing your mental/emotional/physical balance\, productivity and power to move forward. This class may help you understand what causes your mental clutter\, learn practical exercises to declutter your mind and discover your priority. \nBenefits: \n\nImprove your mental/emotional/physical balance\nImprove your productivity\nGain the power to concentrate and achieve your goal\n\nPractitioner: Yoshimi Janus
URL:https://thegoldenspace.com.my/product/declutter-your-mind/
LOCATION:Online
ATTACH;FMTTYPE=image/jpeg:https://thegoldenspace.com.my/wp-content/uploads/2024/02/Declutter-your-mind.jpg
END:VEVENT
BEGIN:VEVENT
DTSTART;TZID=Asia/Kuala_Lumpur:20250809T140000
DTEND;TZID=Asia/Kuala_Lumpur:20250809T160000
DTSTAMP:20260422T124421
CREATED:20250515T173302Z
LAST-MODIFIED:20250515T173302Z
UID:19085-1754748000-1754755200@thegoldenspace.com.my
SUMMARY:Beyond the Goddess Journey
DESCRIPTION:Venue: OnsiteTime: 2pm – 4pmClasses Dates: 09 Aug | 06 Sep | 04 Oct | 22 Nov \nBeyond The Goddess Wisdom Retreat \n2-hour post-retreat women’s workshop to support realignment\, deepen the purpose\, and ignite continued embodiment of the Goddess Path. The flow is sacred\, intentional\, and empowering—offering space for integration and rising as awakened divine feminine leaders. \nBenefits: \n\nRealign with your inner truth and divine essence\nRise into your feminine power with clarity and confidence\nRadiate light and inspire transformation in others\n\nPer Class: RM88*Package of 3: RM264* (Free 1 Class)*Excl 8% SST**Limited to 15 paxs only***Pre-requisite: For Goddess Wisdom Retreat graduates only \nPractitioner: Beatrice Lee \n			\n				\n				\n				\n				\n				*All Beyond the Goddess Journey Classes will be conducted onsite* \nWe have Package of 3 (Free 1 Class) and Single Class options as below: \n			\n			\n				\n				\n				\n				\n			\n				\n				\n				\n				\n				\n				\n				\n				\n				\n				\n				Package of 3 (Free 1 Class): RM264.00 + SST 8% \n			\n				Make Your Reservation Now!\n			\n			\n				\n				\n				\n				\n				\n				\n				\n				\n				\n				Single Class: RM88.00 + SST 8% \n			\n				Make Your Reservation Now!
URL:https://thegoldenspace.com.my/event/beyond-the-goddess-journey/2025-08-09/
ATTACH;FMTTYPE=image/jpeg:https://thegoldenspace.com.my/wp-content/uploads/2025/05/beyond-the-goddess-journey.jpg
END:VEVENT
BEGIN:VEVENT
DTSTART;TZID=Asia/Kuala_Lumpur:20250810T200000
DTEND;TZID=Asia/Kuala_Lumpur:20250810T210000
DTSTAMP:20260422T124421
CREATED:20250320T141816Z
LAST-MODIFIED:20250918T152617Z
UID:17908-1754856000-1754859600@thegoldenspace.com.my
SUMMARY:Rediscover Your Worth (Onsite)
DESCRIPTION:Home  /  Workshop  /  The Shamanic Passage – Package of 3 Classes\n				\n			\n			\n				\n				\n				\n				\n			\n				\n				\n				\n				\n				\n				\n				\n				\n				\n				\n				\n				\n				\n					\n	Sale!\n	\n	\n			\n\n\n				\n			\n			\n				\n				\n				\n				\n				\n				\n				\n				\n				\n				\n				\n				\n					\n		The Shamanic Passage – Package of 3 Classes\n				\n			\n				\n				\n				\n				\n				\n				\n				\n					RM540.00 Original price was: RM540.00.RM450.00Current price is: RM450.00. + SST 8% \n\n				\n			\n				\n				\n				\n				\n				\n				\n				\n					\n	\n	\n		\n		\n		The Shamanic Passage – Package of 3 Classes quantity\n	\n	\n\n		Add to cart\n\n			\n\n	\n\n				\n			\n				\n				\n				\n				\n				\n				\n				\n					\n\n	\n	\n	Category: Workshop\n	\n	\n\n\n				\n			\n				\n				\n				\n				\n				 \n			\n			\n				\n				\n				\n				\n			\n				\n				\n				\n				\n				\n				\n			\n				\n				\n				\n				\n				\n				\n				\n				\n				\n				DESCRIPTION\n			\n				\n				\n				\n				\n				Venue: OnsiteDate (Time): 06 Sept 2025 (11am – 12pm) | 07 Oct 2025 (8pm – 9pm) \nDo you feel lost or stuck? This session helps you reconnect with your inner power and recognize your true value. \nBenefits: \n\nShift from self-doubt to self-worth\nGain clarity in your life’s direction\nStep into your power with confidence\n\nPractitioner: Moisy Moi
URL:https://thegoldenspace.com.my/product/rediscover-your-worth/
LOCATION:Onsite
ATTACH;FMTTYPE=image/jpeg:https://thegoldenspace.com.my/wp-content/uploads/2024/02/Redefine-Your-Self.jpg
END:VEVENT
END:VCALENDAR