BEGIN:VCALENDAR
VERSION:2.0
PRODID:-//The Golden Space Malaysia - ECPv6.5.1.4//NONSGML v1.0//EN
CALSCALE:GREGORIAN
METHOD:PUBLISH
X-ORIGINAL-URL:https://thegoldenspace.com.my
X-WR-CALDESC:Events for The Golden Space Malaysia
REFRESH-INTERVAL;VALUE=DURATION:PT1H
X-Robots-Tag:noindex
X-PUBLISHED-TTL:PT1H
BEGIN:VTIMEZONE
TZID:Asia/Kuala_Lumpur
BEGIN:STANDARD
TZOFFSETFROM:+0800
TZOFFSETTO:+0800
TZNAME:+08
DTSTART:20250101T000000
END:STANDARD
END:VTIMEZONE
BEGIN:VEVENT
DTSTART;TZID=Asia/Kuala_Lumpur:20250817T073000
DTEND;TZID=Asia/Kuala_Lumpur:20250817T090000
DTSTAMP:20260423T160628
CREATED:20250802T163814Z
LAST-MODIFIED:20250802T164909Z
UID:19174-1755415800-1755421200@thegoldenspace.com.my
SUMMARY:When Nature Speaks – August Edition (Onsite)
DESCRIPTION:Theme: The Roots Know the Way\nExperience: Gratitude in Nature\nDate: 17.08.2025\nTime: 07:30am – 09:00am\nLocation: Padang Kota Damansara (Onsite)\nPractitioner: Saida Nadziah \nThis Month’s Theme:\nIn this August session\, themed “The Roots Know the Way”\, we honour the wisdom of nature and the land we call home. \nIn conjunction with Malaysia’s National Day celebration on 31st August\, this session will guide you into a deeper state of gratitude — for the earth that sustains us\, the roots that anchor us\, and the land we live on. \nLed by Saida Nadziah\, this beginner-friendly session invites you to connect with nature through grounding practices and mindful presence. As you attune to the quiet strength of the roots beneath you\, you’ll cultivate heartfelt gratitude and a renewed sense of connection to the world around you. \n\nThrough This Experience\, You’ll:\n• Reconnect with the natural world and feel supported by the land beneath you\n• Reignite gratitude for the many ways nature sustains and provides\n• Relax into a deeper sense of peace\, clarity\, and belonging \nThis session is suitable for all levels — no prior experience needed. \n\nEnergy Exchange: RM68 per session\nWe thank you for your contribution\, which supports our facilitators\, curated experiences\, and DBKL event licence. \nRest assured that the energetic value we commit to will leave you feeling grounded\, lighter\, and emotionally uplifted. \n*For August’s session: Part of your contribution will be donated to Gibbon Conservation Society.💖 \n\n📌 Limited slots available. Reserve your space now and step into a morning of gratitude\, presence\, and quiet celebration.\n			\n				Reserve Your Spot Now
URL:https://thegoldenspace.com.my/event/when-nature-speaks-august-edition/
ATTACH;FMTTYPE=image/jpeg:https://thegoldenspace.com.my/wp-content/uploads/2025/08/WHEN_NATURE_SPEAKS_Aug_2025.jpg
END:VEVENT
END:VCALENDAR