BEGIN:VCALENDAR
VERSION:2.0
PRODID:-//The Golden Space Malaysia - ECPv6.5.1.4//NONSGML v1.0//EN
CALSCALE:GREGORIAN
METHOD:PUBLISH
X-ORIGINAL-URL:https://thegoldenspace.com.my
X-WR-CALDESC:Events for The Golden Space Malaysia
REFRESH-INTERVAL;VALUE=DURATION:PT1H
X-Robots-Tag:noindex
X-PUBLISHED-TTL:PT1H
BEGIN:VTIMEZONE
TZID:Asia/Kuala_Lumpur
BEGIN:STANDARD
TZOFFSETFROM:+0800
TZOFFSETTO:+0800
TZNAME:+08
DTSTART:20250101T000000
END:STANDARD
END:VTIMEZONE
BEGIN:VEVENT
DTSTART;TZID=Asia/Kuala_Lumpur:20251025T110000
DTEND;TZID=Asia/Kuala_Lumpur:20251025T120000
DTSTAMP:20260422T015953
CREATED:20240228T094805Z
LAST-MODIFIED:20251228T095753Z
UID:19346-1761390000-1761393600@thegoldenspace.com.my
SUMMARY:Declutter Your Mind (Online)
DESCRIPTION:Home  /  Workshop  /  The Shamanic Passage – Package of 3 Classes\n				\n			\n			\n				\n				\n				\n				\n			\n				\n				\n				\n				\n				\n				\n				\n				\n				\n				\n				\n				\n				\n					\n	Sale!\n	\n	\n			\n\n\n				\n			\n			\n				\n				\n				\n				\n				\n				\n				\n				\n				\n				\n				\n				\n					\n		The Shamanic Passage – Package of 3 Classes\n				\n			\n				\n				\n				\n				\n				\n				\n				\n					RM540.00 Original price was: RM540.00.RM450.00Current price is: RM450.00. + SST 8% \n\n				\n			\n				\n				\n				\n				\n				\n				\n				\n					\n	\n	\n		\n		\n		The Shamanic Passage – Package of 3 Classes quantity\n	\n	\n\n		Add to cart\n\n			\n\n	\n\n				\n			\n				\n				\n				\n				\n				\n				\n				\n					\n\n	\n	\n	Category: Workshop\n	\n	\n\n\n				\n			\n				\n				\n				\n				\n				 \n			\n			\n				\n				\n				\n				\n			\n				\n				\n				\n				\n				\n				\n			\n				\n				\n				\n				\n				\n				\n				\n				\n				\n				DESCRIPTION\n			\n				\n				\n				\n				\n				Venue: Online (Zoom)\nTime: 11am – 12pm \nHumans are thinking beings\, but too much thinking does not help you achieve inner peace. Mental clutter is tiring\, disturbing your mental/emotional/physical balance\, productivity and power to move forward. This class may help you understand what causes your mental clutter\, learn practical exercises to declutter your mind and discover your priority. \nBenefits: \n\nImprove your mental/emotional/physical balance\nImprove your productivity\nGain the power to concentrate and achieve your goal\n\nPractitioner: Yoshimi Janus
URL:https://thegoldenspace.com.my/product/declutter-your-mind/
LOCATION:Online
ATTACH;FMTTYPE=image/jpeg:https://thegoldenspace.com.my/wp-content/uploads/2024/02/Declutter-your-mind.jpg
END:VEVENT
END:VCALENDAR