BEGIN:VCALENDAR
VERSION:2.0
PRODID:-//The Golden Space Malaysia - ECPv6.5.1.4//NONSGML v1.0//EN
CALSCALE:GREGORIAN
METHOD:PUBLISH
X-ORIGINAL-URL:https://thegoldenspace.com.my
X-WR-CALDESC:Events for The Golden Space Malaysia
REFRESH-INTERVAL;VALUE=DURATION:PT1H
X-Robots-Tag:noindex
X-PUBLISHED-TTL:PT1H
BEGIN:VTIMEZONE
TZID:Asia/Kuala_Lumpur
BEGIN:STANDARD
TZOFFSETFROM:+0800
TZOFFSETTO:+0800
TZNAME:+08
DTSTART:20250101T000000
END:STANDARD
END:VTIMEZONE
BEGIN:VEVENT
DTSTART;TZID=Asia/Kuala_Lumpur:20251122T110000
DTEND;TZID=Asia/Kuala_Lumpur:20251122T120000
DTSTAMP:20260422T100247
CREATED:20240516T112825Z
LAST-MODIFIED:20251228T093949Z
UID:15896-1763809200-1763812800@thegoldenspace.com.my
SUMMARY:Stress-Free Moment (Online)
DESCRIPTION:Home  /  Workshop  /  The Shamanic Passage – Package of 3 Classes\n				\n			\n			\n				\n				\n				\n				\n			\n				\n				\n				\n				\n				\n				\n				\n				\n				\n				\n				\n				\n				\n					\n	Sale!\n	\n	\n			\n\n\n				\n			\n			\n				\n				\n				\n				\n				\n				\n				\n				\n				\n				\n				\n				\n					\n		The Shamanic Passage – Package of 3 Classes\n				\n			\n				\n				\n				\n				\n				\n				\n				\n					RM540.00 Original price was: RM540.00.RM450.00Current price is: RM450.00. + SST 8% \n\n				\n			\n				\n				\n				\n				\n				\n				\n				\n					\n	\n	\n		\n		\n		The Shamanic Passage – Package of 3 Classes quantity\n	\n	\n\n		Add to cart\n\n			\n\n	\n\n				\n			\n				\n				\n				\n				\n				\n				\n				\n					\n\n	\n	\n	Category: Workshop\n	\n	\n\n\n				\n			\n				\n				\n				\n				\n				 \n			\n			\n				\n				\n				\n				\n			\n				\n				\n				\n				\n				\n				\n			\n				\n				\n				\n				\n				\n				\n				\n				\n				\n				DESCRIPTION\n			\n				\n				\n				\n				\n				Venue: Online (Zoom)\nTime: 11am – 12pm \nThis session helps you develop a practice to rewire your response to stress triggers and strengthen your coping skills to manage difficult people or situations. All this while maintaining your composure (emotional balance). \nFind peace within\, fulfill your dreams and live happier and healthier. \nBenefits: \n\nUnderstand the effects of stress on your body\, mind and heart\nBuild a daily habit for better focus and clarity\nLearn techniques to release the stress and tension\nRestore calmness and peace within yourself\n\nPractitioner: Susee Rajaram
URL:https://thegoldenspace.com.my/product/stress-free-moment/
LOCATION:Online
ATTACH;FMTTYPE=image/jpeg:https://thegoldenspace.com.my/wp-content/uploads/2024/05/stress-free-moment.jpg
END:VEVENT
BEGIN:VEVENT
DTSTART;TZID=Asia/Kuala_Lumpur:20251122T140000
DTEND;TZID=Asia/Kuala_Lumpur:20251122T160000
DTSTAMP:20260422T100247
CREATED:20250515T173302Z
LAST-MODIFIED:20250717T100130Z
UID:18528-1763820000-1763827200@thegoldenspace.com.my
SUMMARY:Beyond the Goddess Journey
DESCRIPTION:Venue: OnsiteTime: 2pm – 4pmClasses Dates: 09 Aug | 06 Sep | 04 Oct | 22 Nov \nBeyond The Goddess Wisdom Retreat \n2-hour post-retreat women’s workshop to support realignment\, deepen the purpose\, and ignite continued embodiment of the Goddess Path. The flow is sacred\, intentional\, and empowering—offering space for integration and rising as awakened divine feminine leaders. \nBenefits: \n\nRealign with your inner truth and divine essence\nRise into your feminine power with clarity and confidence\nRadiate light and inspire transformation in others\n\nPer Class: RM88*Package of 3: RM264* (Free 1 Class)*Excl 8% SST**Limited to 15 paxs only***Pre-requisite: For Goddess Wisdom Retreat graduates only \nPractitioner: Beatrice Lee \n			\n				\n				\n				\n				\n				*All Beyond the Goddess Journey Classes will be conducted onsite* \nWe have Package of 3 (Free 1 Class) and Single Class options as below: \n			\n			\n				\n				\n				\n				\n			\n				\n				\n				\n				\n				\n				\n				\n				\n				\n				\n				Package of 3 (Free 1 Class): RM264.00 + SST 8% \n			\n				Make Your Reservation Now!\n			\n			\n				\n				\n				\n				\n				\n				\n				\n				\n				\n				Single Class: RM88.00 + SST 8% \n			\n				Make Your Reservation Now!
URL:https://thegoldenspace.com.my/event/beyond-the-goddess-journey/2025-11-22/
ATTACH;FMTTYPE=image/jpeg:https://thegoldenspace.com.my/wp-content/uploads/2025/05/beyond-the-goddess-journey.jpg
END:VEVENT
END:VCALENDAR