BEGIN:VCALENDAR
VERSION:2.0
PRODID:-//The Golden Space Malaysia - ECPv6.5.1.4//NONSGML v1.0//EN
CALSCALE:GREGORIAN
METHOD:PUBLISH
X-WR-CALNAME:The Golden Space Malaysia
X-ORIGINAL-URL:https://thegoldenspace.com.my
X-WR-CALDESC:Events for The Golden Space Malaysia
REFRESH-INTERVAL;VALUE=DURATION:PT1H
X-Robots-Tag:noindex
X-PUBLISHED-TTL:PT1H
BEGIN:VTIMEZONE
TZID:Asia/Kuala_Lumpur
BEGIN:STANDARD
TZOFFSETFROM:+0800
TZOFFSETTO:+0800
TZNAME:+08
DTSTART:20250101T000000
END:STANDARD
END:VTIMEZONE
BEGIN:VEVENT
DTSTART;TZID=Asia/Kuala_Lumpur:20251213T110000
DTEND;TZID=Asia/Kuala_Lumpur:20251213T120000
DTSTAMP:20260422T062532
CREATED:20240226T161731Z
LAST-MODIFIED:20251228T095024Z
UID:14622-1765623600-1765627200@thegoldenspace.com.my
SUMMARY:Clarity for Work & Life (Online)
DESCRIPTION:Home  /  Workshop  /  The Shamanic Passage – Package of 3 Classes\n				\n			\n			\n				\n				\n				\n				\n			\n				\n				\n				\n				\n				\n				\n				\n				\n				\n				\n				\n				\n				\n					\n	Sale!\n	\n	\n			\n\n\n				\n			\n			\n				\n				\n				\n				\n				\n				\n				\n				\n				\n				\n				\n				\n					\n		The Shamanic Passage – Package of 3 Classes\n				\n			\n				\n				\n				\n				\n				\n				\n				\n					RM540.00 Original price was: RM540.00.RM450.00Current price is: RM450.00. + SST 8% \n\n				\n			\n				\n				\n				\n				\n				\n				\n				\n					\n	\n	\n		\n		\n		The Shamanic Passage – Package of 3 Classes quantity\n	\n	\n\n		Add to cart\n\n			\n\n	\n\n				\n			\n				\n				\n				\n				\n				\n				\n				\n					\n\n	\n	\n	Category: Workshop\n	\n	\n\n\n				\n			\n				\n				\n				\n				\n				 \n			\n			\n				\n				\n				\n				\n			\n				\n				\n				\n				\n				\n				\n			\n				\n				\n				\n				\n				\n				\n				\n				\n				\n				DESCRIPTION\n			\n				\n				\n				\n				\n				Venue: Online (Zoom)Time: 11am – 12pm \nIn the face of escalating challenges and post-COVID stress\, developing resilient emotional management and adaptability is crucial\, both during and after working hours. \nRather than being energy-draining\, let these situations serve as catalysts when viewed through the lens of clarity. \nEmpower yourself to foster growth and thrive in your work-life journey. \nBenefits: \n\nAttain clarity to enable decision-making in work & life\nEnhance strength and resilience to adapt\, grow\, and bounce back\nExperience peace and happiness through acceptance and emotional management.\n\nPractitioner: Teoh Yeoh Keait
URL:https://thegoldenspace.com.my/product/clarity-for-work-life/
LOCATION:Online
ATTACH;FMTTYPE=image/jpeg:https://thegoldenspace.com.my/wp-content/uploads/2024/02/Clarity-for-work-life.jpg
END:VEVENT
END:VCALENDAR