BEGIN:VCALENDAR
VERSION:2.0
PRODID:-//The Golden Space Malaysia - ECPv6.5.1.4//NONSGML v1.0//EN
CALSCALE:GREGORIAN
METHOD:PUBLISH
X-ORIGINAL-URL:https://thegoldenspace.com.my
X-WR-CALDESC:Events for The Golden Space Malaysia
REFRESH-INTERVAL;VALUE=DURATION:PT1H
X-Robots-Tag:noindex
X-PUBLISHED-TTL:PT1H
BEGIN:VTIMEZONE
TZID:Asia/Kuala_Lumpur
BEGIN:STANDARD
TZOFFSETFROM:+0800
TZOFFSETTO:+0800
TZNAME:+08
DTSTART:20260101T000000
END:STANDARD
END:VTIMEZONE
BEGIN:VEVENT
DTSTART;TZID=Asia/Kuala_Lumpur:20260105T183000
DTEND;TZID=Asia/Kuala_Lumpur:20260105T193000
DTSTAMP:20260422T075057
CREATED:20230306T152734Z
LAST-MODIFIED:20260108T173253Z
UID:20142-1767637800-1767641400@thegoldenspace.com.my
SUMMARY:Slow Down & Rebalance Yoga (Onsite)
DESCRIPTION:Time: 6.30pm – 7.30pmEvery Monday: Yin YogaEvery Thursday: Gentle Flow Yoga \nStep away from the noise and return to center with a practice dedicated to your nervous system. These sessions are designed to help you move out of “survival mode” and into a state of deep\, restorative peace. \n✨ Yin Yoga (Mondays) – Focus: Deep Stillness & Nervous System RegulationA meditative practice focused on deep stillness. We use long-held floor poses to target the connective tissues and quiet the mind. \n\nSwitch from “fight-or-flight” to deep rest.\nRelease deep-seated tension in connective tissues.\nCalm the nervous system through mindful stillness.\n\n✨ Gentle Flow Yoga (Thursdays) – Focus: Somatic Movement & Emotional BalanceA rhythmic\, fluid practice that connects breath with motion. This class uses somatic movement to release daily stress and build inner strength. \n\nSoothe the mind with rhythmic\, fluid movement.\nRelease daily stress through gentle somatic flow.\nBuild resilience and inner peace through breath.\n\nYour journey to rebalance and restart begins here. \nTrial Price: RM35*Package of 4: RM120*Walk-in Price: RM50* \n*Excl 8% SST \nPractitioner: Sucy ChanCertified Yin Yoga Practitioner & Meditation facilitator \n			\n				\n				\n				\n				\n				We have Package of 4 and First Trial options as below: \n			\n			\n				\n				\n				\n				\n			\n				\n				\n				\n				\n				\n				\n				\n				\n				\n				\n				Package of 4: RM120.00 + SST 8% \n			\n				Make Your Reservation Now!\n			\n			\n				\n				\n				\n				\n				\n				\n				\n				\n				\n				First Trial: RM35.00 + SST 8% \n			\n				Make Your Reservation Now!
URL:https://thegoldenspace.com.my/event/slow-down-rebalance-yoga/2026-01-05/
ATTACH;FMTTYPE=image/jpeg:https://thegoldenspace.com.my/wp-content/uploads/2023/03/slow-down-rebalance-yoga.jpg
END:VEVENT
BEGIN:VEVENT
DTSTART;TZID=Asia/Kuala_Lumpur:20260105T200000
DTEND;TZID=Asia/Kuala_Lumpur:20260105T210000
DTSTAMP:20260422T075057
CREATED:20240205T155811Z
LAST-MODIFIED:20260228T092404Z
UID:14510-1767643200-1767646800@thegoldenspace.com.my
SUMMARY:Mindfulness Meditation (Online)
DESCRIPTION:Home  /  Workshop  /  The Shamanic Passage – Package of 3 Classes\n				\n			\n			\n				\n				\n				\n				\n			\n				\n				\n				\n				\n				\n				\n				\n				\n				\n				\n				\n				\n				\n					\n	Sale!\n	\n	\n			\n\n\n				\n			\n			\n				\n				\n				\n				\n				\n				\n				\n				\n				\n				\n				\n				\n					\n		The Shamanic Passage – Package of 3 Classes\n				\n			\n				\n				\n				\n				\n				\n				\n				\n					RM540.00 Original price was: RM540.00.RM450.00Current price is: RM450.00. + SST 8% \n\n				\n			\n				\n				\n				\n				\n				\n				\n				\n					\n	\n	\n		\n		\n		The Shamanic Passage – Package of 3 Classes quantity\n	\n	\n\n		Add to cart\n\n			\n\n	\n\n				\n			\n				\n				\n				\n				\n				\n				\n				\n					\n\n	\n	\n	Category: Workshop\n	\n	\n\n\n				\n			\n				\n				\n				\n				\n				 \n			\n			\n				\n				\n				\n				\n			\n				\n				\n				\n				\n				\n				\n			\n				\n				\n				\n				\n				\n				\n				\n				\n				\n				DESCRIPTION\n			\n				\n				\n				\n				\n				Venue: Online (Zoom)\nTime: 8pm – 9pm \nFeeling stressed or anxious? Overwhelmed by the changes around you? \nIn our modern fast pace life\, \, demanding work schedules\, rapid life challenges\, along with new technologies can indeed be both stressful and overwhelming. \nJoin us for this mindfulness session to consistently practice and improve your awareness across various aspects of life. It’s an opportunity to build resilience\, connect with your inner wisdom\, and navigate the challenges of modern life with greater strength \nKey Takeaway:  \n\nIncrease your mental and emotional resilience towards life challenges\nEnhance your inner clarity and wisdom\n\nPractitioner: Low Sheau Shy
URL:https://thegoldenspace.com.my/product/mindfulness-meditation/
LOCATION:Online
ATTACH;FMTTYPE=image/jpeg:https://thegoldenspace.com.my/wp-content/uploads/2024/02/Mindfulness-Meditation.jpg
END:VEVENT
BEGIN:VEVENT
DTSTART;TZID=Asia/Kuala_Lumpur:20260106T200000
DTEND;TZID=Asia/Kuala_Lumpur:20260106T210000
DTSTAMP:20260422T075058
CREATED:20251022T190741Z
LAST-MODIFIED:20260228T093906Z
UID:19787-1767729600-1767733200@thegoldenspace.com.my
SUMMARY:Soul Connection (Onsite)
DESCRIPTION:Home  /  Workshop  /  The Shamanic Passage – Package of 3 Classes\n				\n			\n			\n				\n				\n				\n				\n			\n				\n				\n				\n				\n				\n				\n				\n				\n				\n				\n				\n				\n				\n					\n	Sale!\n	\n	\n			\n\n\n				\n			\n			\n				\n				\n				\n				\n				\n				\n				\n				\n				\n				\n				\n				\n					\n		The Shamanic Passage – Package of 3 Classes\n				\n			\n				\n				\n				\n				\n				\n				\n				\n					RM540.00 Original price was: RM540.00.RM450.00Current price is: RM450.00. + SST 8% \n\n				\n			\n				\n				\n				\n				\n				\n				\n				\n					\n	\n	\n		\n		\n		The Shamanic Passage – Package of 3 Classes quantity\n	\n	\n\n		Add to cart\n\n			\n\n	\n\n				\n			\n				\n				\n				\n				\n				\n				\n				\n					\n\n	\n	\n	Category: Workshop\n	\n	\n\n\n				\n			\n				\n				\n				\n				\n				 \n			\n				\n				\n				\n				\n				DESCRIPTION\n			\n				\n				\n				\n				\n				Venue: OnsiteTime: 8pm – 9pm \nWithin you lies a timeless connection to your soul. This session is an invitation to deepen that bond through guided awareness. By connecting inward\, you’ll experience wholeness\, wisdom\, and a sense of harmony with the greater universe. \nBenefits: \n\nStrengthen intuition and inner wisdom\nFeel more connected to universal energy\nCultivate harmony of body\, mind\, and soul\n\nPractitioner: Low Sheau Shy
URL:https://thegoldenspace.com.my/product/soul-connection/
ATTACH;FMTTYPE=image/jpeg:https://thegoldenspace.com.my/wp-content/uploads/2025/10/soul-connection.jpg
END:VEVENT
BEGIN:VEVENT
DTSTART;TZID=Asia/Kuala_Lumpur:20260108T183000
DTEND;TZID=Asia/Kuala_Lumpur:20260108T193000
DTSTAMP:20260422T075058
CREATED:20230306T152734Z
LAST-MODIFIED:20260108T173254Z
UID:20143-1767897000-1767900600@thegoldenspace.com.my
SUMMARY:Slow Down & Rebalance Yoga (Onsite)
DESCRIPTION:Time: 6.30pm – 7.30pmEvery Monday: Yin YogaEvery Thursday: Gentle Flow Yoga \nStep away from the noise and return to center with a practice dedicated to your nervous system. These sessions are designed to help you move out of “survival mode” and into a state of deep\, restorative peace. \n✨ Yin Yoga (Mondays) – Focus: Deep Stillness & Nervous System RegulationA meditative practice focused on deep stillness. We use long-held floor poses to target the connective tissues and quiet the mind. \n\nSwitch from “fight-or-flight” to deep rest.\nRelease deep-seated tension in connective tissues.\nCalm the nervous system through mindful stillness.\n\n✨ Gentle Flow Yoga (Thursdays) – Focus: Somatic Movement & Emotional BalanceA rhythmic\, fluid practice that connects breath with motion. This class uses somatic movement to release daily stress and build inner strength. \n\nSoothe the mind with rhythmic\, fluid movement.\nRelease daily stress through gentle somatic flow.\nBuild resilience and inner peace through breath.\n\nYour journey to rebalance and restart begins here. \nTrial Price: RM35*Package of 4: RM120*Walk-in Price: RM50* \n*Excl 8% SST \nPractitioner: Sucy ChanCertified Yin Yoga Practitioner & Meditation facilitator \n			\n				\n				\n				\n				\n				We have Package of 4 and First Trial options as below: \n			\n			\n				\n				\n				\n				\n			\n				\n				\n				\n				\n				\n				\n				\n				\n				\n				\n				Package of 4: RM120.00 + SST 8% \n			\n				Make Your Reservation Now!\n			\n			\n				\n				\n				\n				\n				\n				\n				\n				\n				\n				First Trial: RM35.00 + SST 8% \n			\n				Make Your Reservation Now!
URL:https://thegoldenspace.com.my/event/slow-down-rebalance-yoga/2026-01-08/
ATTACH;FMTTYPE=image/jpeg:https://thegoldenspace.com.my/wp-content/uploads/2023/03/slow-down-rebalance-yoga.jpg
END:VEVENT
BEGIN:VEVENT
DTSTART;TZID=Asia/Kuala_Lumpur:20260110T110000
DTEND;TZID=Asia/Kuala_Lumpur:20260110T120000
DTSTAMP:20260422T075058
CREATED:20240205T155336Z
LAST-MODIFIED:20240205T155336Z
UID:20092-1768042800-1768046400@thegoldenspace.com.my
SUMMARY:Conquer Your Fear (Online)
DESCRIPTION:Home  /  Workshop  /  The Shamanic Passage – Package of 3 Classes\n				\n			\n			\n				\n				\n				\n				\n			\n				\n				\n				\n				\n				\n				\n				\n				\n				\n				\n				\n				\n				\n					\n	Sale!\n	\n	\n			\n\n\n				\n			\n			\n				\n				\n				\n				\n				\n				\n				\n				\n				\n				\n				\n				\n					\n		The Shamanic Passage – Package of 3 Classes\n				\n			\n				\n				\n				\n				\n				\n				\n				\n					RM540.00 Original price was: RM540.00.RM450.00Current price is: RM450.00. + SST 8% \n\n				\n			\n				\n				\n				\n				\n				\n				\n				\n					\n	\n	\n		\n		\n		The Shamanic Passage – Package of 3 Classes quantity\n	\n	\n\n		Add to cart\n\n			\n\n	\n\n				\n			\n				\n				\n				\n				\n				\n				\n				\n					\n\n	\n	\n	Category: Workshop\n	\n	\n\n\n				\n			\n				\n				\n				\n				\n				 \n			\n			\n				\n				\n				\n				\n			\n				\n				\n				\n				\n				\n				\n			\n				\n				\n				\n				\n				\n				\n				\n				\n				\n				DESCRIPTION\n			\n				\n				\n				\n				\n				Venue: Online (Zoom)Time: 11am – 12pm \nFear is necessary for humans to live safely\, but excessive fear can be harmful\, hindering you from moving forward. This class may help you understand the mechanism of fear: what fear is\, where it comes from\, when it appears\, why you experience it\, and how you conquer it through lectures\, sharing and exercises. \nBenefits: \n\nGain the power to lessen or control your fear\nLearn practical exercises to deal with fear\nGain the ability to move forward to create the life you want\n\nPractitioner: Yoshimi Janus
URL:https://thegoldenspace.com.my/product/conquer-your-fear/
LOCATION:Online
ATTACH;FMTTYPE=image/jpeg:https://thegoldenspace.com.my/wp-content/uploads/2024/02/Conquer-Your-Fear.jpg
END:VEVENT
BEGIN:VEVENT
DTSTART;TZID=Asia/Kuala_Lumpur:20260110T110000
DTEND;TZID=Asia/Kuala_Lumpur:20260110T120000
DTSTAMP:20260422T075058
CREATED:20251022T190450Z
LAST-MODIFIED:20260228T094244Z
UID:19782-1768042800-1768046400@thegoldenspace.com.my
SUMMARY:A Moment of Silence (Onsite)
DESCRIPTION:Home  /  Workshop  /  The Shamanic Passage – Package of 3 Classes\n				\n			\n			\n				\n				\n				\n				\n			\n				\n				\n				\n				\n				\n				\n				\n				\n				\n				\n				\n				\n				\n					\n	Sale!\n	\n	\n			\n\n\n				\n			\n			\n				\n				\n				\n				\n				\n				\n				\n				\n				\n				\n				\n				\n					\n		The Shamanic Passage – Package of 3 Classes\n				\n			\n				\n				\n				\n				\n				\n				\n				\n					RM540.00 Original price was: RM540.00.RM450.00Current price is: RM450.00. + SST 8% \n\n				\n			\n				\n				\n				\n				\n				\n				\n				\n					\n	\n	\n		\n		\n		The Shamanic Passage – Package of 3 Classes quantity\n	\n	\n\n		Add to cart\n\n			\n\n	\n\n				\n			\n				\n				\n				\n				\n				\n				\n				\n					\n\n	\n	\n	Category: Workshop\n	\n	\n\n\n				\n			\n				\n				\n				\n				\n				 \n			\n				\n				\n				\n				\n				DESCRIPTION\n			\n				\n				\n				\n				\n				Venue: OnsiteTime: 11am – 12pm \nThrough Pause. Breathe. Step Back. Breakthrough.\, you create space to slow down and empty the mind. In this stillness\, you can clear mental fog\, gain fresh perspectives\, and open to intuitive\, creative solutions that move you forward with clarity and ease. \nBenefits: \n\nClear mental fog and release stress\nGain fresh perspectives and intuitive insights\nBreakthrough mental blocks with clarity and creativity\n\nPractitioner: Teoh Yeong Keait
URL:https://thegoldenspace.com.my/product/a-moment-of-silence/
ATTACH;FMTTYPE=image/jpeg:https://thegoldenspace.com.my/wp-content/uploads/2025/10/a-moment-of-silence.jpg
END:VEVENT
BEGIN:VEVENT
DTSTART;TZID=Asia/Kuala_Lumpur:20260111T103000
DTEND;TZID=Asia/Kuala_Lumpur:20260111T133000
DTSTAMP:20260422T075058
CREATED:20251124T104346Z
LAST-MODIFIED:20260326T103434Z
UID:19895-1768127400-1768138200@thegoldenspace.com.my
SUMMARY:Inner Glow: Release Tension (Onsite)
DESCRIPTION:Home  /  Workshop  /  The Shamanic Passage – Package of 3 Classes\n				\n			\n			\n				\n				\n				\n				\n			\n				\n				\n				\n				\n				\n				\n				\n				\n				\n				\n				\n				\n				\n					\n	Sale!\n	\n	\n			\n\n\n				\n			\n			\n				\n				\n				\n				\n				\n				\n				\n				\n				\n				\n				\n				\n					\n		The Shamanic Passage – Package of 3 Classes\n				\n			\n				\n				\n				\n				\n				\n				\n				\n					RM540.00 Original price was: RM540.00.RM450.00Current price is: RM450.00. + SST 8% \n\n				\n			\n				\n				\n				\n				\n				\n				\n				\n					\n	\n	\n		\n		\n		The Shamanic Passage – Package of 3 Classes quantity\n	\n	\n\n		Add to cart\n\n			\n\n	\n\n				\n			\n				\n				\n				\n				\n				\n				\n				\n					\n\n	\n	\n	Category: Workshop\n	\n	\n\n\n				\n			\n				\n				\n				\n				\n				 \n			\n				\n				\n				\n				\n				DESCRIPTION\n			\n				\n				\n				\n				\n				Venue: Onsite (Workshop)Date: 5th Apr 2026Time: 10.30am – 1.30pm \nInner Glow: Release Tension \nDo you find it hard to fully relax even when the day is over? \nThe body often holds onto tension from daily stress in the shoulders\, the breath and the way we carry ourselves. Over time\, this keeps us in a constant state of being “on”\, even when we are trying to rest. \nInner Glow is a 3 hour guided experience designed to help you release body tension and reconnect with a deeper sense of ease through gentle movement\, breathwork and restorative practices. \nWhat you will experience: \n\nLearn simple ways to release body tension in minutes\nAllow your body to regulate and move out of stress\nExperience deep rest for both body and mind\n\nNormal Price: RM378 nettSpecial Price: RM168 nett \nLimited spots available. \nPractitioner: Sucy Chan
URL:https://thegoldenspace.com.my/product/inner-glow/
LOCATION:Online
ATTACH;FMTTYPE=image/jpeg:https://thegoldenspace.com.my/wp-content/uploads/2025/11/Inner-Glow-Release-Tension.jpg
END:VEVENT
END:VCALENDAR