BEGIN:VCALENDAR
VERSION:2.0
PRODID:-//The Golden Space Malaysia - ECPv6.5.1.4//NONSGML v1.0//EN
CALSCALE:GREGORIAN
METHOD:PUBLISH
X-ORIGINAL-URL:https://thegoldenspace.com.my
X-WR-CALDESC:Events for The Golden Space Malaysia
REFRESH-INTERVAL;VALUE=DURATION:PT1H
X-Robots-Tag:noindex
X-PUBLISHED-TTL:PT1H
BEGIN:VTIMEZONE
TZID:Asia/Kuala_Lumpur
BEGIN:STANDARD
TZOFFSETFROM:+0800
TZOFFSETTO:+0800
TZNAME:+08
DTSTART:20260101T000000
END:STANDARD
END:VTIMEZONE
BEGIN:VEVENT
DTSTART;TZID=Asia/Kuala_Lumpur:20260112T183000
DTEND;TZID=Asia/Kuala_Lumpur:20260112T193000
DTSTAMP:20260423T145922
CREATED:20230306T152734Z
LAST-MODIFIED:20260108T173255Z
UID:20144-1768242600-1768246200@thegoldenspace.com.my
SUMMARY:Slow Down & Rebalance Yoga (Onsite)
DESCRIPTION:Time: 6.30pm – 7.30pmEvery Monday: Yin YogaEvery Thursday: Gentle Flow Yoga \nStep away from the noise and return to center with a practice dedicated to your nervous system. These sessions are designed to help you move out of “survival mode” and into a state of deep\, restorative peace. \n✨ Yin Yoga (Mondays) – Focus: Deep Stillness & Nervous System RegulationA meditative practice focused on deep stillness. We use long-held floor poses to target the connective tissues and quiet the mind. \n\nSwitch from “fight-or-flight” to deep rest.\nRelease deep-seated tension in connective tissues.\nCalm the nervous system through mindful stillness.\n\n✨ Gentle Flow Yoga (Thursdays) – Focus: Somatic Movement & Emotional BalanceA rhythmic\, fluid practice that connects breath with motion. This class uses somatic movement to release daily stress and build inner strength. \n\nSoothe the mind with rhythmic\, fluid movement.\nRelease daily stress through gentle somatic flow.\nBuild resilience and inner peace through breath.\n\nYour journey to rebalance and restart begins here. \nTrial Price: RM35*Package of 4: RM120*Walk-in Price: RM50* \n*Excl 8% SST \nPractitioner: Sucy ChanCertified Yin Yoga Practitioner & Meditation facilitator \n			\n				\n				\n				\n				\n				We have Package of 4 and First Trial options as below: \n			\n			\n				\n				\n				\n				\n			\n				\n				\n				\n				\n				\n				\n				\n				\n				\n				\n				Package of 4: RM120.00 + SST 8% \n			\n				Make Your Reservation Now!\n			\n			\n				\n				\n				\n				\n				\n				\n				\n				\n				\n				First Trial: RM35.00 + SST 8% \n			\n				Make Your Reservation Now!
URL:https://thegoldenspace.com.my/event/slow-down-rebalance-yoga/2026-01-12/
ATTACH;FMTTYPE=image/jpeg:https://thegoldenspace.com.my/wp-content/uploads/2023/03/slow-down-rebalance-yoga.jpg
END:VEVENT
BEGIN:VEVENT
DTSTART;TZID=Asia/Kuala_Lumpur:20260112T200000
DTEND;TZID=Asia/Kuala_Lumpur:20260112T210000
DTSTAMP:20260423T145922
CREATED:20240205T155811Z
LAST-MODIFIED:20260228T092409Z
UID:20076-1768248000-1768251600@thegoldenspace.com.my
SUMMARY:Mindfulness Meditation (Online)
DESCRIPTION:Home  /  Workshop  /  The Shamanic Passage – Package of 3 Classes\n				\n			\n			\n				\n				\n				\n				\n			\n				\n				\n				\n				\n				\n				\n				\n				\n				\n				\n				\n				\n				\n					\n	Sale!\n	\n	\n			\n\n\n				\n			\n			\n				\n				\n				\n				\n				\n				\n				\n				\n				\n				\n				\n				\n					\n		The Shamanic Passage – Package of 3 Classes\n				\n			\n				\n				\n				\n				\n				\n				\n				\n					RM540.00 Original price was: RM540.00.RM450.00Current price is: RM450.00. + SST 8% \n\n				\n			\n				\n				\n				\n				\n				\n				\n				\n					\n	\n	\n		\n		\n		The Shamanic Passage – Package of 3 Classes quantity\n	\n	\n\n		Add to cart\n\n			\n\n	\n\n				\n			\n				\n				\n				\n				\n				\n				\n				\n					\n\n	\n	\n	Category: Workshop\n	\n	\n\n\n				\n			\n				\n				\n				\n				\n				 \n			\n			\n				\n				\n				\n				\n			\n				\n				\n				\n				\n				\n				\n			\n				\n				\n				\n				\n				\n				\n				\n				\n				\n				DESCRIPTION\n			\n				\n				\n				\n				\n				Venue: Online (Zoom)\nTime: 8pm – 9pm \nFeeling stressed or anxious? Overwhelmed by the changes around you? \nIn our modern fast pace life\, \, demanding work schedules\, rapid life challenges\, along with new technologies can indeed be both stressful and overwhelming. \nJoin us for this mindfulness session to consistently practice and improve your awareness across various aspects of life. It’s an opportunity to build resilience\, connect with your inner wisdom\, and navigate the challenges of modern life with greater strength \nKey Takeaway:  \n\nIncrease your mental and emotional resilience towards life challenges\nEnhance your inner clarity and wisdom\n\nPractitioner: Low Sheau Shy
URL:https://thegoldenspace.com.my/product/mindfulness-meditation/
LOCATION:Online
ATTACH;FMTTYPE=image/jpeg:https://thegoldenspace.com.my/wp-content/uploads/2024/02/Mindfulness-Meditation.jpg
END:VEVENT
BEGIN:VEVENT
DTSTART;TZID=Asia/Kuala_Lumpur:20260113T200000
DTEND;TZID=Asia/Kuala_Lumpur:20260113T210000
DTSTAMP:20260423T145923
CREATED:20251022T191236Z
LAST-MODIFIED:20260228T094140Z
UID:19805-1768334400-1768338000@thegoldenspace.com.my
SUMMARY:Breath of Balance (Onsite)
DESCRIPTION:Home  /  Workshop  /  The Shamanic Passage – Package of 3 Classes\n				\n			\n			\n				\n				\n				\n				\n			\n				\n				\n				\n				\n				\n				\n				\n				\n				\n				\n				\n				\n				\n					\n	Sale!\n	\n	\n			\n\n\n				\n			\n			\n				\n				\n				\n				\n				\n				\n				\n				\n				\n				\n				\n				\n					\n		The Shamanic Passage – Package of 3 Classes\n				\n			\n				\n				\n				\n				\n				\n				\n				\n					RM540.00 Original price was: RM540.00.RM450.00Current price is: RM450.00. + SST 8% \n\n				\n			\n				\n				\n				\n				\n				\n				\n				\n					\n	\n	\n		\n		\n		The Shamanic Passage – Package of 3 Classes quantity\n	\n	\n\n		Add to cart\n\n			\n\n	\n\n				\n			\n				\n				\n				\n				\n				\n				\n				\n					\n\n	\n	\n	Category: Workshop\n	\n	\n\n\n				\n			\n				\n				\n				\n				\n				 \n			\n				\n				\n				\n				\n				DESCRIPTION\n			\n				\n				\n				\n				\n				Venue: OnsiteTime: 8pm – 9pm \nBreath is life\, yet we often forget its power. This class guides you into conscious breathing practices that calm the nervous system\, center your awareness\, and restore balance. Discover how every breath can become a tool for clarity\, renewal\, and inner peace. \nBenefits: \n\nRestore energy by harmonizing body rhythms\nBalance nervous system and reduce daily tension\nEnhance vitality with calm\, steady breathing\n\nPractitioner: Low Sheau Shy
URL:https://thegoldenspace.com.my/product/breath-of-balance/
ATTACH;FMTTYPE=image/jpeg:https://thegoldenspace.com.my/wp-content/uploads/2025/10/breath-of-balance.jpg
END:VEVENT
BEGIN:VEVENT
DTSTART;TZID=Asia/Kuala_Lumpur:20260115T183000
DTEND;TZID=Asia/Kuala_Lumpur:20260115T193000
DTSTAMP:20260423T145923
CREATED:20230306T152734Z
LAST-MODIFIED:20260108T173256Z
UID:20145-1768501800-1768505400@thegoldenspace.com.my
SUMMARY:Slow Down & Rebalance Yoga (Onsite)
DESCRIPTION:Time: 6.30pm – 7.30pmEvery Monday: Yin YogaEvery Thursday: Gentle Flow Yoga \nStep away from the noise and return to center with a practice dedicated to your nervous system. These sessions are designed to help you move out of “survival mode” and into a state of deep\, restorative peace. \n✨ Yin Yoga (Mondays) – Focus: Deep Stillness & Nervous System RegulationA meditative practice focused on deep stillness. We use long-held floor poses to target the connective tissues and quiet the mind. \n\nSwitch from “fight-or-flight” to deep rest.\nRelease deep-seated tension in connective tissues.\nCalm the nervous system through mindful stillness.\n\n✨ Gentle Flow Yoga (Thursdays) – Focus: Somatic Movement & Emotional BalanceA rhythmic\, fluid practice that connects breath with motion. This class uses somatic movement to release daily stress and build inner strength. \n\nSoothe the mind with rhythmic\, fluid movement.\nRelease daily stress through gentle somatic flow.\nBuild resilience and inner peace through breath.\n\nYour journey to rebalance and restart begins here. \nTrial Price: RM35*Package of 4: RM120*Walk-in Price: RM50* \n*Excl 8% SST \nPractitioner: Sucy ChanCertified Yin Yoga Practitioner & Meditation facilitator \n			\n				\n				\n				\n				\n				We have Package of 4 and First Trial options as below: \n			\n			\n				\n				\n				\n				\n			\n				\n				\n				\n				\n				\n				\n				\n				\n				\n				\n				Package of 4: RM120.00 + SST 8% \n			\n				Make Your Reservation Now!\n			\n			\n				\n				\n				\n				\n				\n				\n				\n				\n				\n				First Trial: RM35.00 + SST 8% \n			\n				Make Your Reservation Now!
URL:https://thegoldenspace.com.my/event/slow-down-rebalance-yoga/2026-01-15/
ATTACH;FMTTYPE=image/jpeg:https://thegoldenspace.com.my/wp-content/uploads/2023/03/slow-down-rebalance-yoga.jpg
END:VEVENT
BEGIN:VEVENT
DTSTART;TZID=Asia/Kuala_Lumpur:20260117T110000
DTEND;TZID=Asia/Kuala_Lumpur:20260117T120000
DTSTAMP:20260423T145923
CREATED:20240204T152221Z
LAST-MODIFIED:20260228T094012Z
UID:14375-1768647600-1768651200@thegoldenspace.com.my
SUMMARY:Embracing Self-Love (Onsite)
DESCRIPTION:Home  /  Workshop  /  The Shamanic Passage – Package of 3 Classes\n				\n			\n			\n				\n				\n				\n				\n			\n				\n				\n				\n				\n				\n				\n				\n				\n				\n				\n				\n				\n				\n					\n	Sale!\n	\n	\n			\n\n\n				\n			\n			\n				\n				\n				\n				\n				\n				\n				\n				\n				\n				\n				\n				\n					\n		The Shamanic Passage – Package of 3 Classes\n				\n			\n				\n				\n				\n				\n				\n				\n				\n					RM540.00 Original price was: RM540.00.RM450.00Current price is: RM450.00. + SST 8% \n\n				\n			\n				\n				\n				\n				\n				\n				\n				\n					\n	\n	\n		\n		\n		The Shamanic Passage – Package of 3 Classes quantity\n	\n	\n\n		Add to cart\n\n			\n\n	\n\n				\n			\n				\n				\n				\n				\n				\n				\n				\n					\n\n	\n	\n	Category: Workshop\n	\n	\n\n\n				\n			\n				\n				\n				\n				\n				 \n			\n			\n				\n				\n				\n				\n			\n				\n				\n				\n				\n				\n				\n			\n				\n				\n				\n				\n				\n				\n				\n				\n				\n				DESCRIPTION\n			\n				\n				\n				\n				\n				Venue: OnsiteTime: 11am – 12pmPractitioner: Saidatul Nadziah \nLearning to love ourselves unconditionally will bring harmony to our lives. Understanding the beauty of loving ourselves more will give us the power to embrace loving others without sacrificing ourselves. Awareness of our emotions will create strength within us and assist us in handling our daily lives without judgment towards ourselves or others. Fully embracing our self-love will make us peaceful and blessed despite any chaos in our lives. \nBenefits: \n\nExperience true harmony and peace within ourselves.\nCreate a balanced\, loving\, and joyful lifestyle.\nGain a deeper understanding of your emotions and how to overcome them.
URL:https://thegoldenspace.com.my/product/embracing-self-love/
LOCATION:Onsite
ATTACH;FMTTYPE=image/jpeg:https://thegoldenspace.com.my/wp-content/uploads/2024/02/Embracing-Self-Love.jpg
END:VEVENT
BEGIN:VEVENT
DTSTART;TZID=Asia/Kuala_Lumpur:20260117T110000
DTEND;TZID=Asia/Kuala_Lumpur:20260117T120000
DTSTAMP:20260423T145923
CREATED:20240323T111449Z
LAST-MODIFIED:20260228T093309Z
UID:15362-1768647600-1768651200@thegoldenspace.com.my
SUMMARY:Calm in Chaos (Online)
DESCRIPTION:Home  /  Workshop  /  The Shamanic Passage – Package of 3 Classes\n				\n			\n			\n				\n				\n				\n				\n			\n				\n				\n				\n				\n				\n				\n				\n				\n				\n				\n				\n				\n				\n					\n	Sale!\n	\n	\n			\n\n\n				\n			\n			\n				\n				\n				\n				\n				\n				\n				\n				\n				\n				\n				\n				\n					\n		The Shamanic Passage – Package of 3 Classes\n				\n			\n				\n				\n				\n				\n				\n				\n				\n					RM540.00 Original price was: RM540.00.RM450.00Current price is: RM450.00. + SST 8% \n\n				\n			\n				\n				\n				\n				\n				\n				\n				\n					\n	\n	\n		\n		\n		The Shamanic Passage – Package of 3 Classes quantity\n	\n	\n\n		Add to cart\n\n			\n\n	\n\n				\n			\n				\n				\n				\n				\n				\n				\n				\n					\n\n	\n	\n	Category: Workshop\n	\n	\n\n\n				\n			\n				\n				\n				\n				\n				 \n			\n			\n				\n				\n				\n				\n			\n				\n				\n				\n				\n				\n				\n			\n				\n				\n				\n				\n				\n				\n				\n				\n				\n				DESCRIPTION\n			\n				\n				\n				\n				\n				Venue: Online (Zoom)Time: 11am – 12pm \nLearn to stay calm and focused in chaotic situations. Gain the ability to tap into your inner calmness\, open up to inspired ideas\, and navigate challenges with less stress. \nBenefits: \n\nLearn the ability to Stay cool under pressure.\nTap into your wisdom to Unlock inspired ideas.\nConquer challenges gracefully moving through them with less stress and more ease.\n\nPractitioner: Moisy Moi
URL:https://thegoldenspace.com.my/product/calm-in-chaos/
LOCATION:Online
ATTACH;FMTTYPE=image/jpeg:https://thegoldenspace.com.my/wp-content/uploads/2024/03/Calm-in-Chaos.jpg
END:VEVENT
BEGIN:VEVENT
DTSTART;TZID=Asia/Kuala_Lumpur:20260117T140000
DTEND;TZID=Asia/Kuala_Lumpur:20260117T150000
DTSTAMP:20260423T145923
CREATED:20250706T194505Z
LAST-MODIFIED:20260205T130929Z
UID:19969-1768658400-1768662000@thegoldenspace.com.my
SUMMARY:Let’s Talk About Love (Onsite)
DESCRIPTION:Sale!\n	\n	\n			\n\n\n				\n			\n			\n				\n				\n				\n				\n				\n				\n				\n				\n				\n				\n				\n				\n					\n		The Shamanic Passage – Package of 3 Classes\n				\n			\n				\n				\n				\n				\n				\n				\n				\n					RM540.00 Original price was: RM540.00.RM450.00Current price is: RM450.00. + SST 8% \n\n				\n			\n				\n				\n				\n				\n				\n				\n				\n					\n	\n	\n		\n		\n		The Shamanic Passage – Package of 3 Classes quantity\n	\n	\n\n		Add to cart\n\n			\n\n	\n\n				\n			\n				\n				\n				\n				\n				 \n			\n				\n				\n				\n				\n				DESCRIPTION \n			\n				\n				\n				\n				\n				Venue: Onsite (The Golden Space Centre)Date: 28 Feb 2025Time: 2pm – 3pm \nCalm Relationship Communication\nIf talking things through in your relationship does not always feel easy\, you are not alone. Many couples care deeply for each other yet feel misunderstood. This talk offers a fresh perspective by understanding your emotions and reactions\, helping conversations become calmer\, clearer\, and more respectful so that your relationship can grow together in a supportive and loving way. \nKey Takeaways:1️⃣ Calm communication is possible2️⃣ Understand why conflicts repeat \nSpeakers: Stephanie ngu & Sky KhoHost: Christina Teng \n			\n				\n				\n				\n				\n				A little kindness goes a long way — 50% of proceeds help One Hope Charity & Welfare \nFee: RM88 nett\, RM128 nett (per couple)
URL:https://thegoldenspace.com.my/product/lets-talk-about-love/
ATTACH;FMTTYPE=image/jpeg:https://thegoldenspace.com.my/wp-content/uploads/2025/07/ltal-feb.jpg
END:VEVENT
END:VCALENDAR