BEGIN:VCALENDAR
VERSION:2.0
PRODID:-//The Golden Space Malaysia - ECPv6.5.1.4//NONSGML v1.0//EN
CALSCALE:GREGORIAN
METHOD:PUBLISH
X-WR-CALNAME:The Golden Space Malaysia
X-ORIGINAL-URL:https://thegoldenspace.com.my
X-WR-CALDESC:Events for The Golden Space Malaysia
REFRESH-INTERVAL;VALUE=DURATION:PT1H
X-Robots-Tag:noindex
X-PUBLISHED-TTL:PT1H
BEGIN:VTIMEZONE
TZID:Asia/Kuala_Lumpur
BEGIN:STANDARD
TZOFFSETFROM:+0800
TZOFFSETTO:+0800
TZNAME:+08
DTSTART:20260101T000000
END:STANDARD
END:VTIMEZONE
BEGIN:VEVENT
DTSTART;TZID=Asia/Kuala_Lumpur:20260126T183000
DTEND;TZID=Asia/Kuala_Lumpur:20260126T193000
DTSTAMP:20260422T141128
CREATED:20230306T152734Z
LAST-MODIFIED:20260108T173301Z
UID:20148-1769452200-1769455800@thegoldenspace.com.my
SUMMARY:Slow Down & Rebalance Yoga (Onsite)
DESCRIPTION:Time: 6.30pm – 7.30pmEvery Monday: Yin YogaEvery Thursday: Gentle Flow Yoga \nStep away from the noise and return to center with a practice dedicated to your nervous system. These sessions are designed to help you move out of “survival mode” and into a state of deep\, restorative peace. \n✨ Yin Yoga (Mondays) – Focus: Deep Stillness & Nervous System RegulationA meditative practice focused on deep stillness. We use long-held floor poses to target the connective tissues and quiet the mind. \n\nSwitch from “fight-or-flight” to deep rest.\nRelease deep-seated tension in connective tissues.\nCalm the nervous system through mindful stillness.\n\n✨ Gentle Flow Yoga (Thursdays) – Focus: Somatic Movement & Emotional BalanceA rhythmic\, fluid practice that connects breath with motion. This class uses somatic movement to release daily stress and build inner strength. \n\nSoothe the mind with rhythmic\, fluid movement.\nRelease daily stress through gentle somatic flow.\nBuild resilience and inner peace through breath.\n\nYour journey to rebalance and restart begins here. \nTrial Price: RM35*Package of 4: RM120*Walk-in Price: RM50* \n*Excl 8% SST \nPractitioner: Sucy ChanCertified Yin Yoga Practitioner & Meditation facilitator \n			\n				\n				\n				\n				\n				We have Package of 4 and First Trial options as below: \n			\n			\n				\n				\n				\n				\n			\n				\n				\n				\n				\n				\n				\n				\n				\n				\n				\n				Package of 4: RM120.00 + SST 8% \n			\n				Make Your Reservation Now!\n			\n			\n				\n				\n				\n				\n				\n				\n				\n				\n				\n				First Trial: RM35.00 + SST 8% \n			\n				Make Your Reservation Now!
URL:https://thegoldenspace.com.my/event/slow-down-rebalance-yoga/2026-01-26/
ATTACH;FMTTYPE=image/jpeg:https://thegoldenspace.com.my/wp-content/uploads/2023/03/slow-down-rebalance-yoga.jpg
END:VEVENT
BEGIN:VEVENT
DTSTART;TZID=Asia/Kuala_Lumpur:20260126T200000
DTEND;TZID=Asia/Kuala_Lumpur:20260126T210000
DTSTAMP:20260422T141129
CREATED:20240205T155811Z
LAST-MODIFIED:20260228T092411Z
UID:20078-1769457600-1769461200@thegoldenspace.com.my
SUMMARY:Mindfulness Meditation (Online)
DESCRIPTION:Home  /  Workshop  /  The Shamanic Passage – Package of 3 Classes\n				\n			\n			\n				\n				\n				\n				\n			\n				\n				\n				\n				\n				\n				\n				\n				\n				\n				\n				\n				\n				\n					\n	Sale!\n	\n	\n			\n\n\n				\n			\n			\n				\n				\n				\n				\n				\n				\n				\n				\n				\n				\n				\n				\n					\n		The Shamanic Passage – Package of 3 Classes\n				\n			\n				\n				\n				\n				\n				\n				\n				\n					RM540.00 Original price was: RM540.00.RM450.00Current price is: RM450.00. + SST 8% \n\n				\n			\n				\n				\n				\n				\n				\n				\n				\n					\n	\n	\n		\n		\n		The Shamanic Passage – Package of 3 Classes quantity\n	\n	\n\n		Add to cart\n\n			\n\n	\n\n				\n			\n				\n				\n				\n				\n				\n				\n				\n					\n\n	\n	\n	Category: Workshop\n	\n	\n\n\n				\n			\n				\n				\n				\n				\n				 \n			\n			\n				\n				\n				\n				\n			\n				\n				\n				\n				\n				\n				\n			\n				\n				\n				\n				\n				\n				\n				\n				\n				\n				DESCRIPTION\n			\n				\n				\n				\n				\n				Venue: Online (Zoom)\nTime: 8pm – 9pm \nFeeling stressed or anxious? Overwhelmed by the changes around you? \nIn our modern fast pace life\, \, demanding work schedules\, rapid life challenges\, along with new technologies can indeed be both stressful and overwhelming. \nJoin us for this mindfulness session to consistently practice and improve your awareness across various aspects of life. It’s an opportunity to build resilience\, connect with your inner wisdom\, and navigate the challenges of modern life with greater strength \nKey Takeaway:  \n\nIncrease your mental and emotional resilience towards life challenges\nEnhance your inner clarity and wisdom\n\nPractitioner: Low Sheau Shy
URL:https://thegoldenspace.com.my/product/mindfulness-meditation/
LOCATION:Online
ATTACH;FMTTYPE=image/jpeg:https://thegoldenspace.com.my/wp-content/uploads/2024/02/Mindfulness-Meditation.jpg
END:VEVENT
BEGIN:VEVENT
DTSTART;TZID=Asia/Kuala_Lumpur:20260127T200000
DTEND;TZID=Asia/Kuala_Lumpur:20260127T210000
DTSTAMP:20260422T141129
CREATED:20251022T192107Z
LAST-MODIFIED:20260228T094443Z
UID:19830-1769544000-1769547600@thegoldenspace.com.my
SUMMARY:Confidence from Within (Onsite)
DESCRIPTION:Home  /  Workshop  /  The Shamanic Passage – Package of 3 Classes\n				\n			\n			\n				\n				\n				\n				\n			\n				\n				\n				\n				\n				\n				\n				\n				\n				\n				\n				\n				\n				\n					\n	Sale!\n	\n	\n			\n\n\n				\n			\n			\n				\n				\n				\n				\n				\n				\n				\n				\n				\n				\n				\n				\n					\n		The Shamanic Passage – Package of 3 Classes\n				\n			\n				\n				\n				\n				\n				\n				\n				\n					RM540.00 Original price was: RM540.00.RM450.00Current price is: RM450.00. + SST 8% \n\n				\n			\n				\n				\n				\n				\n				\n				\n				\n					\n	\n	\n		\n		\n		The Shamanic Passage – Package of 3 Classes quantity\n	\n	\n\n		Add to cart\n\n			\n\n	\n\n				\n			\n				\n				\n				\n				\n				\n				\n				\n					\n\n	\n	\n	Category: Workshop\n	\n	\n\n\n				\n			\n				\n				\n				\n				\n				 \n			\n				\n				\n				\n				\n				DESCRIPTION\n			\n				\n				\n				\n				\n				Venue: OnsiteTime: 8pm – 9pm \nTrue confidence doesn’t come from external validation—it flows from within. In this class\, you’ll connect with your soul’s strength\, release self-doubt\, and nurture self-worth. Step into a deeper trust that radiates naturally in everything you do. \nBenefits: \n\nOvercome self-doubt with inner trust\nCultivate self-worth rooted in being\nRadiate natural confidence in life\n\nPractitioner: Sucy Chan
URL:https://thegoldenspace.com.my/product/confidence-from-within/
ATTACH;FMTTYPE=image/jpeg:https://thegoldenspace.com.my/wp-content/uploads/2025/10/confidence-from-within.jpg
END:VEVENT
BEGIN:VEVENT
DTSTART;TZID=Asia/Kuala_Lumpur:20260129T183000
DTEND;TZID=Asia/Kuala_Lumpur:20260129T193000
DTSTAMP:20260422T141129
CREATED:20230306T152734Z
LAST-MODIFIED:20260108T173303Z
UID:20149-1769711400-1769715000@thegoldenspace.com.my
SUMMARY:Slow Down & Rebalance Yoga (Onsite)
DESCRIPTION:Time: 6.30pm – 7.30pmEvery Monday: Yin YogaEvery Thursday: Gentle Flow Yoga \nStep away from the noise and return to center with a practice dedicated to your nervous system. These sessions are designed to help you move out of “survival mode” and into a state of deep\, restorative peace. \n✨ Yin Yoga (Mondays) – Focus: Deep Stillness & Nervous System RegulationA meditative practice focused on deep stillness. We use long-held floor poses to target the connective tissues and quiet the mind. \n\nSwitch from “fight-or-flight” to deep rest.\nRelease deep-seated tension in connective tissues.\nCalm the nervous system through mindful stillness.\n\n✨ Gentle Flow Yoga (Thursdays) – Focus: Somatic Movement & Emotional BalanceA rhythmic\, fluid practice that connects breath with motion. This class uses somatic movement to release daily stress and build inner strength. \n\nSoothe the mind with rhythmic\, fluid movement.\nRelease daily stress through gentle somatic flow.\nBuild resilience and inner peace through breath.\n\nYour journey to rebalance and restart begins here. \nTrial Price: RM35*Package of 4: RM120*Walk-in Price: RM50* \n*Excl 8% SST \nPractitioner: Sucy ChanCertified Yin Yoga Practitioner & Meditation facilitator \n			\n				\n				\n				\n				\n				We have Package of 4 and First Trial options as below: \n			\n			\n				\n				\n				\n				\n			\n				\n				\n				\n				\n				\n				\n				\n				\n				\n				\n				Package of 4: RM120.00 + SST 8% \n			\n				Make Your Reservation Now!\n			\n			\n				\n				\n				\n				\n				\n				\n				\n				\n				\n				First Trial: RM35.00 + SST 8% \n			\n				Make Your Reservation Now!
URL:https://thegoldenspace.com.my/event/slow-down-rebalance-yoga/2026-01-29/
ATTACH;FMTTYPE=image/jpeg:https://thegoldenspace.com.my/wp-content/uploads/2023/03/slow-down-rebalance-yoga.jpg
END:VEVENT
BEGIN:VEVENT
DTSTART;TZID=Asia/Kuala_Lumpur:20260201T110000
DTEND;TZID=Asia/Kuala_Lumpur:20260201T120000
DTSTAMP:20260422T141129
CREATED:20240226T160743Z
LAST-MODIFIED:20240226T160743Z
UID:20106-1769943600-1769947200@thegoldenspace.com.my
SUMMARY:Be a Greater You (Online)
DESCRIPTION:Home  /  Workshop  /  The Shamanic Passage – Package of 3 Classes\n				\n			\n			\n				\n				\n				\n				\n			\n				\n				\n				\n				\n				\n				\n				\n				\n				\n				\n				\n				\n				\n					\n	Sale!\n	\n	\n			\n\n\n				\n			\n			\n				\n				\n				\n				\n				\n				\n				\n				\n				\n				\n				\n				\n					\n		The Shamanic Passage – Package of 3 Classes\n				\n			\n				\n				\n				\n				\n				\n				\n				\n					RM540.00 Original price was: RM540.00.RM450.00Current price is: RM450.00. + SST 8% \n\n				\n			\n				\n				\n				\n				\n				\n				\n				\n					\n	\n	\n		\n		\n		The Shamanic Passage – Package of 3 Classes quantity\n	\n	\n\n		Add to cart\n\n			\n\n	\n\n				\n			\n				\n				\n				\n				\n				\n				\n				\n					\n\n	\n	\n	Category: Workshop\n	\n	\n\n\n				\n			\n				\n				\n				\n				\n				 \n			\n			\n				\n				\n				\n				\n			\n				\n				\n				\n				\n				\n				\n			\n				\n				\n				\n				\n				\n				\n				\n				\n				\n				DESCRIPTION\n			\n				\n				\n				\n				\n				Venue: Online (Zoom)Time: 11am – 12pm \nBe A Greater You invites you to reclaim your life’s leadership and reconnect with the hero within you\, who has been dormant for too long. It’s a call to recognize your inherent light\, already magnificent\, and to understand that greatness is a continuous journey of self-acceptance and relentless pursuit of improvement. Even when we fall\, it’s this light within that allows us to rise again and boldly step forward. This class is a reminder of our potential to constantly evolve into better versions of ourselves\, leading our lives with purpose and shining brighter\, no matter life’s twists and turns. \nBenefits: \n\nSelf-acceptance and continuous improvements\nBuild resilience with a positive attitude\nTake leadership of your own life\n\nPractitioner: Christina Teng
URL:https://thegoldenspace.com.my/product/be-a-greater-you/
LOCATION:Online
ATTACH;FMTTYPE=image/jpeg:https://thegoldenspace.com.my/wp-content/uploads/2024/02/Be-a-Greater-You.jpg
END:VEVENT
BEGIN:VEVENT
DTSTART;TZID=Asia/Kuala_Lumpur:20260201T230000
DTEND;TZID=Asia/Kuala_Lumpur:20260201T230000
DTSTAMP:20260422T141129
CREATED:20250729T150653Z
LAST-MODIFIED:20260228T101305Z
UID:19142-1769986800-1769986800@thegoldenspace.com.my
SUMMARY:Connecting Wisdom of Nature (Onsite)
DESCRIPTION:Home  /  Workshop  /  The Shamanic Passage – Package of 3 Classes\n				\n			\n			\n				\n				\n				\n				\n			\n				\n				\n				\n				\n				\n				\n				\n				\n				\n				\n				\n				\n				\n					\n	Sale!\n	\n	\n			\n\n\n				\n			\n			\n				\n				\n				\n				\n				\n				\n				\n				\n				\n				\n				\n				\n					\n		The Shamanic Passage – Package of 3 Classes\n				\n			\n				\n				\n				\n				\n				\n				\n				\n					RM540.00 Original price was: RM540.00.RM450.00Current price is: RM450.00. + SST 8% \n\n				\n			\n				\n				\n				\n				\n				\n				\n				\n					\n	\n	\n		\n		\n		The Shamanic Passage – Package of 3 Classes quantity\n	\n	\n\n		Add to cart\n\n			\n\n	\n\n				\n			\n				\n				\n				\n				\n				\n				\n				\n					\n\n	\n	\n	Category: Workshop\n	\n	\n\n\n				\n			\n				\n				\n				\n				\n				 \n			\n			\n				\n				\n				\n				\n			\n				\n				\n				\n				\n				\n				\n			\n				\n				\n				\n				\n				\n				\n				\n				\n				\n				DESCRIPTION\n			\n				\n				\n				\n				\n				Venue: Onsite\nTime: 8pm – 9pm \nThrough connecting to nature\, we restore our energy\, rejuvenate our spirit\, and receive a deep sense of support that helps us feel safe and secure in our own body. Abundance flows naturally when we feel supported\, grounded\, and whole. \nBenefits: \n\nFeel grounded and supported\nRecharge and rejuvenate\nLet go of insecurity and feel whole again\n\nPractitioner: Sucy Chan
URL:https://thegoldenspace.com.my/product/connecting-wisdom-of-nature/
LOCATION:Onsite
ATTACH;FMTTYPE=image/jpeg:https://thegoldenspace.com.my/wp-content/uploads/2025/07/Remembering-Wholeness-Through-Nature-scaled.jpg
END:VEVENT
END:VCALENDAR