BEGIN:VCALENDAR
VERSION:2.0
PRODID:-//The Golden Space Malaysia - ECPv6.5.1.4//NONSGML v1.0//EN
CALSCALE:GREGORIAN
METHOD:PUBLISH
X-ORIGINAL-URL:https://thegoldenspace.com.my
X-WR-CALDESC:Events for The Golden Space Malaysia
REFRESH-INTERVAL;VALUE=DURATION:PT1H
X-Robots-Tag:noindex
X-PUBLISHED-TTL:PT1H
BEGIN:VTIMEZONE
TZID:Asia/Kuala_Lumpur
BEGIN:STANDARD
TZOFFSETFROM:+0800
TZOFFSETTO:+0800
TZNAME:+08
DTSTART:20260101T000000
END:STANDARD
END:VTIMEZONE
BEGIN:VEVENT
DTSTART;TZID=Asia/Kuala_Lumpur:20260202T183000
DTEND;TZID=Asia/Kuala_Lumpur:20260202T193000
DTSTAMP:20260423T191240
CREATED:20230306T152734Z
LAST-MODIFIED:20260108T173304Z
UID:20150-1770057000-1770060600@thegoldenspace.com.my
SUMMARY:Slow Down & Rebalance Yoga (Onsite)
DESCRIPTION:Time: 6.30pm – 7.30pmEvery Monday: Yin YogaEvery Thursday: Gentle Flow Yoga \nStep away from the noise and return to center with a practice dedicated to your nervous system. These sessions are designed to help you move out of “survival mode” and into a state of deep\, restorative peace. \n✨ Yin Yoga (Mondays) – Focus: Deep Stillness & Nervous System RegulationA meditative practice focused on deep stillness. We use long-held floor poses to target the connective tissues and quiet the mind. \n\nSwitch from “fight-or-flight” to deep rest.\nRelease deep-seated tension in connective tissues.\nCalm the nervous system through mindful stillness.\n\n✨ Gentle Flow Yoga (Thursdays) – Focus: Somatic Movement & Emotional BalanceA rhythmic\, fluid practice that connects breath with motion. This class uses somatic movement to release daily stress and build inner strength. \n\nSoothe the mind with rhythmic\, fluid movement.\nRelease daily stress through gentle somatic flow.\nBuild resilience and inner peace through breath.\n\nYour journey to rebalance and restart begins here. \nTrial Price: RM35*Package of 4: RM120*Walk-in Price: RM50* \n*Excl 8% SST \nPractitioner: Sucy ChanCertified Yin Yoga Practitioner & Meditation facilitator \n			\n				\n				\n				\n				\n				We have Package of 4 and First Trial options as below: \n			\n			\n				\n				\n				\n				\n			\n				\n				\n				\n				\n				\n				\n				\n				\n				\n				\n				Package of 4: RM120.00 + SST 8% \n			\n				Make Your Reservation Now!\n			\n			\n				\n				\n				\n				\n				\n				\n				\n				\n				\n				First Trial: RM35.00 + SST 8% \n			\n				Make Your Reservation Now!
URL:https://thegoldenspace.com.my/event/slow-down-rebalance-yoga/2026-02-02/
ATTACH;FMTTYPE=image/jpeg:https://thegoldenspace.com.my/wp-content/uploads/2023/03/slow-down-rebalance-yoga.jpg
END:VEVENT
BEGIN:VEVENT
DTSTART;TZID=Asia/Kuala_Lumpur:20260202T200000
DTEND;TZID=Asia/Kuala_Lumpur:20260202T210000
DTSTAMP:20260423T191240
CREATED:20240205T155811Z
LAST-MODIFIED:20260228T092412Z
UID:20079-1770062400-1770066000@thegoldenspace.com.my
SUMMARY:Mindfulness Meditation (Online)
DESCRIPTION:Home  /  Workshop  /  The Shamanic Passage – Package of 3 Classes\n				\n			\n			\n				\n				\n				\n				\n			\n				\n				\n				\n				\n				\n				\n				\n				\n				\n				\n				\n				\n				\n					\n	Sale!\n	\n	\n			\n\n\n				\n			\n			\n				\n				\n				\n				\n				\n				\n				\n				\n				\n				\n				\n				\n					\n		The Shamanic Passage – Package of 3 Classes\n				\n			\n				\n				\n				\n				\n				\n				\n				\n					RM540.00 Original price was: RM540.00.RM450.00Current price is: RM450.00. + SST 8% \n\n				\n			\n				\n				\n				\n				\n				\n				\n				\n					\n	\n	\n		\n		\n		The Shamanic Passage – Package of 3 Classes quantity\n	\n	\n\n		Add to cart\n\n			\n\n	\n\n				\n			\n				\n				\n				\n				\n				\n				\n				\n					\n\n	\n	\n	Category: Workshop\n	\n	\n\n\n				\n			\n				\n				\n				\n				\n				 \n			\n			\n				\n				\n				\n				\n			\n				\n				\n				\n				\n				\n				\n			\n				\n				\n				\n				\n				\n				\n				\n				\n				\n				DESCRIPTION\n			\n				\n				\n				\n				\n				Venue: Online (Zoom)\nTime: 8pm – 9pm \nFeeling stressed or anxious? Overwhelmed by the changes around you? \nIn our modern fast pace life\, \, demanding work schedules\, rapid life challenges\, along with new technologies can indeed be both stressful and overwhelming. \nJoin us for this mindfulness session to consistently practice and improve your awareness across various aspects of life. It’s an opportunity to build resilience\, connect with your inner wisdom\, and navigate the challenges of modern life with greater strength \nKey Takeaway:  \n\nIncrease your mental and emotional resilience towards life challenges\nEnhance your inner clarity and wisdom\n\nPractitioner: Low Sheau Shy
URL:https://thegoldenspace.com.my/product/mindfulness-meditation/
LOCATION:Online
ATTACH;FMTTYPE=image/jpeg:https://thegoldenspace.com.my/wp-content/uploads/2024/02/Mindfulness-Meditation.jpg
END:VEVENT
BEGIN:VEVENT
DTSTART;TZID=Asia/Kuala_Lumpur:20260203T200000
DTEND;TZID=Asia/Kuala_Lumpur:20260203T210000
DTSTAMP:20260423T191240
CREATED:20250928T093348Z
LAST-MODIFIED:20260228T095309Z
UID:19531-1770148800-1770152400@thegoldenspace.com.my
SUMMARY:Quiet the Chatter (Onsite)
DESCRIPTION:Home  /  Workshop  /  The Shamanic Passage – Package of 3 Classes\n				\n			\n			\n				\n				\n				\n				\n			\n				\n				\n				\n				\n				\n				\n				\n				\n				\n				\n				\n				\n				\n					\n	Sale!\n	\n	\n			\n\n\n				\n			\n			\n				\n				\n				\n				\n				\n				\n				\n				\n				\n				\n				\n				\n					\n		The Shamanic Passage – Package of 3 Classes\n				\n			\n				\n				\n				\n				\n				\n				\n				\n					RM540.00 Original price was: RM540.00.RM450.00Current price is: RM450.00. + SST 8% \n\n				\n			\n				\n				\n				\n				\n				\n				\n				\n					\n	\n	\n		\n		\n		The Shamanic Passage – Package of 3 Classes quantity\n	\n	\n\n		Add to cart\n\n			\n\n	\n\n				\n			\n				\n				\n				\n				\n				\n				\n				\n					\n\n	\n	\n	Category: Workshop\n	\n	\n\n\n				\n			\n				\n				\n				\n				\n				 \n			\n				\n				\n				\n				\n				DESCRIPTION\n			\n				\n				\n				\n				\n				Venue: OnsiteTime: 8pm – 9pm \nA restless mind often keeps us from feeling peace. In this session\, you’ll learn how to soften mental noise\, quiet overthinking\, and create space for clarity. With stillness\, your mind becomes a friend that supports your focus\, creativity\, and joy. \nBenefits: \n\nReduce mental clutter and stress\nGain clarity in thoughts and decisions\nCultivate calm focus in daily life\n\nPractitioner: Moisy Moi
URL:https://thegoldenspace.com.my/product/quiet-the-chatter/
LOCATION:Online
ATTACH;FMTTYPE=image/jpeg:https://thegoldenspace.com.my/wp-content/uploads/2025/09/quiet-the-chatter.jpg
END:VEVENT
BEGIN:VEVENT
DTSTART;TZID=Asia/Kuala_Lumpur:20260205T183000
DTEND;TZID=Asia/Kuala_Lumpur:20260205T193000
DTSTAMP:20260423T191240
CREATED:20230306T152734Z
LAST-MODIFIED:20260108T173306Z
UID:20151-1770316200-1770319800@thegoldenspace.com.my
SUMMARY:Slow Down & Rebalance Yoga (Onsite)
DESCRIPTION:Time: 6.30pm – 7.30pmEvery Monday: Yin YogaEvery Thursday: Gentle Flow Yoga \nStep away from the noise and return to center with a practice dedicated to your nervous system. These sessions are designed to help you move out of “survival mode” and into a state of deep\, restorative peace. \n✨ Yin Yoga (Mondays) – Focus: Deep Stillness & Nervous System RegulationA meditative practice focused on deep stillness. We use long-held floor poses to target the connective tissues and quiet the mind. \n\nSwitch from “fight-or-flight” to deep rest.\nRelease deep-seated tension in connective tissues.\nCalm the nervous system through mindful stillness.\n\n✨ Gentle Flow Yoga (Thursdays) – Focus: Somatic Movement & Emotional BalanceA rhythmic\, fluid practice that connects breath with motion. This class uses somatic movement to release daily stress and build inner strength. \n\nSoothe the mind with rhythmic\, fluid movement.\nRelease daily stress through gentle somatic flow.\nBuild resilience and inner peace through breath.\n\nYour journey to rebalance and restart begins here. \nTrial Price: RM35*Package of 4: RM120*Walk-in Price: RM50* \n*Excl 8% SST \nPractitioner: Sucy ChanCertified Yin Yoga Practitioner & Meditation facilitator \n			\n				\n				\n				\n				\n				We have Package of 4 and First Trial options as below: \n			\n			\n				\n				\n				\n				\n			\n				\n				\n				\n				\n				\n				\n				\n				\n				\n				\n				Package of 4: RM120.00 + SST 8% \n			\n				Make Your Reservation Now!\n			\n			\n				\n				\n				\n				\n				\n				\n				\n				\n				\n				First Trial: RM35.00 + SST 8% \n			\n				Make Your Reservation Now!
URL:https://thegoldenspace.com.my/event/slow-down-rebalance-yoga/2026-02-05/
ATTACH;FMTTYPE=image/jpeg:https://thegoldenspace.com.my/wp-content/uploads/2023/03/slow-down-rebalance-yoga.jpg
END:VEVENT
BEGIN:VEVENT
DTSTART;TZID=Asia/Kuala_Lumpur:20260207T110000
DTEND;TZID=Asia/Kuala_Lumpur:20260207T120000
DTSTAMP:20260423T191240
CREATED:20240226T161731Z
LAST-MODIFIED:20240226T161731Z
UID:20112-1770462000-1770465600@thegoldenspace.com.my
SUMMARY:Clarity for Work & Life (Online)
DESCRIPTION:Home  /  Workshop  /  The Shamanic Passage – Package of 3 Classes\n				\n			\n			\n				\n				\n				\n				\n			\n				\n				\n				\n				\n				\n				\n				\n				\n				\n				\n				\n				\n				\n					\n	Sale!\n	\n	\n			\n\n\n				\n			\n			\n				\n				\n				\n				\n				\n				\n				\n				\n				\n				\n				\n				\n					\n		The Shamanic Passage – Package of 3 Classes\n				\n			\n				\n				\n				\n				\n				\n				\n				\n					RM540.00 Original price was: RM540.00.RM450.00Current price is: RM450.00. + SST 8% \n\n				\n			\n				\n				\n				\n				\n				\n				\n				\n					\n	\n	\n		\n		\n		The Shamanic Passage – Package of 3 Classes quantity\n	\n	\n\n		Add to cart\n\n			\n\n	\n\n				\n			\n				\n				\n				\n				\n				\n				\n				\n					\n\n	\n	\n	Category: Workshop\n	\n	\n\n\n				\n			\n				\n				\n				\n				\n				 \n			\n			\n				\n				\n				\n				\n			\n				\n				\n				\n				\n				\n				\n			\n				\n				\n				\n				\n				\n				\n				\n				\n				\n				DESCRIPTION\n			\n				\n				\n				\n				\n				Venue: Online (Zoom)Time: 11am – 12pm \nIn the face of escalating challenges and post-COVID stress\, developing resilient emotional management and adaptability is crucial\, both during and after working hours. \nRather than being energy-draining\, let these situations serve as catalysts when viewed through the lens of clarity. \nEmpower yourself to foster growth and thrive in your work-life journey. \nBenefits: \n\nAttain clarity to enable decision-making in work & life\nEnhance strength and resilience to adapt\, grow\, and bounce back\nExperience peace and happiness through acceptance and emotional management.\n\nPractitioner: Teoh Yeoh Keait
URL:https://thegoldenspace.com.my/product/clarity-for-work-life/
LOCATION:Online
ATTACH;FMTTYPE=image/jpeg:https://thegoldenspace.com.my/wp-content/uploads/2024/02/Clarity-for-work-life.jpg
END:VEVENT
BEGIN:VEVENT
DTSTART;TZID=Asia/Kuala_Lumpur:20260207T110000
DTEND;TZID=Asia/Kuala_Lumpur:20260207T120000
DTSTAMP:20260423T191240
CREATED:20250729T151023Z
LAST-MODIFIED:20250729T151023Z
UID:20035-1770462000-1770465600@thegoldenspace.com.my
SUMMARY:Listening to Your Body Wisdom (Onsite)
DESCRIPTION:Home  /  Workshop  /  The Shamanic Passage – Package of 3 Classes\n				\n			\n			\n				\n				\n				\n				\n			\n				\n				\n				\n				\n				\n				\n				\n				\n				\n				\n				\n				\n				\n					\n	Sale!\n	\n	\n			\n\n\n				\n			\n			\n				\n				\n				\n				\n				\n				\n				\n				\n				\n				\n				\n				\n					\n		The Shamanic Passage – Package of 3 Classes\n				\n			\n				\n				\n				\n				\n				\n				\n				\n					RM540.00 Original price was: RM540.00.RM450.00Current price is: RM450.00. + SST 8% \n\n				\n			\n				\n				\n				\n				\n				\n				\n				\n					\n	\n	\n		\n		\n		The Shamanic Passage – Package of 3 Classes quantity\n	\n	\n\n		Add to cart\n\n			\n\n	\n\n				\n			\n				\n				\n				\n				\n				\n				\n				\n					\n\n	\n	\n	Category: Workshop\n	\n	\n\n\n				\n			\n				\n				\n				\n				\n				 \n			\n			\n				\n				\n				\n				\n			\n				\n				\n				\n				\n				\n				\n			\n				\n				\n				\n				\n				\n				\n				\n				\n				\n				DESCRIPTION\n			\n				\n				\n				\n				\n				Venue: Onsite\nTime: 11am – 12pm \nYour body holds deep wisdom that often goes unnoticed. In this session\, learn to slow down\, listen\, and understand the signals your body sends. By reconnecting\, you’ll rediscover balance and honor your body as a trusted partner in living a healthier\, more harmonious life. \nBenefits: \n\nDevelop deeper self-awareness and trust in your body\nImprove vitality and energy balance\nCultivate appreciation for your physical being\n\nPractitioner: Teoh Yeong Keait
URL:https://thegoldenspace.com.my/product/listening-to-your-body-wisdom/
LOCATION:Onsite
ATTACH;FMTTYPE=image/jpeg:https://thegoldenspace.com.my/wp-content/uploads/2025/07/listening-to-body-wisdom.jpg
END:VEVENT
BEGIN:VEVENT
DTSTART;TZID=Asia/Kuala_Lumpur:20260208T110000
DTEND;TZID=Asia/Kuala_Lumpur:20260208T120000
DTSTAMP:20260423T191240
CREATED:20240205T154625Z
LAST-MODIFIED:20260228T093526Z
UID:14495-1770548400-1770552000@thegoldenspace.com.my
SUMMARY:Sleep Better (Online)
DESCRIPTION:Home  /  Workshop  /  The Shamanic Passage – Package of 3 Classes\n				\n			\n			\n				\n				\n				\n				\n			\n				\n				\n				\n				\n				\n				\n				\n				\n				\n				\n				\n				\n				\n					\n	Sale!\n	\n	\n			\n\n\n				\n			\n			\n				\n				\n				\n				\n				\n				\n				\n				\n				\n				\n				\n				\n					\n		The Shamanic Passage – Package of 3 Classes\n				\n			\n				\n				\n				\n				\n				\n				\n				\n					RM540.00 Original price was: RM540.00.RM450.00Current price is: RM450.00. + SST 8% \n\n				\n			\n				\n				\n				\n				\n				\n				\n				\n					\n	\n	\n		\n		\n		The Shamanic Passage – Package of 3 Classes quantity\n	\n	\n\n		Add to cart\n\n			\n\n	\n\n				\n			\n				\n				\n				\n				\n				\n				\n				\n					\n\n	\n	\n	Category: Workshop\n	\n	\n\n\n				\n			\n				\n				\n				\n				\n				 \n			\n			\n				\n				\n				\n				\n			\n				\n				\n				\n				\n				\n				\n			\n				\n				\n				\n				\n				\n				\n				\n				\n				\n				DESCRIPTION\n			\n				\n				\n				\n				\n				Venue: Online (Zoom)Time: 11am – 12pm \nSleep\, a biological necessity akin to food and water\, eludes many due to various anxieties and overactive minds consumed by work or personal concerns. This impacts both physical and mental well-being. \nSpend your “me-time” with us in a serene\, energy-supported space to break this cycle and reclaim your rejuvenating rest via quality sleep. \nBenefits: \n\nRegulate Mental Fatigue.\nMitigate stress & reducing chronic health risks.\nRestore body and energy levels.\n\nLet’s journey together towards revitalizing sleep and a refreshed tomorrow. \nPractitioner: Alycia Tee
URL:https://thegoldenspace.com.my/product/sleep-better/
LOCATION:Online
ATTACH;FMTTYPE=image/jpeg:https://thegoldenspace.com.my/wp-content/uploads/2024/02/Sleep-Better.jpg
END:VEVENT
BEGIN:VEVENT
DTSTART;TZID=Asia/Kuala_Lumpur:20260208T200000
DTEND;TZID=Asia/Kuala_Lumpur:20260208T210000
DTSTAMP:20260423T191241
CREATED:20250928T181433Z
LAST-MODIFIED:20260228T100239Z
UID:19554-1770580800-1770584400@thegoldenspace.com.my
SUMMARY:The Power of Presence (Onsite)
DESCRIPTION:Home  /  Workshop  /  The Shamanic Passage – Package of 3 Classes\n				\n			\n			\n				\n				\n				\n				\n			\n				\n				\n				\n				\n				\n				\n				\n				\n				\n				\n				\n				\n				\n					\n	Sale!\n	\n	\n			\n\n\n				\n			\n			\n				\n				\n				\n				\n				\n				\n				\n				\n				\n				\n				\n				\n					\n		The Shamanic Passage – Package of 3 Classes\n				\n			\n				\n				\n				\n				\n				\n				\n				\n					RM540.00 Original price was: RM540.00.RM450.00Current price is: RM450.00. + SST 8% \n\n				\n			\n				\n				\n				\n				\n				\n				\n				\n					\n	\n	\n		\n		\n		The Shamanic Passage – Package of 3 Classes quantity\n	\n	\n\n		Add to cart\n\n			\n\n	\n\n				\n			\n				\n				\n				\n				\n				\n				\n				\n					\n\n	\n	\n	Category: Workshop\n	\n	\n\n\n				\n			\n				\n				\n				\n				\n				 \n			\n				\n				\n				\n				\n				DESCRIPTION\n			\n				\n				\n				\n				\n				Venue: OnsiteTime: 11am – 12pm \nLife unfolds in the present moment\, yet our minds often drift to past or future. This class teaches you to anchor in the now\, experiencing calm\, clarity\, and connection. By practicing presence\, you’ll cultivate peace and deeper relationships with yourself and others. \nBenefits: \n\nDeepen mindfulness in daily living\nReduce anxiety about past or future\nCultivate authentic awareness and peace\n\nPractitioner: Low Sheau Shy
URL:https://thegoldenspace.com.my/product/the-power-of-presence/
LOCATION:Online
ATTACH;FMTTYPE=image/jpeg:https://thegoldenspace.com.my/wp-content/uploads/2025/09/the-power-of-presence.jpg
END:VEVENT
END:VCALENDAR