BEGIN:VCALENDAR
VERSION:2.0
PRODID:-//The Golden Space Malaysia - ECPv6.5.1.4//NONSGML v1.0//EN
CALSCALE:GREGORIAN
METHOD:PUBLISH
X-WR-CALNAME:The Golden Space Malaysia
X-ORIGINAL-URL:https://thegoldenspace.com.my
X-WR-CALDESC:Events for The Golden Space Malaysia
REFRESH-INTERVAL;VALUE=DURATION:PT1H
X-Robots-Tag:noindex
X-PUBLISHED-TTL:PT1H
BEGIN:VTIMEZONE
TZID:Asia/Kuala_Lumpur
BEGIN:STANDARD
TZOFFSETFROM:+0800
TZOFFSETTO:+0800
TZNAME:+08
DTSTART:20260101T000000
END:STANDARD
END:VTIMEZONE
BEGIN:VEVENT
DTSTART;TZID=Asia/Kuala_Lumpur:20260525T183000
DTEND;TZID=Asia/Kuala_Lumpur:20260525T193000
DTSTAMP:20260425T234816
CREATED:20230306T152734Z
LAST-MODIFIED:20260108T173348Z
UID:20182-1779733800-1779737400@thegoldenspace.com.my
SUMMARY:Slow Down & Rebalance Yoga (Onsite)
DESCRIPTION:Time: 6.30pm – 7.30pmEvery Monday: Yin YogaEvery Thursday: Gentle Flow Yoga \nStep away from the noise and return to center with a practice dedicated to your nervous system. These sessions are designed to help you move out of “survival mode” and into a state of deep\, restorative peace. \n✨ Yin Yoga (Mondays) – Focus: Deep Stillness & Nervous System RegulationA meditative practice focused on deep stillness. We use long-held floor poses to target the connective tissues and quiet the mind. \n\nSwitch from “fight-or-flight” to deep rest.\nRelease deep-seated tension in connective tissues.\nCalm the nervous system through mindful stillness.\n\n✨ Gentle Flow Yoga (Thursdays) – Focus: Somatic Movement & Emotional BalanceA rhythmic\, fluid practice that connects breath with motion. This class uses somatic movement to release daily stress and build inner strength. \n\nSoothe the mind with rhythmic\, fluid movement.\nRelease daily stress through gentle somatic flow.\nBuild resilience and inner peace through breath.\n\nYour journey to rebalance and restart begins here. \nTrial Price: RM35*Package of 4: RM120*Walk-in Price: RM50* \n*Excl 8% SST \nPractitioner: Sucy ChanCertified Yin Yoga Practitioner & Meditation facilitator \n			\n				\n				\n				\n				\n				We have Package of 4 and First Trial options as below: \n			\n			\n				\n				\n				\n				\n			\n				\n				\n				\n				\n				\n				\n				\n				\n				\n				\n				Package of 4: RM120.00 + SST 8% \n			\n				Make Your Reservation Now!\n			\n			\n				\n				\n				\n				\n				\n				\n				\n				\n				\n				First Trial: RM35.00 + SST 8% \n			\n				Make Your Reservation Now!
URL:https://thegoldenspace.com.my/event/slow-down-rebalance-yoga/2026-05-25/
ATTACH;FMTTYPE=image/jpeg:https://thegoldenspace.com.my/wp-content/uploads/2023/03/slow-down-rebalance-yoga.jpg
END:VEVENT
BEGIN:VEVENT
DTSTART;TZID=Asia/Kuala_Lumpur:20260525T200000
DTEND;TZID=Asia/Kuala_Lumpur:20260525T210000
DTSTAMP:20260425T234816
CREATED:20240205T155811Z
LAST-MODIFIED:20260424T155549Z
UID:20800-1779739200-1779742800@thegoldenspace.com.my
SUMMARY:Mindfulness Meditation (Online)
DESCRIPTION:Home  /  Workshop  /  The Shamanic Passage – Package of 3 Classes\n				\n			\n			\n				\n				\n				\n				\n			\n				\n				\n				\n				\n				\n				\n				\n				\n				\n				\n				\n				\n				\n					\n	Sale!\n	\n	\n			\n\n\n				\n			\n			\n				\n				\n				\n				\n				\n				\n				\n				\n				\n				\n				\n				\n					\n		The Shamanic Passage – Package of 3 Classes\n				\n			\n				\n				\n				\n				\n				\n				\n				\n					RM540.00 Original price was: RM540.00.RM450.00Current price is: RM450.00. + SST 8% \n\n				\n			\n				\n				\n				\n				\n				\n				\n				\n					\n	\n	\n		\n		\n		The Shamanic Passage – Package of 3 Classes quantity\n	\n	\n\n		Add to cart\n\n			\n\n	\n\n				\n			\n				\n				\n				\n				\n				\n				\n				\n					\n\n	\n	\n	Category: Workshop\n	\n	\n\n\n				\n			\n				\n				\n				\n				\n				 \n			\n			\n				\n				\n				\n				\n			\n				\n				\n				\n				\n				\n				\n			\n				\n				\n				\n				\n				\n				\n				\n				\n				\n				DESCRIPTION\n			\n				\n				\n				\n				\n				Venue: Online (Zoom)\nTime: 8pm – 9pm \nFeeling stressed or anxious? Overwhelmed by the changes around you? \nIn our modern fast pace life\, \, demanding work schedules\, rapid life challenges\, along with new technologies can indeed be both stressful and overwhelming. \nJoin us for this mindfulness session to consistently practice and improve your awareness across various aspects of life. It’s an opportunity to build resilience\, connect with your inner wisdom\, and navigate the challenges of modern life with greater strength \nKey Takeaway:  \n\nIncrease your mental and emotional resilience towards life challenges\nEnhance your inner clarity and wisdom\n\nPractitioner: Low Sheau Shy
URL:https://thegoldenspace.com.my/product/mindfulness-meditation/
LOCATION:Online
ATTACH;FMTTYPE=image/jpeg:https://thegoldenspace.com.my/wp-content/uploads/2024/02/Mindfulness-Meditation.jpg
END:VEVENT
BEGIN:VEVENT
DTSTART;TZID=Asia/Kuala_Lumpur:20260526T200000
DTEND;TZID=Asia/Kuala_Lumpur:20260526T210000
DTSTAMP:20260425T234817
CREATED:20251022T191718Z
LAST-MODIFIED:20251022T191718Z
UID:20875-1779825600-1779829200@thegoldenspace.com.my
SUMMARY:Ignite Your Senses (Onsite)
DESCRIPTION:Home  /  Workshop  /  The Shamanic Passage – Package of 3 Classes\n				\n			\n			\n				\n				\n				\n				\n			\n				\n				\n				\n				\n				\n				\n				\n				\n				\n				\n				\n				\n				\n					\n	Sale!\n	\n	\n			\n\n\n				\n			\n			\n				\n				\n				\n				\n				\n				\n				\n				\n				\n				\n				\n				\n					\n		The Shamanic Passage – Package of 3 Classes\n				\n			\n				\n				\n				\n				\n				\n				\n				\n					RM540.00 Original price was: RM540.00.RM450.00Current price is: RM450.00. + SST 8% \n\n				\n			\n				\n				\n				\n				\n				\n				\n				\n					\n	\n	\n		\n		\n		The Shamanic Passage – Package of 3 Classes quantity\n	\n	\n\n		Add to cart\n\n			\n\n	\n\n				\n			\n				\n				\n				\n				\n				\n				\n				\n					\n\n	\n	\n	Category: Workshop\n	\n	\n\n\n				\n			\n				\n				\n				\n				\n				 \n			\n				\n				\n				\n				\n				DESCRIPTION\n			\n				\n				\n				\n				\n				Venue: OnsiteTime: 8pm – 9pm \nWhen was the last time you truly savored life with all five senses? This class invites you to awaken sight\, sound\, touch\, taste\, and smell through mindful awareness. By tuning in\, you’ll rediscover presence\, joy\, and relaxation in simple everyday experiences. \nBenefits: \n\nHeighten sensory awareness to feel more alive\nRelease stress stored in the body\nDeepen relaxation and grounding\n\nPractitioner: Christina Teng
URL:https://thegoldenspace.com.my/product/ignite-your-senses/
ATTACH;FMTTYPE=image/jpeg:https://thegoldenspace.com.my/wp-content/uploads/2025/10/ignite-your-senses.jpg
END:VEVENT
BEGIN:VEVENT
DTSTART;TZID=Asia/Kuala_Lumpur:20260528T183000
DTEND;TZID=Asia/Kuala_Lumpur:20260528T193000
DTSTAMP:20260425T234817
CREATED:20230306T152734Z
LAST-MODIFIED:20260108T173349Z
UID:20183-1779993000-1779996600@thegoldenspace.com.my
SUMMARY:Slow Down & Rebalance Yoga (Onsite)
DESCRIPTION:Time: 6.30pm – 7.30pmEvery Monday: Yin YogaEvery Thursday: Gentle Flow Yoga \nStep away from the noise and return to center with a practice dedicated to your nervous system. These sessions are designed to help you move out of “survival mode” and into a state of deep\, restorative peace. \n✨ Yin Yoga (Mondays) – Focus: Deep Stillness & Nervous System RegulationA meditative practice focused on deep stillness. We use long-held floor poses to target the connective tissues and quiet the mind. \n\nSwitch from “fight-or-flight” to deep rest.\nRelease deep-seated tension in connective tissues.\nCalm the nervous system through mindful stillness.\n\n✨ Gentle Flow Yoga (Thursdays) – Focus: Somatic Movement & Emotional BalanceA rhythmic\, fluid practice that connects breath with motion. This class uses somatic movement to release daily stress and build inner strength. \n\nSoothe the mind with rhythmic\, fluid movement.\nRelease daily stress through gentle somatic flow.\nBuild resilience and inner peace through breath.\n\nYour journey to rebalance and restart begins here. \nTrial Price: RM35*Package of 4: RM120*Walk-in Price: RM50* \n*Excl 8% SST \nPractitioner: Sucy ChanCertified Yin Yoga Practitioner & Meditation facilitator \n			\n				\n				\n				\n				\n				We have Package of 4 and First Trial options as below: \n			\n			\n				\n				\n				\n				\n			\n				\n				\n				\n				\n				\n				\n				\n				\n				\n				\n				Package of 4: RM120.00 + SST 8% \n			\n				Make Your Reservation Now!\n			\n			\n				\n				\n				\n				\n				\n				\n				\n				\n				\n				First Trial: RM35.00 + SST 8% \n			\n				Make Your Reservation Now!
URL:https://thegoldenspace.com.my/event/slow-down-rebalance-yoga/2026-05-28/
ATTACH;FMTTYPE=image/jpeg:https://thegoldenspace.com.my/wp-content/uploads/2023/03/slow-down-rebalance-yoga.jpg
END:VEVENT
BEGIN:VEVENT
DTSTART;TZID=Asia/Kuala_Lumpur:20260528T200000
DTEND;TZID=Asia/Kuala_Lumpur:20260528T210000
DTSTAMP:20260425T234817
CREATED:20240226T162223Z
LAST-MODIFIED:20260424T160648Z
UID:20833-1779998400-1780002000@thegoldenspace.com.my
SUMMARY:Let Go of Suppression (Online)
DESCRIPTION:Home  /  Workshop  /  The Shamanic Passage – Package of 3 Classes\n				\n			\n			\n				\n				\n				\n				\n			\n				\n				\n				\n				\n				\n				\n				\n				\n				\n				\n				\n				\n				\n					\n	Sale!\n	\n	\n			\n\n\n				\n			\n			\n				\n				\n				\n				\n				\n				\n				\n				\n				\n				\n				\n				\n					\n		The Shamanic Passage – Package of 3 Classes\n				\n			\n				\n				\n				\n				\n				\n				\n				\n					RM540.00 Original price was: RM540.00.RM450.00Current price is: RM450.00. + SST 8% \n\n				\n			\n				\n				\n				\n				\n				\n				\n				\n					\n	\n	\n		\n		\n		The Shamanic Passage – Package of 3 Classes quantity\n	\n	\n\n		Add to cart\n\n			\n\n	\n\n				\n			\n				\n				\n				\n				\n				\n				\n				\n					\n\n	\n	\n	Category: Workshop\n	\n	\n\n\n				\n			\n				\n				\n				\n				\n				 \n			\n			\n				\n				\n				\n				\n			\n				\n				\n				\n				\n				\n				\n			\n				\n				\n				\n				\n				\n				\n				\n				\n				\n				DESCRIPTION\n			\n				\n				\n				\n				\n				Venue: Online (Zoom)Time: 8pm – 9pm \nEver felt drained\, anxious\, or trapped by unresolved emotions? \nMuch like physical health\, emotional well-being demands detoxification. The pressures from work and home often hide emotional burdens that disrupt peace\, affecting our daily lives both mentally and physically. \nAnd suppressing emotion may lead to regretful outbursts\, jeopardizes relationship. \nBenefits: \n\nUnpack toxic emotions\, liberating yourself\nExperience relief\, lightness and emotional uplift\nEmbrace cheer and ease\, reducing stress effects\nLighten the load and restore inner harmony with clarity\n\nPractitioner: Alycia Tee
URL:https://thegoldenspace.com.my/product/let-go-of-suppression/
LOCATION:Online
ATTACH;FMTTYPE=image/jpeg:https://thegoldenspace.com.my/wp-content/uploads/2024/02/Let-Go-of-Suppression.jpg
END:VEVENT
BEGIN:VEVENT
DTSTART;TZID=Asia/Kuala_Lumpur:20260530T110000
DTEND;TZID=Asia/Kuala_Lumpur:20260530T120000
DTSTAMP:20260425T234817
CREATED:20251022T190858Z
LAST-MODIFIED:20260424T163948Z
UID:20885-1780138800-1780142400@thegoldenspace.com.my
SUMMARY:Silence the Inner Critique (Onsite)
DESCRIPTION:Home  /  Workshop  /  The Shamanic Passage – Package of 3 Classes\n				\n			\n			\n				\n				\n				\n				\n			\n				\n				\n				\n				\n				\n				\n				\n				\n				\n				\n				\n				\n				\n					\n	Sale!\n	\n	\n			\n\n\n				\n			\n			\n				\n				\n				\n				\n				\n				\n				\n				\n				\n				\n				\n				\n					\n		The Shamanic Passage – Package of 3 Classes\n				\n			\n				\n				\n				\n				\n				\n				\n				\n					RM540.00 Original price was: RM540.00.RM450.00Current price is: RM450.00. + SST 8% \n\n				\n			\n				\n				\n				\n				\n				\n				\n				\n					\n	\n	\n		\n		\n		The Shamanic Passage – Package of 3 Classes quantity\n	\n	\n\n		Add to cart\n\n			\n\n	\n\n				\n			\n				\n				\n				\n				\n				\n				\n				\n					\n\n	\n	\n	Category: Workshop\n	\n	\n\n\n				\n			\n				\n				\n				\n				\n				 \n			\n				\n				\n				\n				\n				DESCRIPTION\n			\n				\n				\n				\n				\n				Venue: OnsiteTime: 11am – 12pm \nThat harsh inner voice doesn’t define you. In this class\, you’ll gently quiet self-criticism and open space for kindness within. Learn to replace judgment with compassion and self-belief\, empowering you to walk life with more confidence and trust in yourself. \nBenefits: \n\nTransform self-judgment into self-acceptance\nStrengthen inner confidence\nBuild supportive\, empowering self-talk\n\nPractitioner: Nabil Mattar
URL:https://thegoldenspace.com.my/product/silence-the-inner-critique/
ATTACH;FMTTYPE=image/jpeg:https://thegoldenspace.com.my/wp-content/uploads/2025/10/silence-the-inner-critique.jpg
END:VEVENT
BEGIN:VEVENT
DTSTART;TZID=Asia/Kuala_Lumpur:20260531T110000
DTEND;TZID=Asia/Kuala_Lumpur:20260531T120000
DTSTAMP:20260425T234817
CREATED:20250928T181156Z
LAST-MODIFIED:20250928T181156Z
UID:20889-1780225200-1780228800@thegoldenspace.com.my
SUMMARY:Body-Mind Sync Meditation (Onsite)
DESCRIPTION:Home  /  Workshop  /  The Shamanic Passage – Package of 3 Classes\n				\n			\n			\n				\n				\n				\n				\n			\n				\n				\n				\n				\n				\n				\n				\n				\n				\n				\n				\n				\n				\n					\n	Sale!\n	\n	\n			\n\n\n				\n			\n			\n				\n				\n				\n				\n				\n				\n				\n				\n				\n				\n				\n				\n					\n		The Shamanic Passage – Package of 3 Classes\n				\n			\n				\n				\n				\n				\n				\n				\n				\n					RM540.00 Original price was: RM540.00.RM450.00Current price is: RM450.00. + SST 8% \n\n				\n			\n				\n				\n				\n				\n				\n				\n				\n					\n	\n	\n		\n		\n		The Shamanic Passage – Package of 3 Classes quantity\n	\n	\n\n		Add to cart\n\n			\n\n	\n\n				\n			\n				\n				\n				\n				\n				\n				\n				\n					\n\n	\n	\n	Category: Workshop\n	\n	\n\n\n				\n			\n				\n				\n				\n				\n				 \n			\n				\n				\n				\n				\n				DESCRIPTION\n			\n				\n				\n				\n				\n				Venue: OnsiteTime: 11am – 12pm \nDo you ever find yourself knowing exactly what you want\, yet your actions take you in the opposite direction? This disconnect between mind and body often leads to self-sabotage\, stress\, and a lack of progress. Mind-Body Sync Meditation with NLP is designed to help you bridge this gap\, bringing your thoughts\, words\, and actions into harmony. Through guided meditation and NLP techniques\, you’ll realign your inner intentions with outward actions\, creating clarity and flow in your daily life. \nBenefits: \n\nGain clarity and focus to move forward with confidence.\nReduce stress and body tension while boosting energy.\nIncrease efficiency\, effectiveness\, and the ability to follow through.\n\nPractitioner: Moisy Moi
URL:https://thegoldenspace.com.my/product/body-mind-sync-meditation/
LOCATION:Online
ATTACH;FMTTYPE=image/jpeg:https://thegoldenspace.com.my/wp-content/uploads/2025/09/body-mind-sync-meditation.jpg
END:VEVENT
END:VCALENDAR