BEGIN:VCALENDAR
VERSION:2.0
PRODID:-//The Golden Space Malaysia - ECPv6.5.1.4//NONSGML v1.0//EN
CALSCALE:GREGORIAN
METHOD:PUBLISH
X-WR-CALNAME:The Golden Space Malaysia
X-ORIGINAL-URL:https://thegoldenspace.com.my
X-WR-CALDESC:Events for The Golden Space Malaysia
REFRESH-INTERVAL;VALUE=DURATION:PT1H
X-Robots-Tag:noindex
X-PUBLISHED-TTL:PT1H
BEGIN:VTIMEZONE
TZID:Asia/Kuala_Lumpur
BEGIN:STANDARD
TZOFFSETFROM:+0800
TZOFFSETTO:+0800
TZNAME:+08
DTSTART:20260101T000000
END:STANDARD
END:VTIMEZONE
BEGIN:VEVENT
DTSTART;TZID=Asia/Kuala_Lumpur:20260604T200000
DTEND;TZID=Asia/Kuala_Lumpur:20260604T210000
DTSTAMP:20260426T080203
CREATED:20240226T160743Z
LAST-MODIFIED:20240226T160743Z
UID:20844-1780603200-1780606800@thegoldenspace.com.my
SUMMARY:Be a Greater You (Online)
DESCRIPTION:Home  /  Workshop  /  The Shamanic Passage – Package of 3 Classes\n				\n			\n			\n				\n				\n				\n				\n			\n				\n				\n				\n				\n				\n				\n				\n				\n				\n				\n				\n				\n				\n					\n	Sale!\n	\n	\n			\n\n\n				\n			\n			\n				\n				\n				\n				\n				\n				\n				\n				\n				\n				\n				\n				\n					\n		The Shamanic Passage – Package of 3 Classes\n				\n			\n				\n				\n				\n				\n				\n				\n				\n					RM540.00 Original price was: RM540.00.RM450.00Current price is: RM450.00. + SST 8% \n\n				\n			\n				\n				\n				\n				\n				\n				\n				\n					\n	\n	\n		\n		\n		The Shamanic Passage – Package of 3 Classes quantity\n	\n	\n\n		Add to cart\n\n			\n\n	\n\n				\n			\n				\n				\n				\n				\n				\n				\n				\n					\n\n	\n	\n	Category: Workshop\n	\n	\n\n\n				\n			\n				\n				\n				\n				\n				 \n			\n			\n				\n				\n				\n				\n			\n				\n				\n				\n				\n				\n				\n			\n				\n				\n				\n				\n				\n				\n				\n				\n				\n				DESCRIPTION\n			\n				\n				\n				\n				\n				Venue: Online (Zoom)Time: 11am – 12pm \nBe A Greater You invites you to reclaim your life’s leadership and reconnect with the hero within you\, who has been dormant for too long. It’s a call to recognize your inherent light\, already magnificent\, and to understand that greatness is a continuous journey of self-acceptance and relentless pursuit of improvement. Even when we fall\, it’s this light within that allows us to rise again and boldly step forward. This class is a reminder of our potential to constantly evolve into better versions of ourselves\, leading our lives with purpose and shining brighter\, no matter life’s twists and turns. \nBenefits: \n\nSelf-acceptance and continuous improvements\nBuild resilience with a positive attitude\nTake leadership of your own life\n\nPractitioner: Christina Teng
URL:https://thegoldenspace.com.my/product/be-a-greater-you/
LOCATION:Online
ATTACH;FMTTYPE=image/jpeg:https://thegoldenspace.com.my/wp-content/uploads/2024/02/Be-a-Greater-You.jpg
END:VEVENT
BEGIN:VEVENT
DTSTART;TZID=Asia/Kuala_Lumpur:20260606T110000
DTEND;TZID=Asia/Kuala_Lumpur:20260606T120000
DTSTAMP:20260426T080204
CREATED:20250320T143421Z
LAST-MODIFIED:20250320T143421Z
UID:20892-1780743600-1780747200@thegoldenspace.com.my
SUMMARY:Opening Your Heart to Love (Onsite)
DESCRIPTION:Home  /  Workshop  /  The Shamanic Passage – Package of 3 Classes\n				\n			\n			\n				\n				\n				\n				\n			\n				\n				\n				\n				\n				\n				\n				\n				\n				\n				\n				\n				\n				\n					\n	Sale!\n	\n	\n			\n\n\n				\n			\n			\n				\n				\n				\n				\n				\n				\n				\n				\n				\n				\n				\n				\n					\n		The Shamanic Passage – Package of 3 Classes\n				\n			\n				\n				\n				\n				\n				\n				\n				\n					RM540.00 Original price was: RM540.00.RM450.00Current price is: RM450.00. + SST 8% \n\n				\n			\n				\n				\n				\n				\n				\n				\n				\n					\n	\n	\n		\n		\n		The Shamanic Passage – Package of 3 Classes quantity\n	\n	\n\n		Add to cart\n\n			\n\n	\n\n				\n			\n				\n				\n				\n				\n				\n				\n				\n					\n\n	\n	\n	Category: Workshop\n	\n	\n\n\n				\n			\n				\n				\n				\n				\n				 \n			\n			\n				\n				\n				\n				\n			\n				\n				\n				\n				\n				\n				\n			\n				\n				\n				\n				\n				\n				\n				\n				\n				\n				DESCRIPTION\n			\n				\n				\n				\n				\n				Venue: OnsiteTime: 8pm – 9pm \nBefore love can flow into your life\, you must first reconnect with your own heart. This session helps you tune into your heart’s desires and emotions\, so you can open up to love again. \nBenefits: \n\nReconnect with your heart and emotions\nRelease fear and trust in love again\nStrengthen emotional connections\n\nPractitioner: Low Sheau Shy
URL:https://thegoldenspace.com.my/product/opening-your-heart-to-love/
LOCATION:Onsite
ATTACH;FMTTYPE=image/jpeg:https://thegoldenspace.com.my/wp-content/uploads/2025/03/opening-your-heart-to-love.jpg
END:VEVENT
END:VCALENDAR