BEGIN:VCALENDAR
VERSION:2.0
PRODID:-//The Golden Space Malaysia - ECPv6.5.1.4//NONSGML v1.0//EN
CALSCALE:GREGORIAN
METHOD:PUBLISH
X-WR-CALNAME:The Golden Space Malaysia
X-ORIGINAL-URL:https://thegoldenspace.com.my
X-WR-CALDESC:Events for The Golden Space Malaysia
REFRESH-INTERVAL;VALUE=DURATION:PT1H
X-Robots-Tag:noindex
X-PUBLISHED-TTL:PT1H
BEGIN:VTIMEZONE
TZID:Asia/Kuala_Lumpur
BEGIN:STANDARD
TZOFFSETFROM:+0800
TZOFFSETTO:+0800
TZNAME:+08
DTSTART:20260101T000000
END:STANDARD
END:VTIMEZONE
BEGIN:VEVENT
DTSTART;TZID=Asia/Kuala_Lumpur:20260615T200000
DTEND;TZID=Asia/Kuala_Lumpur:20260615T210000
DTSTAMP:20260425T203358
CREATED:20240205T155811Z
LAST-MODIFIED:20240205T155811Z
UID:20808-1781553600-1781557200@thegoldenspace.com.my
SUMMARY:Mindfulness Meditation (Online)
DESCRIPTION:Home  /  Workshop  /  The Shamanic Passage – Package of 3 Classes\n				\n			\n			\n				\n				\n				\n				\n			\n				\n				\n				\n				\n				\n				\n				\n				\n				\n				\n				\n				\n				\n					\n	Sale!\n	\n	\n			\n\n\n				\n			\n			\n				\n				\n				\n				\n				\n				\n				\n				\n				\n				\n				\n				\n					\n		The Shamanic Passage – Package of 3 Classes\n				\n			\n				\n				\n				\n				\n				\n				\n				\n					RM540.00 Original price was: RM540.00.RM450.00Current price is: RM450.00. + SST 8% \n\n				\n			\n				\n				\n				\n				\n				\n				\n				\n					\n	\n	\n		\n		\n		The Shamanic Passage – Package of 3 Classes quantity\n	\n	\n\n		Add to cart\n\n			\n\n	\n\n				\n			\n				\n				\n				\n				\n				\n				\n				\n					\n\n	\n	\n	Category: Workshop\n	\n	\n\n\n				\n			\n				\n				\n				\n				\n				 \n			\n			\n				\n				\n				\n				\n			\n				\n				\n				\n				\n				\n				\n			\n				\n				\n				\n				\n				\n				\n				\n				\n				\n				DESCRIPTION\n			\n				\n				\n				\n				\n				Venue: Online (Zoom)\nTime: 8pm – 9pm \nFeeling stressed or anxious? Overwhelmed by the changes around you? \nIn our modern fast pace life\, \, demanding work schedules\, rapid life challenges\, along with new technologies can indeed be both stressful and overwhelming. \nJoin us for this mindfulness session to consistently practice and improve your awareness across various aspects of life. It’s an opportunity to build resilience\, connect with your inner wisdom\, and navigate the challenges of modern life with greater strength \nKey Takeaway:  \n\nIncrease your mental and emotional resilience towards life challenges\nEnhance your inner clarity and wisdom\n\nPractitioner: Low Sheau Shy
URL:https://thegoldenspace.com.my/product/mindfulness-meditation/
LOCATION:Online
ATTACH;FMTTYPE=image/jpeg:https://thegoldenspace.com.my/wp-content/uploads/2024/02/Mindfulness-Meditation.jpg
END:VEVENT
BEGIN:VEVENT
DTSTART;TZID=Asia/Kuala_Lumpur:20260616T200000
DTEND;TZID=Asia/Kuala_Lumpur:20260616T210000
DTSTAMP:20260425T203358
CREATED:20250928T181433Z
LAST-MODIFIED:20250928T181433Z
UID:20912-1781640000-1781643600@thegoldenspace.com.my
SUMMARY:The Power of Presence (Onsite)
DESCRIPTION:Home  /  Workshop  /  The Shamanic Passage – Package of 3 Classes\n				\n			\n			\n				\n				\n				\n				\n			\n				\n				\n				\n				\n				\n				\n				\n				\n				\n				\n				\n				\n				\n					\n	Sale!\n	\n	\n			\n\n\n				\n			\n			\n				\n				\n				\n				\n				\n				\n				\n				\n				\n				\n				\n				\n					\n		The Shamanic Passage – Package of 3 Classes\n				\n			\n				\n				\n				\n				\n				\n				\n				\n					RM540.00 Original price was: RM540.00.RM450.00Current price is: RM450.00. + SST 8% \n\n				\n			\n				\n				\n				\n				\n				\n				\n				\n					\n	\n	\n		\n		\n		The Shamanic Passage – Package of 3 Classes quantity\n	\n	\n\n		Add to cart\n\n			\n\n	\n\n				\n			\n				\n				\n				\n				\n				\n				\n				\n					\n\n	\n	\n	Category: Workshop\n	\n	\n\n\n				\n			\n				\n				\n				\n				\n				 \n			\n				\n				\n				\n				\n				DESCRIPTION\n			\n				\n				\n				\n				\n				Venue: OnsiteTime: 11am – 12pm \nLife unfolds in the present moment\, yet our minds often drift to past or future. This class teaches you to anchor in the now\, experiencing calm\, clarity\, and connection. By practicing presence\, you’ll cultivate peace and deeper relationships with yourself and others. \nBenefits: \n\nDeepen mindfulness in daily living\nReduce anxiety about past or future\nCultivate authentic awareness and peace\n\nPractitioner: Low Sheau Shy
URL:https://thegoldenspace.com.my/product/the-power-of-presence/
LOCATION:Online
ATTACH;FMTTYPE=image/jpeg:https://thegoldenspace.com.my/wp-content/uploads/2025/09/the-power-of-presence.jpg
END:VEVENT
BEGIN:VEVENT
DTSTART;TZID=Asia/Kuala_Lumpur:20260618T200000
DTEND;TZID=Asia/Kuala_Lumpur:20260618T210000
DTSTAMP:20260425T203358
CREATED:20260228T104912Z
LAST-MODIFIED:20260228T104912Z
UID:20841-1781812800-1781816400@thegoldenspace.com.my
SUMMARY:REWRITE: Transform Your Inner World (Self Trust) [Onsite]
DESCRIPTION:
URL:https://thegoldenspace.com.my/product/rewrite-transform-your-inner-world-self-trust/
END:VEVENT
BEGIN:VEVENT
DTSTART;TZID=Asia/Kuala_Lumpur:20260620T110000
DTEND;TZID=Asia/Kuala_Lumpur:20260620T120000
DTSTAMP:20260425T203358
CREATED:20240204T152221Z
LAST-MODIFIED:20240204T152221Z
UID:20916-1781953200-1781956800@thegoldenspace.com.my
SUMMARY:Embracing Self-Love (Onsite)
DESCRIPTION:Home  /  Workshop  /  The Shamanic Passage – Package of 3 Classes\n				\n			\n			\n				\n				\n				\n				\n			\n				\n				\n				\n				\n				\n				\n				\n				\n				\n				\n				\n				\n				\n					\n	Sale!\n	\n	\n			\n\n\n				\n			\n			\n				\n				\n				\n				\n				\n				\n				\n				\n				\n				\n				\n				\n					\n		The Shamanic Passage – Package of 3 Classes\n				\n			\n				\n				\n				\n				\n				\n				\n				\n					RM540.00 Original price was: RM540.00.RM450.00Current price is: RM450.00. + SST 8% \n\n				\n			\n				\n				\n				\n				\n				\n				\n				\n					\n	\n	\n		\n		\n		The Shamanic Passage – Package of 3 Classes quantity\n	\n	\n\n		Add to cart\n\n			\n\n	\n\n				\n			\n				\n				\n				\n				\n				\n				\n				\n					\n\n	\n	\n	Category: Workshop\n	\n	\n\n\n				\n			\n				\n				\n				\n				\n				 \n			\n			\n				\n				\n				\n				\n			\n				\n				\n				\n				\n				\n				\n			\n				\n				\n				\n				\n				\n				\n				\n				\n				\n				DESCRIPTION\n			\n				\n				\n				\n				\n				Venue: OnsiteTime: 11am – 12pmPractitioner: Saidatul Nadziah \nLearning to love ourselves unconditionally will bring harmony to our lives. Understanding the beauty of loving ourselves more will give us the power to embrace loving others without sacrificing ourselves. Awareness of our emotions will create strength within us and assist us in handling our daily lives without judgment towards ourselves or others. Fully embracing our self-love will make us peaceful and blessed despite any chaos in our lives. \nBenefits: \n\nExperience true harmony and peace within ourselves.\nCreate a balanced\, loving\, and joyful lifestyle.\nGain a deeper understanding of your emotions and how to overcome them.
URL:https://thegoldenspace.com.my/product/embracing-self-love/
LOCATION:Onsite
ATTACH;FMTTYPE=image/jpeg:https://thegoldenspace.com.my/wp-content/uploads/2024/02/Embracing-Self-Love.jpg
END:VEVENT
END:VCALENDAR