BEGIN:VCALENDAR
VERSION:2.0
PRODID:-//The Golden Space Malaysia - ECPv6.5.1.4//NONSGML v1.0//EN
CALSCALE:GREGORIAN
METHOD:PUBLISH
X-ORIGINAL-URL:https://thegoldenspace.com.my
X-WR-CALDESC:Events for The Golden Space Malaysia
REFRESH-INTERVAL;VALUE=DURATION:PT1H
X-Robots-Tag:noindex
X-PUBLISHED-TTL:PT1H
BEGIN:VTIMEZONE
TZID:Asia/Kuala_Lumpur
BEGIN:STANDARD
TZOFFSETFROM:+0800
TZOFFSETTO:+0800
TZNAME:+08
DTSTART:20260101T000000
END:STANDARD
END:VTIMEZONE
BEGIN:VEVENT
DTSTART;TZID=Asia/Kuala_Lumpur:20260629T200000
DTEND;TZID=Asia/Kuala_Lumpur:20260629T210000
DTSTAMP:20260426T100520
CREATED:20210215T123012Z
LAST-MODIFIED:20210215T123012Z
UID:20647-1782763200-1782766800@thegoldenspace.com.my
SUMMARY:Full Moon Meditation (Onsite)
DESCRIPTION:Venue: OnsiteTime: 8pm – 9pm \nActivate Your Light • Release • Rise \nUnder the luminous power of the Full Moon\, you are invited into a sacred circle of remembrance\, release\, and radiant rebirth. This is not just a meditation – it’s a cosmic portal of transformation and rising our energies together. \n✨ What Awaits You:1)🕊️ Energy clearing & intuitive guidance2)🌌 Activation of your inner starlight3)💎 Connection to timeless wisdom \nThis is your moment to realign\, reclaim\, and rise into your highest essence. The Full Moon amplifies your intentions – and with the right support\, you’ll ride her waves into your next soul evolution. \n🌟 Spots are limited — reserve yours now. \nLet the Moon illuminate your truth.Let your Soul rise. \nUpcoming Dates: 2 May | 29 Jun | 30 Jul | 27 Aug | 26 Sep | 24 Oct | 21 Nov \nPer Class: RM120*Package of 3: RM300**Excl 8% SST \nPractitioner: Beatrice Lee \n			\n				\n				\n				\n				\n				We have Package of 3 and Single Class options as below: \n			\n			\n				\n				\n				\n				\n			\n				\n				\n				\n				\n				\n				\n				\n				\n				\n				\n				Package of 3: RM300.00 + SST 8% \n			\n				Make Your Reservation Now!\n			\n			\n				\n				\n				\n				\n				\n				\n				\n				\n				\n				Single Class: RM120.00 + SST 8% \n			\n				Make Your Reservation Now!
URL:https://thegoldenspace.com.my/event/full-moon-meditation/2026-06-29/
ATTACH;FMTTYPE=image/jpeg:https://thegoldenspace.com.my/wp-content/uploads/2021/02/Full-Moon-Apr-2026.jpg
END:VEVENT
BEGIN:VEVENT
DTSTART;TZID=Asia/Kuala_Lumpur:20260629T200000
DTEND;TZID=Asia/Kuala_Lumpur:20260629T210000
DTSTAMP:20260426T100521
CREATED:20240205T155811Z
LAST-MODIFIED:20240205T155811Z
UID:20810-1782763200-1782766800@thegoldenspace.com.my
SUMMARY:Mindfulness Meditation (Online)
DESCRIPTION:Home  /  Workshop  /  The Shamanic Passage – Package of 3 Classes\n				\n			\n			\n				\n				\n				\n				\n			\n				\n				\n				\n				\n				\n				\n				\n				\n				\n				\n				\n				\n				\n					\n	Sale!\n	\n	\n			\n\n\n				\n			\n			\n				\n				\n				\n				\n				\n				\n				\n				\n				\n				\n				\n				\n					\n		The Shamanic Passage – Package of 3 Classes\n				\n			\n				\n				\n				\n				\n				\n				\n				\n					RM540.00 Original price was: RM540.00.RM450.00Current price is: RM450.00. + SST 8% \n\n				\n			\n				\n				\n				\n				\n				\n				\n				\n					\n	\n	\n		\n		\n		The Shamanic Passage – Package of 3 Classes quantity\n	\n	\n\n		Add to cart\n\n			\n\n	\n\n				\n			\n				\n				\n				\n				\n				\n				\n				\n					\n\n	\n	\n	Category: Workshop\n	\n	\n\n\n				\n			\n				\n				\n				\n				\n				 \n			\n			\n				\n				\n				\n				\n			\n				\n				\n				\n				\n				\n				\n			\n				\n				\n				\n				\n				\n				\n				\n				\n				\n				DESCRIPTION\n			\n				\n				\n				\n				\n				Venue: Online (Zoom)\nTime: 8pm – 9pm \nFeeling stressed or anxious? Overwhelmed by the changes around you? \nIn our modern fast pace life\, \, demanding work schedules\, rapid life challenges\, along with new technologies can indeed be both stressful and overwhelming. \nJoin us for this mindfulness session to consistently practice and improve your awareness across various aspects of life. It’s an opportunity to build resilience\, connect with your inner wisdom\, and navigate the challenges of modern life with greater strength \nKey Takeaway:  \n\nIncrease your mental and emotional resilience towards life challenges\nEnhance your inner clarity and wisdom\n\nPractitioner: Low Sheau Shy
URL:https://thegoldenspace.com.my/product/mindfulness-meditation/
LOCATION:Online
ATTACH;FMTTYPE=image/jpeg:https://thegoldenspace.com.my/wp-content/uploads/2024/02/Mindfulness-Meditation.jpg
END:VEVENT
BEGIN:VEVENT
DTSTART;TZID=Asia/Kuala_Lumpur:20260630T200000
DTEND;TZID=Asia/Kuala_Lumpur:20260630T210000
DTSTAMP:20260426T100521
CREATED:20250729T150653Z
LAST-MODIFIED:20250729T150653Z
UID:20930-1782849600-1782853200@thegoldenspace.com.my
SUMMARY:Connecting Wisdom of Nature (Onsite)
DESCRIPTION:Home  /  Workshop  /  The Shamanic Passage – Package of 3 Classes\n				\n			\n			\n				\n				\n				\n				\n			\n				\n				\n				\n				\n				\n				\n				\n				\n				\n				\n				\n				\n				\n					\n	Sale!\n	\n	\n			\n\n\n				\n			\n			\n				\n				\n				\n				\n				\n				\n				\n				\n				\n				\n				\n				\n					\n		The Shamanic Passage – Package of 3 Classes\n				\n			\n				\n				\n				\n				\n				\n				\n				\n					RM540.00 Original price was: RM540.00.RM450.00Current price is: RM450.00. + SST 8% \n\n				\n			\n				\n				\n				\n				\n				\n				\n				\n					\n	\n	\n		\n		\n		The Shamanic Passage – Package of 3 Classes quantity\n	\n	\n\n		Add to cart\n\n			\n\n	\n\n				\n			\n				\n				\n				\n				\n				\n				\n				\n					\n\n	\n	\n	Category: Workshop\n	\n	\n\n\n				\n			\n				\n				\n				\n				\n				 \n			\n			\n				\n				\n				\n				\n			\n				\n				\n				\n				\n				\n				\n			\n				\n				\n				\n				\n				\n				\n				\n				\n				\n				DESCRIPTION\n			\n				\n				\n				\n				\n				Venue: Onsite\nTime: 8pm – 9pm \nThrough connecting to nature\, we restore our energy\, rejuvenate our spirit\, and receive a deep sense of support that helps us feel safe and secure in our own body. Abundance flows naturally when we feel supported\, grounded\, and whole. \nBenefits: \n\nFeel grounded and supported\nRecharge and rejuvenate\nLet go of insecurity and feel whole again\n\nPractitioner: Sucy Chan
URL:https://thegoldenspace.com.my/product/connecting-wisdom-of-nature/
LOCATION:Onsite
ATTACH;FMTTYPE=image/jpeg:https://thegoldenspace.com.my/wp-content/uploads/2025/07/Remembering-Wholeness-Through-Nature-scaled.jpg
END:VEVENT
END:VCALENDAR